Felt | Verdi |
AlreadyApplied | True |
Aperture | 4.5 |
ApertureValue | 4.5 |
ApproximateFocusDistance | 0.94 |
AutoLateralCA | 0 |
BitsPerSample | 8 |
Blacks2012 | +17 |
BlueHue | 0 |
BlueSaturation | 0 |
Brightness | +50 |
CameraProfile | Adobe Standard |
CFAPattern | [Red,Green][Green,Blue] |
CircleOfConfusion | 0.020 mm |
Clarity | 0 |
Clarity2012 | +38 |
ColorComponents | 1 |
ColorMode | RGB |
ColorNoiseReduction | 25 |
ColorNoiseReductionDetail | 50 |
ColorSpace | Uncalibrated |
ColorTemperature | 6750 |
Contrast (1) | +25 |
Contrast | Normal |
Contrast2012 | +66 |
ConvertToGrayscale | False |
CreateDate | 2013:03:09 11:34:45 |
CreatorTool | Ver.1.03 |
CropAngle | 0 |
CropBottom | 0.954545 |
CropConstrainToWarp | 1 |
CropLeft | 0.008608 |
CropRight | 0.974175 |
CropTop | 0.207792 |
CustomRendered | Normal |
DateCreated (1) | 2013:03:09 |
DateCreated | 2013:03:09 11:34:45.008 |
DateTimeOriginal | 2013:03:09 11:34:45 |
Defringe | 0 |
DigitalZoomRatio | 1 |
DOF | 0.03 m (0.93 - 0.96 m) |
ExifImageHeight | 2437 |
ExifImageWidth | 4758 |
Exposure | 0.00 |
Exposure2012 | +1.20 |
ExposureCompensation | 0 |
ExposureMode | Manual |
ExposureProgram | Manual |
ExposureTime | 1/160 |
FillLight | 0 |
Flash | Off, Did not fire |
FNumber | 4.5 |
FocalLength | 70.0 mm |
FocalLength35efl | 70.0 mm (35 mm equivalent: 105.0 mm) |
FocalLengthIn35mmFormat | 105 mm |
Format | image/jpeg |
FOV | 19.5 deg |
GainControl | None |
GrainAmount | 0 |
GreenHue | 0 |
GreenSaturation | 0 |
HasCrop | True |
HasSettings | True |
HighlightRecovery | 0 |
Highlights2012 | -31 |
HueAdjustmentAqua | 0 |
HueAdjustmentBlue | 0 |
HueAdjustmentGreen | 0 |
HueAdjustmentMagenta | 0 |
HueAdjustmentOrange | 0 |
HueAdjustmentPurple | 0 |
HueAdjustmentRed | 0 |
HueAdjustmentYellow | 0 |
HyperfocalDistance | 54.36 m |
ICCProfileName | Adobe RGB (1998) |
ImageHeight | 2437 |
ImageNumber | 72792 |
ImageSize | 4758x2437 |
ImageWidth | 4758 |
ISO | 250 |
Lens | 17.0-70.0 mm f/2.8-4.5 |
LensID (1) | 214 |
LensID | 17.0-70.0 mm f/2.8-4.5 |
LensInfo | 17-70mm f/2.8-4.5 |
LensManualDistortionAmount | 0 |
LensModel | 17.0-70.0 mm f/2.8-4.5 |
LensProfileEnable | 0 |
LensProfileSetup | LensDefaults |
LightSource | Unknown |
LightValue | 10.3 |
LuminanceAdjustmentAqua | 0 |
LuminanceAdjustmentBlue | 0 |
LuminanceAdjustmentGreen | 0 |
LuminanceAdjustmentMagenta | 0 |
LuminanceAdjustmentOrange | 0 |
LuminanceAdjustmentPurple | 0 |
LuminanceAdjustmentRed | 0 |
LuminanceAdjustmentYellow | 0 |
LuminanceSmoothing | 0 |
Make | NIKON CORPORATION |
MaxApertureValue | 4.4 |
Megapixels | 11.6 |
MeteringMode | Multi-segment |
Model | NIKON D7000 |
ModifyDate (1) | 2013:04:19 17:24:04+02:00 |
ModifyDate | 2013:04:19 17:24:04 |
Orientation | Horizontal (normal) |
ParametricDarks | +10 |
ParametricHighlights | -43 |
ParametricHighlightSplit | 75 |
ParametricLights | -4 |
ParametricMidtoneSplit | 50 |
ParametricShadows | -39 |
ParametricShadowSplit | 25 |
PerspectiveHorizontal | 0 |
PerspectiveRotate | 0.0 |
PerspectiveScale | 100 |
PerspectiveVertical | 0 |
PostCropVignetteAmount | -20 |
PostCropVignetteFeather | 100 |
PostCropVignetteHighlightContrast | 0 |
PostCropVignetteMidpoint | 45 |
PostCropVignetteRoundness | 0 |
PostCropVignetteStyle | 1 |
ProcessVersion | 6.7 |
ProfileDescription | Adobe RGB (1998) |
Rating | 0 |
RawFileName | DSC_2764.NEF |
RedHue | 0 |
RedSaturation | 0 |
Saturation (1) | -100 |
Saturation | Normal |
SaturationAdjustmentAqua | 0 |
SaturationAdjustmentBlue | 0 |
SaturationAdjustmentGreen | 0 |
SaturationAdjustmentMagenta | 0 |
SaturationAdjustmentOrange | 0 |
SaturationAdjustmentPurple | 0 |
SaturationAdjustmentRed | +5 |
SaturationAdjustmentYellow | 0 |
ScaleFactor35efl | 1.5 |
SceneCaptureType | Standard |
SceneType | Directly photographed |
SensingMethod | One-chip color area |
SensitivityType | Recommended Exposure Index |
SerialNumber | 6152393 |
Shadows | 5 |
Shadows2012 | -37 |
ShadowTint | 0 |
SharpenDetail | 25 |
SharpenEdgeMasking | 0 |
SharpenRadius | +1.0 |
Sharpness (1) | 150 |
Sharpness | Normal |
ShutterSpeed | 1/160 |
ShutterSpeedValue | 1/160 |
Software | Adobe Photoshop CS6 (Windows) |
SplitToningBalance | -1 |
SplitToningHighlightHue | 0 |
SplitToningHighlightSaturation | 0 |
SplitToningShadowHue | 0 |
SplitToningShadowSaturation | 0 |
SubjectDistanceRange | Unknown |
Tint | +9 |
ToneCurve | 0, 0, 32, 22, 64, 56, 128, 128, 192, 196, 255, 255 |
ToneCurveBlue | 0, 0, 255, 255 |
ToneCurveGreen | 0, 0, 255, 255 |
ToneCurveName | Medium Contrast |
ToneCurveName2012 | Linear |
ToneCurvePV2012 | 0, 0, 255, 255 |
ToneCurvePV2012Blue | 0, 0, 255, 255 |
ToneCurvePV2012Green | 0, 0, 255, 255 |
ToneCurvePV2012Red | 0, 0, 255, 255 |
ToneCurveRed | 0, 0, 255, 255 |
URL_List | |
UserComment | TuRR |
Version | 7.0 |
Vibrance | -100 |
VignetteAmount | 0 |
WhiteBalance (1) | Custom |
WhiteBalance | Auto |
Whites2012 | 0 |