Felt | Verdi |
AlreadyApplied | True |
Aperture | 1.2 |
ApertureValue | 1.2 |
AutoLateralCA | 0 |
BitsPerSample (1) | 8 8 8 |
BitsPerSample | 8 |
Blacks2012 | -77 |
BlueHue | 0 |
BlueSaturation | 0 |
CameraProfile | Embedded |
Clarity2012 | +30 |
ColorComponents | 3 |
ColorMode | RGB |
ColorNoiseReduction | 25 |
ColorNoiseReductionDetail | 50 |
ColorSpace | sRGB |
Contrast2012 | +15 |
ConvertToGrayscale | True |
CopyrightFlag | True |
CreateDate | 2014:03:27 11:41:49+01:00 |
CreatorTool | Adobe Photoshop Lightroom 4.1 (Macintosh) |
CropAngle | 0 |
CropBottom | 1 |
CropConstrainToWarp | 0 |
CropHeight | 2048 |
CropLeft | 0.08926 |
CropRight | 0.616604 |
CropTop | 0 |
CropUnit | pixels |
CropWidth | 2048 |
ExifImageHeight | 2148 |
ExifImageWidth | 2148 |
Exposure2012 | 0.00 |
FNumber | 1.2 |
FocalLength | 85.0 mm |
FocalLength35efl | 85.0 mm |
Format | image/jpeg |
GrainAmount | 32 |
GrainFrequency | 50 |
GrainSize | 28 |
GrayMixerAqua | -19 |
GrayMixerBlue | +8 |
GrayMixerGreen | -26 |
GrayMixerMagenta | +4 |
GrayMixerOrange | -18 |
GrayMixerPurple | +15 |
GrayMixerRed | -9 |
GrayMixerYellow | -22 |
GreenHue | 0 |
GreenSaturation | 0 |
HasCrop | True |
HasSettings | True |
Highlights2012 | -50 |
ICCProfileName | sRGB IEC61966-2.1 |
ImageHeight (1) | 2048 |
ImageHeight | 2148 |
ImageSize | 2148x2148 |
ImageWidth (1) | 2048 |
ImageWidth | 2148 |
IncrementalTemperature | 0 |
IncrementalTint | 0 |
ISO | 320 |
Lens | |
LensManualDistortionAmount | 0 |
LensProfileEnable | 0 |
LensProfileSetup | LensDefaults |
LuminanceSmoothing | 0 |
Make | RED |
Marked | True |
Megapixels | 4.6 |
Model | EPIC-X |
ModifyDate (1) | 2014:03:27 11:54:11+01:00 |
ModifyDate | 2014:03:27 11:54:11 |
ObjectName | T003_C010_0101N0 |
Orientation | Horizontal (normal) |
ParametricDarks | 0 |
ParametricHighlights | 0 |
ParametricHighlightSplit | 75 |
ParametricLights | 0 |
ParametricMidtoneSplit | 50 |
ParametricShadows | 0 |
ParametricShadowSplit | 25 |
PerspectiveHorizontal | 0 |
PerspectiveRotate | 0.0 |
PerspectiveScale | 100 |
PerspectiveVertical | 0 |
PhotometricInterpretation | RGB |
PostCropVignetteAmount | -9 |
PostCropVignetteFeather | 50 |
PostCropVignetteHighlightContrast | 0 |
PostCropVignetteMidpoint | 50 |
PostCropVignetteRoundness | 0 |
PostCropVignetteStyle | 1 |
ProcessVersion | 6.7 |
ProfileDescription | sRGB IEC61966-2.1 |
ProjectName | |
RedHue | 0 |
RedSaturation | 0 |
Scene | |
SerialNumber | 5 |
Shadows2012 | -24 |
ShadowTint | 0 |
SharpenDetail | 25 |
SharpenEdgeMasking | 0 |
SharpenRadius | +1.0 |
Sharpness | 25 |
ShotName | |
Software | Adobe Photoshop CS5.1 Macintosh |
Source | /Volumes/T003_0101O6/T003_0101O6.RDM/T003_C010_0101N0.RDC/T003_C010_0101N0_001.R3D |
SplitToningBalance | 0 |
SplitToningHighlightHue | 0 |
SplitToningHighlightSaturation | 0 |
SplitToningShadowHue | 0 |
SplitToningShadowSaturation | 0 |
StartTimecodeTimeFormat | 25 fps |
StartTimecodeTimeValue | 00:12:38:17 |
TakeNumber | 10 |
TapeName | T003_C010_0101N0 |
Title | T003_C010_0101N0 |
ToneCurveName2012 | Strong Contrast |
ToneCurvePV2012 | 0, 0, 32, 16, 64, 50, 128, 128, 192, 202, 255, 255 |
ToneCurvePV2012Blue | 0, 0, 255, 255 |
ToneCurvePV2012Green | 0, 0, 255, 255 |
ToneCurvePV2012Red | 0, 0, 255, 255 |
URL_List | |
Version | 7.1 |
VideoCompressor | REDcode 3:1 |
VideoFrameRate | 25 |
VideoFrameSizeH | 2700 |
VideoFrameSizeUnit | pixels |
VideoFrameSizeW | 5120 |
VignetteAmount | 0 |
WhiteBalance | As Shot |
Whites2012 | +52 |