Felt | Verdi |
AlreadyApplied | True |
AutoLateralCA | 0 |
BitsPerSample (1) | 8 8 8 |
BitsPerSample | 8 |
Blacks2012 | +8 |
BlueHue | 0 |
BlueSaturation | 0 |
CameraProfile | Embedded |
Clarity2012 | 0 |
ColorComponents | 3 |
ColorMode | RGB |
ColorNoiseReduction | 0 |
ColorSpace | sRGB |
Contrast2012 | +18 |
ConvertToGrayscale | True |
CopyrightFlag | True |
CreateDate | 2000:01:01 00:22:51 |
CreatorTool | Adobe Photoshop Lightroom 4.1 (Macintosh) |
CropAngle | -1.6243 |
CropBottom | 0.744413 |
CropConstrainToWarp | 0 |
CropHeight | 1909 |
CropLeft | 0 |
CropRight | 0.383257 |
CropTop | 0.057725 |
CropUnit | pixels |
CropWidth | 1909 |
ExifImageHeight | 1989 |
ExifImageWidth | 1989 |
Exposure2012 | 0.00 |
Format | image/jpeg |
GrainAmount | 0 |
GrayMixerAqua | -19 |
GrayMixerBlue | +9 |
GrayMixerGreen | -27 |
GrayMixerMagenta | +5 |
GrayMixerOrange | -18 |
GrayMixerPurple | +15 |
GrayMixerRed | -9 |
GrayMixerYellow | -22 |
GreenHue | 0 |
GreenSaturation | 0 |
HasCrop | True |
HasSettings | True |
Highlights2012 | -64 |
ICCProfileName | sRGB IEC61966-2.1 |
ImageHeight (1) | 1909 |
ImageHeight | 1989 |
ImageSize | 1989x1989 |
ImageWidth (1) | 1909 |
ImageWidth | 1989 |
IncrementalTemperature | 0 |
IncrementalTint | 0 |
ISO | 400 |
Lens | |
LensManualDistortionAmount | 0 |
LensProfileEnable | 0 |
LensProfileSetup | LensDefaults |
LuminanceSmoothing | 0 |
Make | RED |
Marked | True |
Megapixels | 4.0 |
Model | EPIC-X |
ModifyDate (1) | 2014:03:18 10:57:58+01:00 |
ModifyDate | 2014:03:18 10:57:58 |
ObjectName | M005_C030_01017E |
Orientation | Horizontal (normal) |
ParametricDarks | 0 |
ParametricHighlights | 0 |
ParametricHighlightSplit | 75 |
ParametricLights | 0 |
ParametricMidtoneSplit | 50 |
ParametricShadows | 0 |
ParametricShadowSplit | 25 |
PerspectiveHorizontal | 0 |
PerspectiveRotate | 0.0 |
PerspectiveScale | 100 |
PerspectiveVertical | 0 |
PhotometricInterpretation | RGB |
PostCropVignetteAmount | 0 |
ProcessVersion | 6.7 |
ProfileDescription | sRGB IEC61966-2.1 |
ProjectName | |
RedHue | 0 |
RedSaturation | 0 |
Scene | |
SerialNumber | 102-57B-8D6 |
Shadows2012 | -10 |
ShadowTint | 0 |
SharpenDetail | 25 |
SharpenEdgeMasking | 0 |
SharpenRadius | +1.0 |
Sharpness | 0 |
ShotName | |
Software | Adobe Photoshop CS5.1 Macintosh |
Source | /Volumes/ICY_BOX_2_RAID5/ Gunleik/Prosjekter/STUFF/Stuff_01/Raphaella/02/M005_01019Y.RDM/M005_C030_01017E.RDC/M005_C030_01017E_001.R3D |
SplitToningBalance | 0 |
SplitToningHighlightHue | 0 |
SplitToningHighlightSaturation | 0 |
SplitToningShadowHue | 0 |
SplitToningShadowSaturation | 0 |
StartTimecodeTimeFormat | 25 fps |
StartTimecodeTimeValue | 00:22:51:18 |
TakeNumber | 30 |
TapeName | M005_C030_01017E |
Title | M005_C030_01017E |
ToneCurveName2012 | Medium Contrast |
ToneCurvePV2012 | 0, 0, 32, 22, 64, 56, 128, 128, 192, 196, 255, 255 |
ToneCurvePV2012Blue | 0, 0, 255, 255 |
ToneCurvePV2012Green | 0, 0, 255, 255 |
ToneCurvePV2012Red | 0, 0, 255, 255 |
URL_List | |
Version | 7.1 |
VideoCompressor | REDcode 4:1 |
VideoFrameRate | 25 |
VideoFrameSizeH | 2700 |
VideoFrameSizeUnit | pixels |
VideoFrameSizeW | 5120 |
VignetteAmount | 0 |
WhiteBalance | As Shot |
Whites2012 | +69 |