Felt | Verdi |
AEBBracketValue | 0 |
AlreadyApplied | True |
Aperture | 5.0 |
ApertureValue | 5.0 |
ApproximateFocusDistance | 3.29 |
Artist | |
AutoExposureBracketing | Off |
AutoISO | 100 |
BaseISO | 0 |
BitsPerSample | 8 |
BlueHue | 0 |
BlueSaturation | 0 |
Brightness | +53 |
BulbDuration | 0 |
CameraProfile | Adobe Standard |
CameraType | n/a |
CanonExposureMode | Unknown (-1) |
CanonFirmwareVersion | |
CanonFlashMode | n/a |
CanonImageSize | n/a |
CanonImageType | |
ChromaticAberrationB | 0 |
ChromaticAberrationR | 0 |
CircleOfConfusion | 0.019 mm |
Clarity | +100 |
ColorComponents | 3 |
ColorMode | RGB |
ColorNoiseReduction | 23 |
ColorNoiseReductionDetail | 47 |
ColorSpace | sRGB |
ColorTemperature | 7500 |
ContinuousDrive | Unknown (-1) |
Contrast | +36 |
ControlMode | n/a |
ConvertToGrayscale | False |
CreateDate (1) | 2013:11:10 12:45:31.73+01:00 |
CreateDate | 2013:11:10 12:45:31 |
CropAngle | 0 |
CropBottom | 0.638889 |
CropConstrainToWarp | 1 |
CropHeight | 4 |
CropLeft | 0.349023 |
CropRight | 0.840278 |
CropTop | 0.086227 |
CropUnit | Unknown (3) |
CropWidth | 3 |
CustomRendered | Normal |
DateCreated (1) | 2013:11:10 |
DateCreated | 2013:11:10 12:45:31.073 |
DateTimeOriginal | 2013:11:10 12:45:31 |
Defringe | 0 |
DigitalZoom | None |
DOF | 0.07 m (3.26 - 3.32 m) |
DriveMode | Continuous Shooting |
EasyMode | Unknown (-1) |
ExifImageHeight | 960 |
ExifImageWidth | 1280 |
Exposure | +0.30 |
ExposureCompensation | 0 |
ExposureMode | Auto |
ExposureTime | 1/320 |
FileNumber | 0 |
FillLight | 0 |
Firmware | 1.2.3 |
Flash | Off, Did not fire |
FlashBits | (none) |
FlashCompensation | 0 |
FlashExposureComp | 0 |
FlashGuideNumber | 0 |
FNumber | 5.0 |
FocalLength | 170.0 mm |
FocalLength35efl | 170.0 mm (35 mm equivalent: 267.0 mm) |
FocalUnits | 32/mm |
FocusMode | Single |
FocusRange | Not Known |
Format | image/jpeg |
FOV | 7.7 deg |
GrainAmount | 0 |
GreenHue | 0 |
GreenSaturation | 0 |
HasCrop | True |
HasSettings | True |
HighlightRecovery | 20 |
HueAdjustmentAqua | 0 |
HueAdjustmentBlue | 0 |
HueAdjustmentGreen | 0 |
HueAdjustmentMagenta | 0 |
HueAdjustmentOrange | 0 |
HueAdjustmentPurple | 0 |
HueAdjustmentRed | 0 |
HueAdjustmentYellow | 0 |
HyperfocalDistance | 302.08 m |
ICCProfileName | ProPhoto RGB |
ImageHeight | 960 |
ImageNumber | 0 |
ImageSize | 1280x960 |
ImageWidth | 1280 |
ISO (1) | 0 |
ISO | 500 |
Lens (1) | EF100-400mm f/4.5-5.6L IS USM |
Lens | 0.0 mm |
Lens35efl | 0.0 mm (35 mm equivalent: 0.0 mm) |
LensID (1) | 183 |
LensID | n/a |
LensInfo | 100-400mm f/? |
LensManualDistortionAmount | 0 |
LensProfileEnable | 0 |
LensProfileSetup | LensDefaults |
LensType | n/a |
LightValue | 10.6 |
LuminanceAdjustmentAqua | 0 |
LuminanceAdjustmentBlue | 0 |
LuminanceAdjustmentGreen | 0 |
LuminanceAdjustmentMagenta | 0 |
LuminanceAdjustmentOrange | 0 |
LuminanceAdjustmentPurple | 0 |
LuminanceAdjustmentRed | 0 |
LuminanceAdjustmentYellow | 0 |
LuminanceNoiseReductionContrast | 8 |
LuminanceNoiseReductionDetail | 27 |
LuminanceSmoothing | 36 |
MacroMode | Unknown (0) |
Make | Canon |
ManualFlashOutput | n/a |
MaxFocalLength | 0 mm |
MeasuredEV | 5.00 |
Megapixels | 1.2 |
MeteringMode | Unknown (-1) |
MinFocalLength | 0 mm |
Model | Canon EOS 7D |
ModifyDate (1) | 2013:11:11 12:55:33+01:00 |
ModifyDate | 2013:11:10 12:45:31 |
NDFilter | n/a |
OpticalZoomCode | n/a |
Orientation | Horizontal (normal) |
OwnerName | |
ParametricDarks | 0 |
ParametricHighlights | 0 |
ParametricHighlightSplit | 75 |
ParametricLights | 0 |
ParametricMidtoneSplit | 50 |
ParametricShadows | 0 |
ParametricShadowSplit | 25 |
PerspectiveHorizontal | 0 |
PerspectiveRotate | 0.0 |
PerspectiveScale | 100 |
PerspectiveVertical | 0 |
PostCropVignetteAmount | 0 |
ProcessVersion | 5.7 |
ProfileDescription | sRGB v1.31 (Canon) |
Quality | Fine |
Rating | 0 |
RawFileName | Rødstrupe 2013.11.11 Gilja-b.CR2 |
RedHue | 0 |
RedSaturation | 0 |
RelatedImageHeight | 960 |
RelatedImageWidth | 1280 |
Saturation | +5 |
SaturationAdjustmentAqua | 0 |
SaturationAdjustmentBlue | 0 |
SaturationAdjustmentGreen | 0 |
SaturationAdjustmentMagenta | 0 |
SaturationAdjustmentOrange | 0 |
SaturationAdjustmentPurple | 0 |
SaturationAdjustmentRed | 0 |
SaturationAdjustmentYellow | 0 |
ScaleFactor35efl | 1.6 |
SceneCaptureType | Standard |
SelfTimer | Off |
SequenceNumber | 0 |
SerialNumber | 280111603 |
Shadows | 5 |
ShadowTint | 0 |
SharpenDetail | 15 |
SharpenEdgeMasking | 18 |
SharpenRadius | +2.1 |
Sharpness | 142 |
ShootingMode | Unknown (-1) |
ShutterSpeed | 1/320 |
ShutterSpeedValue | 1/320 |
SidecarForExtension | CR2 |
SlowShutter | None |
Software | Digital Photo Professional |
SplitToningBalance | 0 |
SplitToningHighlightHue | 0 |
SplitToningHighlightSaturation | 0 |
SplitToningShadowHue | 0 |
SplitToningShadowSaturation | 0 |
SRAWQuality | n/a |
TargetAperture | 5 |
TargetExposureTime | 1/318 |
Tint | +10 |
ToneCurve | 0, 0, 32, 22, 64, 56, 128, 128, 192, 196, 255, 255 |
ToneCurveName | Medium Contrast |
UserComment | |
Version | 6.3 |
Vibrance | +5 |
VignetteAmount | 0 |
WhiteBalance (1) | Auto |
WhiteBalance (2) | Shade |
WhiteBalance | Unknown (-1) |
ZoomSourceWidth | 0 |
ZoomTargetWidth | 0 |