Felt | Verdi |
AlreadyApplied | True |
Artist | Svein Erik Jamt |
AutoLateralCA | 0 |
BitsPerSample | 8 |
Blacks2012 | +4 |
BlueHue | 0 |
BlueSaturation | 0 |
By-line | Svein Erik Jamt |
CameraProfile | Embedded |
Clarity2012 | +46 |
ColorComponents | 3 |
ColorNoiseReduction | 25 |
ColorNoiseReductionDetail | 50 |
ColorTemperature | 4500 |
Contrast2012 | +55 |
ConvertToGrayscale | False |
Copyright | Svein Erik Jamt |
CopyrightFlag | True |
CopyrightNotice | Svein Erik Jamt |
Creator | Svein Erik Jamt |
CreatorAddress | Sørhella 11 |
CreatorCity | Tromsø |
CreatorCountry | Norway |
CreatorPostalCode | 9103 |
CreatorRegion | Kvaløya |
CreatorTool | Adobe Photoshop Lightroom 5.0 (Macintosh) |
CreatorWorkEmail | sejamt@gmail.com |
CreatorWorkTelephone | +47 970 93 525 |
CropAngle | 0.824409 |
CropBottom | 0.995882 |
CropConstrainToWarp | 0 |
CropLeft | 0.018825 |
CropRight | 0.981175 |
CropTop | 0.004118 |
DefringeGreenAmount | 0 |
DefringeGreenHueHi | 60 |
DefringeGreenHueLo | 40 |
DefringePurpleAmount | 0 |
DefringePurpleHueHi | 100 |
DefringePurpleHueLo | 30 |
DigitalSourceType | nil |
Event | |
Exposure2012 | -0.10 |
Format | image/jpeg |
GrainAmount | 0 |
GreenHue | 0 |
GreenSaturation | 0 |
HasCrop | True |
HasSettings | True |
HierarchicalSubject | 2013, Artic, DM22, Digital, Kvaløya, Landscape, Mamiya AFDIII 645, Mamiya DM22, MediumFormat, Norway, Nothern Norway, Summer, Svein Erik Jamt, Troms, Tromsø, Tromvik, Tur med veronica, f22, medium format, seascape, subartic, yttersia |
Highlights2012 | 0 |
HueAdjustmentAqua | 0 |
HueAdjustmentBlue | 0 |
HueAdjustmentGreen | 0 |
HueAdjustmentMagenta | 0 |
HueAdjustmentOrange | 0 |
HueAdjustmentPurple | 0 |
HueAdjustmentRed | 0 |
HueAdjustmentYellow | 0 |
ImageHeight | 768 |
ImageSize | 1024x768 |
ImageWidth | 1024 |
ISO | 25 |
Keywords | 2013, Artic, DM22, Digital, Kvaløya, Landscape, Mamiya AFDIII 645, Mamiya DM22, MediumFormat, Norway, Nothern Norway, Summer, Svein Erik Jamt, Troms, Tromsø, Tromvik, Tur med veronica, f22, medium format, seascape, subartic, yttersia |
LensManualDistortionAmount | 0 |
LensProfileChromaticAberrationScale | 100 |
LensProfileDistortionScale | 100 |
LensProfileEnable | 1 |
LensProfileFilename | Phase One A-S (Mamiya AF 35mm f3.5) - RAW.lcp |
LensProfileName | Adobe (Mamiya AF 35mm f/3.5) |
LensProfileSetup | Custom |
LensProfileVignettingScale | 0 |
LuminanceAdjustmentAqua | 0 |
LuminanceAdjustmentBlue | 0 |
LuminanceAdjustmentGreen | 0 |
LuminanceAdjustmentMagenta | 0 |
LuminanceAdjustmentOrange | 0 |
LuminanceAdjustmentPurple | 0 |
LuminanceAdjustmentRed | 0 |
LuminanceAdjustmentYellow | 0 |
LuminanceSmoothing | 0 |
Make | Mamiya |
Marked | True |
Megapixels | 0.786 |
MinorModelAgeDisclosure | Unknown (nil) |
Model | 32 |
ModelReleaseStatus | Unknown (nil) |
ModifyDate (1) | 2013:07:14 01:31:17+02:00 |
ModifyDate | 2013:07:14 01:31:17 |
ObjectName | Artic Summer |
ParametricDarks | 0 |
ParametricHighlights | 0 |
ParametricHighlightSplit | 75 |
ParametricLights | 0 |
ParametricMidtoneSplit | 50 |
ParametricShadows | 0 |
ParametricShadowSplit | 25 |
PerspectiveAspect | 0 |
PerspectiveHorizontal | 0 |
PerspectiveRotate | 0.0 |
PerspectiveScale | 100 |
PerspectiveUpright | 0 |
PerspectiveVertical | 0 |
PLUSVersion | 1.2.0 |
PostCropVignetteAmount | -28 |
PostCropVignetteFeather | 50 |
PostCropVignetteHighlightContrast | 0 |
PostCropVignetteMidpoint | 50 |
PostCropVignetteRoundness | 0 |
PostCropVignetteStyle | 1 |
ProcessVersion | 6.7 |
ProfileDescription | sRGB IEC61966-2.1 |
PropertyReleaseStatus | Unknown (nil) |
RedHue | 0 |
RedSaturation | 0 |
Rights | Svein Erik Jamt |
Saturation | +1 |
SaturationAdjustmentAqua | 0 |
SaturationAdjustmentBlue | -19 |
SaturationAdjustmentGreen | -22 |
SaturationAdjustmentMagenta | 0 |
SaturationAdjustmentOrange | 0 |
SaturationAdjustmentPurple | 0 |
SaturationAdjustmentRed | 0 |
SaturationAdjustmentYellow | -17 |
SceneType | Directly photographed |
SerialNumber | AM22MLI302025 0624009 108312 A9AF7BF7AE7AF2AD4AG3AA3AC26C20A2AB |
Shadows2012 | 0 |
ShadowTint | 0 |
SharpenDetail | 25 |
SharpenEdgeMasking | 0 |
SharpenRadius | +1.7 |
Sharpness | 97 |
Software | Adobe Photoshop Lightroom 5.0 (Macintosh) |
SplitToningBalance | 0 |
SplitToningHighlightHue | 0 |
SplitToningHighlightSaturation | 0 |
SplitToningShadowHue | 0 |
SplitToningShadowSaturation | 0 |
Subject | 2013, Artic, DM22, Digital, Kvaløya, Landscape, Mamiya AFDIII 645, Mamiya DM22, MediumFormat, Norway, Nothern Norway, Summer, Svein Erik Jamt, Troms, Tromsø, Tromvik, Tur med veronica, f22, medium format, seascape, subartic, yttersia |
Tint | -28 |
Title | Artic Summer |
ToneCurveName2012 | Linear |
ToneCurvePV2012 | 0, 0, 255, 255 |
ToneCurvePV2012Blue | 0, 0, 255, 255 |
ToneCurvePV2012Green | 0, 0, 255, 255 |
ToneCurvePV2012Red | 0, 0, 255, 255 |
Version | 8.1 |
Vibrance | +33 |
VignetteAmount | 0 |
WhiteBalance | Custom |
Whites2012 | +7 |