Felt | Verdi |
AlreadyApplied | True |
Aperture | 13.0 |
ApertureValue | 13.0 |
Artist | unknown |
AutoLateralCA | 0 |
BitsPerSample | 8 |
Blacks2012 | -10 |
BlueHue | 0 |
BlueSaturation | 0 |
Brightness | 0 |
By-line | unknown |
CameraProfile | Embedded |
CircleOfConfusion | 0.019 mm |
Clarity | 0 |
Clarity2012 | +70 |
ColorComponents | 3 |
ColorNoiseReduction | 0 |
Contrast | 0 |
Contrast2012 | 0 |
ConvertToGrayscale | False |
CreateDate | 2013:03:11 14:17:45 |
Creator | unknown |
CreatorTool | Adobe Photoshop Lightroom 4.0 (Macintosh) |
CustomRendered | Normal |
DateCreated (1) | 2013:03:11 |
DateCreated | 2013:03:11 14:17:45 |
DateTimeOriginal | 2013:03:11 14:17:45 |
Defringe | 0 |
Exposure | 0.00 |
Exposure2012 | 0.00 |
ExposureCompensation | 0 |
ExposureMode | Manual |
ExposureProgram | Manual |
ExposureTime | 1/125 |
FillLight | 0 |
Firmware | 1.1.1 |
Flash | Off, Did not fire |
FlashCompensation | 0 |
FNumber | 13.0 |
FocalLength | 41.0 mm |
FocalLength35efl | 41.0 mm (35 mm equivalent: 66.4 mm) |
Format | image/jpeg |
FOV | 30.4 deg |
GrainAmount | 0 |
GreenHue | 0 |
GreenSaturation | 0 |
HasCrop | False |
HasSettings | True |
HighlightRecovery | 0 |
Highlights2012 | -20 |
HueAdjustmentAqua | 0 |
HueAdjustmentBlue | 0 |
HueAdjustmentGreen | 0 |
HueAdjustmentMagenta | 0 |
HueAdjustmentOrange | 0 |
HueAdjustmentPurple | 0 |
HueAdjustmentRed | 0 |
HueAdjustmentYellow | 0 |
HyperfocalDistance | 6.96 m |
ImageHeight | 1620 |
ImageNumber | 192 |
ImageSize | 1080x1620 |
ImageWidth | 1080 |
IncrementalTemperature | -9 |
IncrementalTint | -25 |
ISO | 100 |
Keywords | gutt, portrett, studio |
Lens | 18.0-55.0 mm |
LensID (1) | 53 |
LensID | Canon EF-S 18-55mm f/3.5-5.6 III |
LensInfo | 18-55mm f/? |
LensManualDistortionAmount | 0 |
LensModel | 18.0-55.0 mm |
LensProfileEnable | 0 |
LensProfileSetup | LensDefaults |
LightValue | 14.4 |
LuminanceAdjustmentAqua | 0 |
LuminanceAdjustmentBlue | 0 |
LuminanceAdjustmentGreen | 0 |
LuminanceAdjustmentMagenta | 0 |
LuminanceAdjustmentOrange | 0 |
LuminanceAdjustmentPurple | 0 |
LuminanceAdjustmentRed | 0 |
LuminanceAdjustmentYellow | 0 |
LuminanceSmoothing | 0 |
Make | Canon |
MaxApertureValue | 4.5 |
Megapixels | 1.7 |
MeteringMode | Multi-segment |
Model | Canon EOS 400D DIGITAL |
ModifyDate (1) | 2013:03:16 19:14:08+01:00 |
ModifyDate | 2013:03:16 19:14:08 |
OwnerName | unknown |
PaintCorrectionActive | true |
PaintCorrectionAmount | 1.000000 |
PaintCorrectionBrightness | 0.000000 |
PaintCorrectionClarity2012 (1) | 0.000000 |
PaintCorrectionClarity2012 | -0.300000 |
PaintCorrectionContrast2012 (1) | 0.200000 |
PaintCorrectionContrast2012 | -0.150000 |
PaintCorrectionExposure2012 (2) | 0.250000 |
PaintCorrectionExposure2012 | 0.000000 |
PaintCorrectionHighlights2012 | 0.000000 |
PaintCorrectionHue | 0.000000 |
PaintCorrectionLuminanceNoise | 0.000000 |
PaintCorrectionMaskCenterWeight | 0.000000 |
PaintCorrectionMaskFlow | 1.000000 |
PaintCorrectionMaskRadius (1) | 0.133780 |
PaintCorrectionMaskRadius (3) | 0.022409 |
PaintCorrectionMaskRadius | 0.384493 |
PaintCorrectionMaskValue | 1.000000 |
PaintCorrectionMaskWhat | Mask/Paint |
PaintCorrectionMoire | 0.000000 |
PaintCorrectionSaturation (1) | -0.150000 |
PaintCorrectionSaturation | 0.000000 |
PaintCorrectionShadows2012 (2) | 0.150000 |
PaintCorrectionShadows2012 | 0.000000 |
PaintCorrectionSharpness (1) | 0.250000 |
PaintCorrectionSharpness (2) | 0.000000 |
PaintCorrectionSharpness | -0.200000 |
PaintCorrectionTemperature | 0.200000 |
PaintCorrectionTint | 0.000000 |
PaintCorrectionWhat | Correction |
ParametricDarks | 0 |
ParametricHighlights | 0 |
ParametricHighlightSplit | 75 |
ParametricLights | 0 |
ParametricMidtoneSplit | 50 |
ParametricShadows | 0 |
ParametricShadowSplit | 25 |
PerspectiveHorizontal | 0 |
PerspectiveRotate | 0.0 |
PerspectiveScale | 100 |
PerspectiveVertical | 0 |
PostCropVignetteAmount | -15 |
PostCropVignetteFeather | 50 |
PostCropVignetteHighlightContrast | 0 |
PostCropVignetteMidpoint | 50 |
PostCropVignetteRoundness | 0 |
PostCropVignetteStyle | 1 |
ProcessVersion | 6.7 |
ProfileDescription | sRGB IEC61966-2.1 |
Rating | 3 |
RedHue | 0 |
RedSaturation | 0 |
Saturation | -30 |
SaturationAdjustmentAqua | 0 |
SaturationAdjustmentBlue | 0 |
SaturationAdjustmentGreen | 0 |
SaturationAdjustmentMagenta | 0 |
SaturationAdjustmentOrange | 0 |
SaturationAdjustmentPurple | 0 |
SaturationAdjustmentRed | 0 |
SaturationAdjustmentYellow | 0 |
ScaleFactor35efl | 1.6 |
SceneCaptureType | Standard |
SerialNumber | 2481213556 |
Shadows | 0 |
Shadows2012 | +20 |
ShadowTint | 0 |
SharpenDetail | 10 |
SharpenEdgeMasking | 20 |
SharpenRadius | +1.5 |
Sharpness | 70 |
ShutterSpeed | 1/125 |
ShutterSpeedValue | 1/125 |
Software | Adobe Photoshop Lightroom 4.0 (Macintosh) |
SplitToningBalance | 0 |
SplitToningHighlightHue | 0 |
SplitToningHighlightSaturation | 0 |
SplitToningShadowHue | 0 |
SplitToningShadowSaturation | 0 |
Subject | gutt, portrett, studio |
ToneCurve | 0, 0, 255, 255 |
ToneCurveBlue | 0, 0, 255, 255 |
ToneCurveGreen | 0, 0, 255, 255 |
ToneCurveName | Linear |
ToneCurveName2012 | Linear |
ToneCurvePV2012 | 0, 0, 255, 255 |
ToneCurvePV2012Blue | 0, 0, 255, 255 |
ToneCurvePV2012Green | 0, 0, 255, 255 |
ToneCurvePV2012Red | 0, 0, 255, 255 |
ToneCurveRed | 0, 0, 255, 255 |
Version | 7.0 |
Vibrance | +15 |
VignetteAmount | 0 |
WhiteBalance | Auto |
Whites2012 | +10 |