Felt | Verdi |
AlreadyApplied | True |
Aperture | 1.8 |
ApertureValue | 1.8 |
AutoLateralCA | 0 |
BitsPerSample | 8 |
Blacks2012 | 0 |
BlueHue | 0 |
BlueSaturation | 0 |
CameraProfile | Adobe Standard |
CircleOfConfusion | 0.019 mm |
Clarity2012 | +100 |
ColorComponents | 1 |
ColorNoiseReduction | 0 |
ColorTemperature | 4950 |
Contrast2012 | +100 |
ConvertToGrayscale | True |
Copyright | Kenneth Refvik, Reflect. |
CopyrightFlag | True |
CopyrightNotice | Kenneth Refvik, Reflect. |
CreateDate (1) | 2013:01:16 11:47:39.12 |
CreateDate | 2013:01:16 11:47:39 |
CreatorTool | Adobe Photoshop Lightroom 4.2 (Windows) |
CropAngle | -0.061692 |
CropBottom | 0.995569 |
CropConstrainToWarp | 0 |
CropHeight | 2428 |
CropLeft | 0.001332 |
CropRight | 0.998803 |
CropTop | 0.230768 |
CropUnit | pixels |
CropWidth | 4737 |
CustomRendered | Normal |
DateCreated (1) | 2013:01:16 |
DateCreated | 2013:01:16 11:47:39.12 |
DateTimeOriginal | 2013:01:16 11:47:39 |
Exposure2012 | 0.00 |
ExposureCompensation | 0 |
ExposureMode | Manual |
ExposureProgram | Manual |
ExposureTime | 1/640 |
Firmware | 1.0.3 |
Flash | Off, Did not fire |
FlashCompensation | 0 |
FNumber | 1.8 |
FocalLength | 50.0 mm |
FocalLength35efl | 50.0 mm (35 mm equivalent: 79.2 mm) |
Format | image/jpeg |
FOV | 25.6 deg |
GradientBasedCorrActive | true |
GradientBasedCorrAmount | 1.000000 |
GradientBasedCorrBrightness | 0.000000 |
GradientBasedCorrClarity2012 | 1.000000 |
GradientBasedCorrContrast2012 | 1.000000 |
GradientBasedCorrDefringe | 0.000000 |
GradientBasedCorrExposure2012 | 0.103500 |
GradientBasedCorrHighlights2012 | 0.977010 |
GradientBasedCorrHue | 62.000000 |
GradientBasedCorrLuminanceNoise | 0.000000 |
GradientBasedCorrMaskFullX | 0.505699 |
GradientBasedCorrMaskFullY | 1.312340 |
GradientBasedCorrMaskValue | 1.000000 |
GradientBasedCorrMaskWhat | Mask/Gradient |
GradientBasedCorrMaskZeroX | 0.495141 |
GradientBasedCorrMaskZeroY | 0.181177 |
GradientBasedCorrMoire | 0.000000 |
GradientBasedCorrSaturation (1) | -0.908050 |
GradientBasedCorrSaturation | 0.000000 |
GradientBasedCorrShadows2012 | 1.000000 |
GradientBasedCorrSharpness | 0.000000 |
GradientBasedCorrTemperature | 0.000000 |
GradientBasedCorrTint | 0.000000 |
GradientBasedCorrWhat | Correction |
GrainAmount | 0 |
GrayMixerAqua | -19 |
GrayMixerBlue | +10 |
GrayMixerGreen | -27 |
GrayMixerMagenta | +5 |
GrayMixerOrange | -19 |
GrayMixerPurple | +16 |
GrayMixerRed | -9 |
GrayMixerYellow | -23 |
GreenHue | 0 |
GreenSaturation | 0 |
HasCrop | True |
HasSettings | True |
Highlights2012 | 0 |
HyperfocalDistance | 73.25 m |
ImageHeight | 2428 |
ImageNumber | 0 |
ImageSize | 4737x2428 |
ImageWidth | 4737 |
ISO | 200 |
Label | Reflect. |
Lens | EF50mm f/1.8 II |
LensID (1) | 29 |
LensID | Canon EF 50mm f/1.8 II |
LensInfo | 50mm f/? |
LensManualDistortionAmount | 0 |
LensModel | EF50mm f/1.8 II |
LensProfileEnable | 0 |
LensProfileSetup | LensDefaults |
LightValue | 10.0 |
LuminanceSmoothing | 0 |
Make | Canon |
Marked | True |
MaxApertureValue | 1.8 |
Megapixels | 11.5 |
MeteringMode | Multi-segment |
Model | Canon EOS 50D |
ModifyDate (1) | 2013:01:17 20:58:40+01:00 |
ModifyDate | 2013:01:17 20:58:40 |
ObjectName | Art Photographer |
PaintCorrectionActive | true |
PaintCorrectionAmount | 1.000000 |
PaintCorrectionBrightness | 0.000000 |
PaintCorrectionClarity2012 | -1.000000 |
PaintCorrectionContrast2012 | 0.000000 |
PaintCorrectionDefringe | 0.000000 |
PaintCorrectionExposure2012 | 0.149500 |
PaintCorrectionHighlights2012 | 0.931030 |
PaintCorrectionHue | 62.000000 |
PaintCorrectionLuminanceNoise | 0.000000 |
PaintCorrectionMaskCenterWeight | 0.000000 |
PaintCorrectionMaskFlow | 1.000000 |
PaintCorrectionMaskRadius | 0.023640 |
PaintCorrectionMaskValue | 1.000000 |
PaintCorrectionMaskWhat | Mask/Paint |
PaintCorrectionMoire | 0.000000 |
PaintCorrectionSaturation (1) | 0.011490 |
PaintCorrectionSaturation | 0.000000 |
PaintCorrectionShadows2012 | 0.000000 |
PaintCorrectionSharpness | 0.000000 |
PaintCorrectionTemperature | 0.000000 |
PaintCorrectionTint | 0.000000 |
PaintCorrectionWhat | Correction |
ParametricDarks | 0 |
ParametricHighlights | +15 |
ParametricHighlightSplit | 75 |
ParametricLights | -18 |
ParametricMidtoneSplit | 50 |
ParametricShadows | -51 |
ParametricShadowSplit | 25 |
PerspectiveHorizontal | 0 |
PerspectiveRotate | 0.0 |
PerspectiveScale | 100 |
PerspectiveVertical | 0 |
PostCropVignetteAmount | +7 |
PostCropVignetteFeather | 100 |
PostCropVignetteMidpoint | 43 |
PostCropVignetteRoundness | +90 |
PostCropVignetteStyle | 1 |
ProcessVersion | 6.7 |
ProfileDescription | sRGB IEC61966-2.1 |
RedHue | 0 |
RedSaturation | 0 |
Rights | Kenneth Refvik, Reflect. |
ScaleFactor35efl | 1.6 |
SceneCaptureType | Standard |
SerialNumber | 430353506 |
Shadows2012 | 0 |
ShadowTint | 0 |
SharpenDetail | 25 |
SharpenEdgeMasking | 0 |
SharpenRadius | +1.0 |
Sharpness | 0 |
ShutterSpeed | 1/640 |
ShutterSpeedValue | 1/640 |
Software | Adobe Photoshop Lightroom 4.2 (Windows) |
SplitToningBalance | 0 |
SplitToningHighlightHue | 0 |
SplitToningHighlightSaturation | 0 |
SplitToningShadowHue | 0 |
SplitToningShadowSaturation | 0 |
Tint | +16 |
Title | Art Photographer |
ToneCurveName2012 | Linear |
ToneCurvePV2012 | 0, 0, 255, 255 |
ToneCurvePV2012Blue | 0, 0, 255, 255 |
ToneCurvePV2012Green | 0, 0, 255, 255 |
ToneCurvePV2012Red | 0, 0, 255, 255 |
URL | http://photo.net/photos/KennethRefvik |
UsageTerms | All photos are copyright the photographer, and may not be used without written permission. |
Version | 7.2 |
VignetteAmount | 0 |
WebStatement | http://photo.net/photos/KennethRefvik |
WhiteBalance (1) | As Shot |
WhiteBalance | Auto |
Whites2012 | 0 |