Felt | Verdi |
AlreadyApplied | True |
Aperture | 2.8 |
ApertureValue | 2.8 |
AutoLateralCA | 0 |
BitsPerSample | 8 |
Blacks2012 | -66 |
BlueHue | 0 |
BlueSaturation | 0 |
CameraProfile | Adobe Standard |
Clarity2012 | +30 |
ColorComponents | 1 |
ColorNoiseReduction | 25 |
ColorNoiseReductionDetail | 50 |
Contrast2012 | +15 |
ConvertToGrayscale | True |
CopyrightFlag | True |
CreatorTool | Adobe Photoshop Lightroom 4.1 (Macintosh) |
CropAngle | 4.50162 |
CropBottom | 1 |
CropConstrainToWarp | 0 |
CropHeight | 1012 |
CropLeft | 0.083013 |
CropRight | 0.916987 |
CropTop | 0 |
CropUnit | pixels |
CropWidth | 1920 |
Exposure2012 | 0.00 |
FNumber | 2.8 |
FocalLength | 66.0 mm |
FocalLength35efl | 66.0 mm |
Format | image/jpeg |
GrainAmount | 32 |
GrainFrequency | 50 |
GrainSize | 28 |
GrayMixerAqua | -19 |
GrayMixerBlue | +8 |
GrayMixerGreen | -26 |
GrayMixerMagenta | +4 |
GrayMixerOrange | -18 |
GrayMixerPurple | +15 |
GrayMixerRed | -9 |
GrayMixerYellow | -22 |
GreenHue | 0 |
GreenSaturation | 0 |
HasCrop | True |
HasSettings | True |
Highlights2012 | -50 |
ImageHeight | 1012 |
ImageSize | 1920x1012 |
ImageWidth | 1920 |
IncrementalTemperature | 0 |
IncrementalTint | 0 |
ISO | 250 |
Lens | |
LensManualDistortionAmount | 0 |
LensProfileEnable | 0 |
LensProfileSetup | LensDefaults |
LuminanceSmoothing | 0 |
Make | RED |
Marked | True |
Megapixels | 1.9 |
Model | EPIC-X |
ModifyDate (1) | 2012:12:11 00:26:57+01:00 |
ModifyDate | 2012:12:11 00:26:57 |
ObjectName | T001_C013_0101D2 |
ParametricDarks | 0 |
ParametricHighlights | 0 |
ParametricHighlightSplit | 75 |
ParametricLights | 0 |
ParametricMidtoneSplit | 50 |
ParametricShadows | 0 |
ParametricShadowSplit | 25 |
PerspectiveHorizontal | 0 |
PerspectiveRotate | 0.0 |
PerspectiveScale | 100 |
PerspectiveVertical | 0 |
PostCropVignetteAmount | -9 |
PostCropVignetteFeather | 50 |
PostCropVignetteHighlightContrast | 0 |
PostCropVignetteMidpoint | 50 |
PostCropVignetteRoundness | 0 |
PostCropVignetteStyle | 1 |
ProcessVersion | 6.7 |
ProfileDescription | sRGB IEC61966-2.1 |
ProjectName | |
RedHue | 0 |
RedSaturation | 0 |
Scene | |
SerialNumber | 5 |
Shadows2012 | -24 |
ShadowTint | 0 |
SharpenDetail | 25 |
SharpenEdgeMasking | 0 |
SharpenRadius | +1.0 |
Sharpness | 25 |
ShotName | |
Software | Adobe Photoshop Lightroom 4.1 (Macintosh) |
Source | /Volumes/T001_0101E7/T001_0101E7.RDM/T001_C013_0101D2.RDC/T001_C013_0101D2_001.R3D |
SplitToningBalance | 0 |
SplitToningHighlightHue | 0 |
SplitToningHighlightSaturation | 0 |
SplitToningShadowHue | 0 |
SplitToningShadowSaturation | 0 |
StartTimecodeTimeFormat | 25 fps |
StartTimecodeTimeValue | 00:20:48:08 |
TakeNumber | 13 |
TapeName | T001_C013_0101D2 |
Title | T001_C013_0101D2 |
ToneCurveName2012 | Strong Contrast |
ToneCurvePV2012 | 0, 0, 32, 16, 64, 50, 128, 128, 192, 202, 255, 255 |
ToneCurvePV2012Blue | 0, 0, 255, 255 |
ToneCurvePV2012Green | 0, 0, 255, 255 |
ToneCurvePV2012Red | 0, 0, 255, 255 |
Version | 7.1 |
VideoCompressor | REDcode 3:1 |
VideoFrameRate | 25 |
VideoFrameSizeH | 2700 |
VideoFrameSizeUnit | pixels |
VideoFrameSizeW | 5120 |
VignetteAmount | 0 |
WhiteBalance | As Shot |
Whites2012 | +52 |