Felt | Verdi |
AlreadyApplied | True |
AutoLateralCA | 0 |
BitsPerSample | 8 |
Blacks2012 | 0 |
BlueHue | 0 |
BlueSaturation | 0 |
CameraProfile | Embedded |
Clarity2012 | +9 |
ColorComponents | 1 |
ColorNoiseReduction | 0 |
Contrast2012 | 0 |
ConvertToGrayscale | True |
CopyrightFlag | True |
CreatorTool | Adobe Photoshop Lightroom 4.1 (Macintosh) |
CropAngle | 0 |
CropBottom | 0.932432 |
CropConstrainToWarp | 0 |
CropHeight | 1021 |
CropLeft | 0 |
CropRight | 0.924682 |
CropTop | 0 |
CropUnit | pixels |
CropWidth | 1920 |
Exposure2012 | 0.00 |
FocalLength | 65535.0 mm |
FocalLength35efl | 65535.0 mm |
Format | image/jpeg |
GrainAmount | 0 |
GrayMixerAqua | -18 |
GrayMixerBlue | +9 |
GrayMixerGreen | -27 |
GrayMixerMagenta | +4 |
GrayMixerOrange | -19 |
GrayMixerPurple | +15 |
GrayMixerRed | -9 |
GrayMixerYellow | -22 |
GreenHue | 0 |
GreenSaturation | 0 |
HasCrop | True |
HasSettings | True |
Highlights2012 | -13 |
ImageHeight | 1021 |
ImageSize | 1920x1021 |
ImageWidth | 1920 |
IncrementalTemperature | 0 |
IncrementalTint | 0 |
ISO | 800 |
Lens | |
LensManualDistortionAmount | 0 |
LensProfileEnable | 0 |
LensProfileSetup | LensDefaults |
LuminanceSmoothing | 0 |
Make | RED |
Marked | True |
Megapixels | 2.0 |
Model | EPIC-X |
ModifyDate (1) | 2012:10:04 13:35:12+02:00 |
ModifyDate | 2012:10:04 13:35:12 |
ObjectName | A004_C031_0101SM |
ParametricDarks | 0 |
ParametricHighlights | 0 |
ParametricHighlightSplit | 75 |
ParametricLights | 0 |
ParametricMidtoneSplit | 50 |
ParametricShadows | 0 |
ParametricShadowSplit | 25 |
PerspectiveHorizontal | 0 |
PerspectiveRotate | 0.0 |
PerspectiveScale | 100 |
PerspectiveVertical | 0 |
PostCropVignetteAmount | 0 |
ProcessVersion | 6.7 |
ProfileDescription | sRGB IEC61966-2.1 |
ProjectName | |
RedHue | 0 |
RedSaturation | 0 |
Scene | |
SerialNumber | 5 |
Shadows2012 | 0 |
ShadowTint | 0 |
SharpenDetail | 25 |
SharpenEdgeMasking | 0 |
SharpenRadius | +1.0 |
Sharpness | 58 |
ShotName | |
Software | Adobe Photoshop Lightroom 4.1 (Macintosh) |
Source | /Volumes/gunleik_02/Suzana/A004_01018X.RDM/A004_C031_0101SM.RDC/A004_C031_0101SM_001.R3D |
SplitToningBalance | 0 |
SplitToningHighlightHue | 0 |
SplitToningHighlightSaturation | 0 |
SplitToningShadowHue | 0 |
SplitToningShadowSaturation | 0 |
StartTimecodeTimeFormat | 25 fps |
StartTimecodeTimeValue | 00:11:23:10 |
TakeNumber | 31 |
TapeName | A004_C031_0101SM |
Title | A004_C031_0101SM |
ToneCurveName2012 | Linear |
ToneCurvePV2012 | 0, 0, 255, 255 |
ToneCurvePV2012Blue | 0, 0, 255, 255 |
ToneCurvePV2012Green | 0, 0, 255, 255 |
ToneCurvePV2012Red | 0, 0, 255, 255 |
Version | 7.1 |
VideoCompressor | REDcode 3:1 |
VideoFrameRate | 25 |
VideoFrameSizeH | 2700 |
VideoFrameSizeUnit | pixels |
VideoFrameSizeW | 5120 |
VignetteAmount | 0 |
WhiteBalance | As Shot |
Whites2012 | +20 |