Felt | Verdi |
AlreadyApplied | True |
Aperture | 8.0 |
ApertureValue | 8.0 |
Artist | Ivan Holmedal |
AutoLateralCA | 0 |
BitsPerSample | 8 |
Blacks2012 | -92 |
BlueHue | 0 |
BlueSaturation | 0 |
Brightness | +50 |
By-line | Ivan Holmedal |
CameraProfile | Adobe Standard |
CircleOfConfusion | 0.030 mm |
Clarity | 0 |
Clarity2012 | 0 |
ColorComponents | 1 |
ColorNoiseReduction | 25 |
ColorNoiseReductionDetail | 50 |
ColorTemperature | 5500 |
Contrast | +25 |
Contrast2012 | +71 |
ConvertToGrayscale | True |
CreateDate | 2008:06:25 10:55:28 |
Creator | Ivan Holmedal |
CreatorTool | Adobe Photoshop Lightroom 4.0 (Windows) |
CropAngle | 5.00161 |
CropBottom | 0.724725 |
CropConstrainToWarp | 0 |
CropHeight | 768 |
CropLeft | 0.327564 |
CropRight | 0.732951 |
CropTop | 0 |
CropUnit | pixels |
CropWidth | 768 |
CustomRendered | Normal |
DateCreated (1) | 2008:06:25 |
DateCreated | 2008:06:25 10:55:28 |
DateTimeOriginal | 2008:06:25 10:55:28 |
Defringe | 0 |
DerivedFrom | |
Exposure | 0.00 |
Exposure2012 | 0.00 |
ExposureCompensation | 0 |
ExposureMode | Manual |
ExposureProgram | Manual |
ExposureTime | 1/1600 |
FillLight | 0 |
Firmware | 1.1.0 |
Flash | Off, Did not fire |
FlashCompensation | 0 |
FNumber | 8.0 |
FocalLength | 320.0 mm |
FocalLength35efl | 320.0 mm (35 mm equivalent: 320.7 mm) |
Format | image/jpeg |
FOV | 6.4 deg |
GrainAmount | 0 |
GrayMixerAqua | -19 |
GrayMixerBlue | +10 |
GrayMixerGreen | -27 |
GrayMixerMagenta | +6 |
GrayMixerOrange | -18 |
GrayMixerPurple | +17 |
GrayMixerRed | -8 |
GrayMixerYellow | -22 |
GreenHue | 0 |
GreenSaturation | 0 |
HasCrop | True |
HasSettings | True |
HighlightRecovery | 0 |
Highlights2012 | +15 |
HyperfocalDistance | 426.89 m |
ImageHeight | 768 |
ImageNumber | 7 |
ImageSize | 768x768 |
ImageWidth | 768 |
ISO | 320 |
Lens | EF100-400mm f/4.5-5.6L IS USM |
LensID (1) | 183 |
LensID | Canon EF 100-400mm f/4.5-5.6L IS USM |
LensInfo | 100-400mm f/? |
LensManualDistortionAmount | 0 |
LensModel | EF100-400mm f/4.5-5.6L IS USM |
LensProfileEnable | 0 |
LensProfileSetup | LensDefaults |
LightValue | 15.0 |
LuminanceNoiseReductionContrast | 0 |
LuminanceNoiseReductionDetail | 50 |
LuminanceSmoothing | 29 |
Make | Canon |
MaxApertureValue | 5.7 |
Megapixels | 0.590 |
MeteringMode | Multi-segment |
Model | Canon EOS 5D |
ModifyDate (1) | 2012:05:22 23:00:13+02:00 |
ModifyDate | 2012:05:22 23:00:13 |
OwnerName | Ivan Holmedal |
PaintCorrectionActive | true |
PaintCorrectionAmount | 1.000000 |
PaintCorrectionBrightness | 0.000000 |
PaintCorrectionClarity2012 | 1.000000 |
PaintCorrectionContrast2012 | 0.615820 |
PaintCorrectionExposure2012 | 0.000000 |
PaintCorrectionHighlights2012 | 0.000000 |
PaintCorrectionHue | 0.000000 |
PaintCorrectionLuminanceNoise | 0.000000 |
PaintCorrectionMaskCenterWeight | 0.000000 |
PaintCorrectionMaskFlow | 0.400000 |
PaintCorrectionMaskRadius | 0.051809 |
PaintCorrectionMaskValue | 1.000000 |
PaintCorrectionMaskWhat | Mask/Paint |
PaintCorrectionMoire | 0.000000 |
PaintCorrectionSaturation | 0.000000 |
PaintCorrectionShadows2012 | -0.819210 |
PaintCorrectionSharpness | 0.033110 |
PaintCorrectionTemperature | 0.000000 |
PaintCorrectionTint | 0.000000 |
PaintCorrectionWhat | Correction |
ParametricDarks | 0 |
ParametricHighlights | 0 |
ParametricHighlightSplit | 75 |
ParametricLights | +4 |
ParametricMidtoneSplit | 50 |
ParametricShadows | -10 |
ParametricShadowSplit | 25 |
PerspectiveHorizontal | 0 |
PerspectiveRotate | 0.0 |
PerspectiveScale | 100 |
PerspectiveVertical | 0 |
PostCropVignetteAmount | 0 |
ProcessVersion | 6.7 |
ProfileDescription | sRGB IEC61966-2.1 |
Rating | 4 |
RedHue | 0 |
RedSaturation | 0 |
ScaleFactor35efl | 1.0 |
SceneCaptureType | Standard |
SerialNumber | 1731205755 |
Shadows | 5 |
Shadows2012 | +16 |
ShadowTint | 0 |
SharpenDetail | 40 |
SharpenEdgeMasking | 0 |
SharpenRadius | +1.0 |
Sharpness | 61 |
ShutterSpeed | 1/1600 |
ShutterSpeedValue | 1/1600 |
Software | Adobe Photoshop Lightroom 4.0 (Windows) |
SplitToningBalance | 0 |
SplitToningHighlightHue | 0 |
SplitToningHighlightSaturation | 0 |
SplitToningShadowHue | 0 |
SplitToningShadowSaturation | 0 |
Tint | -5 |
ToneCurve | 0, 0, 255, 255 |
ToneCurveBlue | 0, 0, 255, 255 |
ToneCurveGreen | 0, 0, 255, 255 |
ToneCurveName | Linear |
ToneCurveName2012 | Linear |
ToneCurvePV2012 | 0, 0, 255, 255 |
ToneCurvePV2012Blue | 0, 0, 255, 255 |
ToneCurvePV2012Green | 0, 0, 255, 255 |
ToneCurvePV2012Red | 0, 0, 255, 255 |
ToneCurveRed | 0, 0, 255, 255 |
Version | 7.0 |
VignetteAmount | 0 |
WhiteBalance (1) | As Shot |
WhiteBalance | Auto |
Whites2012 | 0 |