Felt | Verdi |
AlreadyApplied | True |
Aperture | 3.5 |
ApertureValue | 3.5 |
ApproximateFocusDistance | 2.99 |
Artist | Ruben Johnsen |
BitsPerSample | 8 |
BlueHue | 0 |
BlueSaturation | 0 |
Brightness | +50 |
By-line | Ruben Johnsen |
CameraProfile | Camera Portrait |
CFAPattern | [Red,Green][Green,Blue] |
ChromaticAberrationB | 0 |
ChromaticAberrationR | 0 |
CircleOfConfusion | 0.030 mm |
Clarity | 0 |
ColorComponents | 3 |
ColorNoiseReduction | 25 |
ColorNoiseReductionDetail | 50 |
ColorTemperature | 5486 |
Contrast (1) | +25 |
Contrast | Normal |
ConvertToGrayscale | False |
Copyright | Ruben Johnsen |
CopyrightNotice | Ruben Johnsen |
CreateDate (1) | 2012:05:13 15:01:41.65 |
CreateDate | 2012:05:13 15:01:41 |
Creator | Ruben Johnsen |
CreatorAddress | Planetveien 357 |
CreatorTool | Adobe Photoshop Lightroom 3.5 (Macintosh) |
CreatorWorkEmail | rubenfoto@hotmail.no |
CreatorWorkTelephone | 47859511 |
CropAngle | -0.076874 |
CropBottom | 0.980442 |
CropConstrainToWarp | 0 |
CropHeight | 623 |
CropLeft | 0.065649 |
CropRight | 0.892687 |
CropTop | 0.227032 |
CropUnit | pixels |
CropWidth | 1024 |
CustomRendered | Normal |
DateCreated (1) | 2012:05:13 |
DateCreated | 2012:05:13 15:01:41.65 |
DateTimeOriginal | 2012:05:13 15:01:41 |
Defringe | 0 |
DigitalZoomRatio | 1 |
DOF | 0.019 m (2.981 - 2.999 m) |
Exposure | 0.00 |
ExposureCompensation | +1/3 |
ExposureMode | Auto |
ExposureProgram | Aperture-priority AE |
ExposureTime | 1/8000 |
FillLight | 0 |
Flash | No Flash |
FNumber | 3.5 |
FocalLength | 300.0 mm |
FocalLength35efl | 300.0 mm (35 mm equivalent: 300.0 mm) |
FocalLengthIn35mmFormat | 300 mm |
FOV | 6.9 deg |
GainControl | High gain up |
GrainAmount | 0 |
GreenHue | 0 |
GreenSaturation | 0 |
HasCrop | True |
HasSettings | True |
HighlightRecovery | 15 |
HueAdjustmentAqua | 0 |
HueAdjustmentBlue | -17 |
HueAdjustmentGreen | 0 |
HueAdjustmentMagenta | 0 |
HueAdjustmentOrange | 0 |
HueAdjustmentPurple | 0 |
HueAdjustmentRed | 0 |
HueAdjustmentYellow | 0 |
HyperfocalDistance | 855.82 m |
ImageHeight | 623 |
ImageNumber | 36363 |
ImageSize | 1024x623 |
ImageWidth | 1024 |
ISO | 1000 |
Lens | 300.0 mm f/2.8 |
LensID (1) | 109 |
LensID | AF-S Nikkor 300mm f/2.8D IF-ED II |
LensInfo | 300mm f/2.8 |
LensManualDistortionAmount | 0 |
LensModel | 300.0 mm f/2.8 |
LensProfileEnable | 0 |
LensProfileSetup | LensDefaults |
LightSource | Unknown |
LightValue | 13.3 |
LuminanceAdjustmentAqua | 0 |
LuminanceAdjustmentBlue | 0 |
LuminanceAdjustmentGreen | 0 |
LuminanceAdjustmentMagenta | 0 |
LuminanceAdjustmentOrange | 0 |
LuminanceAdjustmentPurple | 0 |
LuminanceAdjustmentRed | 0 |
LuminanceAdjustmentYellow | 0 |
LuminanceSmoothing | 0 |
Make | NIKON CORPORATION |
MaxApertureValue | 2.8 |
Megapixels | 0.638 |
MeteringMode | Center-weighted average |
Model | NIKON D3 |
ModifyDate (1) | 2012:05:14 20:48:07+02:00 |
ModifyDate | 2012:05:14 20:48:07 |
PaintCorrectionActive | true |
PaintCorrectionAmount | 1.000000 |
PaintCorrectionBrightness | -0.005267 |
PaintCorrectionClarity | 0.011489 |
PaintCorrectionContrast | 0.029596 |
PaintCorrectionExposure (1) | 0.226562 |
PaintCorrectionExposure (2) | 0.186029 |
PaintCorrectionExposure (3) | 0.081066 |
PaintCorrectionExposure (4) | 0.138235 |
PaintCorrectionExposure | -0.019669 |
PaintCorrectionHue | 0.000000 |
PaintCorrectionMaskCenterWeight | 0.152920 |
PaintCorrectionMaskFlow | 0.590036 |
PaintCorrectionMaskRadius (1) | 0.024219 |
PaintCorrectionMaskRadius (2) | 0.030825 |
PaintCorrectionMaskRadius (3) | 0.123120 |
PaintCorrectionMaskRadius (4) | 0.160657 |
PaintCorrectionMaskRadius (5) | 0.037875 |
PaintCorrectionMaskRadius | 0.164180 |
PaintCorrectionMaskValue | 1.000000 |
PaintCorrectionMaskWhat | Mask/Paint |
PaintCorrectionSaturation (3) | 0.070588 |
PaintCorrectionSaturation | 0.000000 |
PaintCorrectionSharpness (3) | 0.280790 |
PaintCorrectionSharpness | 0.032353 |
PaintCorrectionWhat | Correction |
ParametricDarks | 0 |
ParametricHighlights | 0 |
ParametricHighlightSplit | 75 |
ParametricLights | 0 |
ParametricMidtoneSplit | 50 |
ParametricShadows | 0 |
ParametricShadowSplit | 25 |
PerspectiveHorizontal | 0 |
PerspectiveRotate | 0.0 |
PerspectiveScale | 100 |
PerspectiveVertical | 0 |
PostCropVignetteAmount | 0 |
ProcessVersion | 5.7 |
ProfileDescription | sRGB IEC61966-2.1 |
RedHue | 0 |
RedSaturation | 0 |
Rights | Ruben Johnsen |
Saturation (1) | +8 |
Saturation | Normal |
SaturationAdjustmentAqua | 0 |
SaturationAdjustmentBlue | 0 |
SaturationAdjustmentGreen | 0 |
SaturationAdjustmentMagenta | 0 |
SaturationAdjustmentOrange | 0 |
SaturationAdjustmentPurple | 0 |
SaturationAdjustmentRed | 0 |
SaturationAdjustmentYellow | 0 |
ScaleFactor35efl | 1.0 |
SceneCaptureType | Standard |
SceneType | Directly photographed |
SensingMethod | One-chip color area |
SerialNumber | 2059492 |
Shadows | 5 |
ShadowTint | 0 |
SharpenDetail | 25 |
SharpenEdgeMasking | 0 |
SharpenRadius | +1.1 |
Sharpness (1) | 61 |
Sharpness | Normal |
ShutterSpeed | 1/8000 |
ShutterSpeedValue | 1/8000 |
Software | Adobe Photoshop Lightroom 3.5 (Macintosh) |
SplitToningBalance | 0 |
SplitToningHighlightHue | 0 |
SplitToningHighlightSaturation | 0 |
SplitToningShadowHue | 0 |
SplitToningShadowSaturation | 0 |
SubjectDistance | 2.99 m |
SubjectDistanceRange | Unknown |
Tint | -10 |
ToneCurve | 0, 0, 32, 22, 64, 56, 128, 128, 192, 196, 255, 255 |
ToneCurveName | Medium Contrast |
Version | 6.5 |
Vibrance | +36 |
VignetteAmount | 0 |
WhiteBalance (1) | Custom |
WhiteBalance | Auto |