Felt | Verdi |
AlreadyApplied | True |
Aperture | 2.8 |
ApertureValue | 2.8 |
ApproximateFocusDistance | 4.57 |
Artist | Per Ole Hagen |
BitsPerSample (1) | 8 8 8 |
BitsPerSample | 8 |
BlueHue | 0 |
BlueSaturation | 0 |
Brightness | +126 |
By-line | Per Ole Hagen |
CameraProfile | Adobe Standard |
ChromaticAberrationB | 0 |
ChromaticAberrationR | 0 |
CircleOfConfusion | 0.019 mm |
Clarity | +43 |
ColorComponents | 1 |
ColorMode | RGB |
ColorNoiseReduction | 25 |
ColorNoiseReductionDetail | 50 |
ColorSpace | Uncalibrated |
ColorTemperature | 8800 |
Contrast | +20 |
ConvertToGrayscale | False |
Copyright | © Per Ole Hagen, artist-pictures.com |
CopyrightFlag | True |
CopyrightNotice | © Per Ole Hagen, artist-pictures.com |
CreateDate (1) | 2012:03:18 02:17:11.17-05:00 |
CreateDate | 2012:03:18 02:17:11 |
Creator | Per Ole Hagen |
CreatorTool | Adobe Photoshop CS5 Macintosh |
CropAngle | 0 |
CropBottom | 0.986999 |
CropConstrainToWarp | 1 |
CropLeft | 0.017291 |
CropRight | 0.912105 |
CropTop | 0.089776 |
CustomRendered | Normal |
DateCreated (1) | 2012:03:18 |
DateCreated | 2012:03:18 02:17:11.017 |
DateTimeOriginal | 2012:03:18 02:17:11 |
Defringe | 0 |
DOF | 0.10 m (4.52 - 4.62 m) |
ExifImageHeight | 595 |
ExifImageWidth | 900 |
Exposure | -0.45 |
ExposureCompensation | 0 |
ExposureMode | Manual |
ExposureProgram | Manual |
ExposureTime | 1/160 |
FillLight | 10 |
Firmware | 1.1.0 |
Flash | Off, Did not fire |
FlashCompensation | 0 |
FNumber | 2.8 |
FocalLength | 150.0 mm |
FocalLength35efl | 150.0 mm (35 mm equivalent: 235.5 mm) |
Format | image/jpeg |
FOV | 8.7 deg |
GrainAmount | 0 |
GreenHue | 0 |
GreenSaturation | 0 |
HasCrop | True |
HasSettings | True |
HighlightRecovery | 0 |
HueAdjustmentAqua | 0 |
HueAdjustmentBlue | 0 |
HueAdjustmentGreen | 0 |
HueAdjustmentMagenta | 0 |
HueAdjustmentOrange | -5 |
HueAdjustmentPurple | 0 |
HueAdjustmentRed | 0 |
HueAdjustmentYellow | 0 |
HyperfocalDistance | 419.98 m |
ICCProfileName | Adobe RGB (1998) |
ImageHeight (1) | 3101 |
ImageHeight | 595 |
ImageNumber | 0 |
ImageSize | 900x595 |
ImageWidth (1) | 4639 |
ImageWidth | 900 |
ISO | 2000 |
Lens | EF70-200mm f/2.8L IS USM |
LensID (1) | 224 |
LensID | Canon EF 70-200mm f/2.8L IS USM |
LensInfo | 70-200mm f/? |
LensManualDistortionAmount | 0 |
LensModel | EF70-200mm f/2.8L IS USM |
LensProfileEnable | 0 |
LensProfileSetup | LensDefaults |
LightValue | 6.0 |
LuminanceAdjustmentAqua | 0 |
LuminanceAdjustmentBlue | 0 |
LuminanceAdjustmentGreen | 0 |
LuminanceAdjustmentMagenta | -19 |
LuminanceAdjustmentOrange | +14 |
LuminanceAdjustmentPurple | -18 |
LuminanceAdjustmentRed | 0 |
LuminanceAdjustmentYellow | 0 |
LuminanceSmoothing | 0 |
Make | Canon |
Marked | True |
MaxApertureValue | 2.8 |
Megapixels | 0.535 |
MeteringMode | Multi-segment |
Model | Canon EOS 7D |
ModifyDate (1) | 2012:04:26 00:20:18+02:00 |
ModifyDate | 2012:04:26 00:20:18 |
Orientation | Horizontal (normal) |
ParametricDarks | 0 |
ParametricHighlights | 0 |
ParametricHighlightSplit | 75 |
ParametricLights | 0 |
ParametricMidtoneSplit | 50 |
ParametricShadows | 0 |
ParametricShadowSplit | 25 |
PerspectiveHorizontal | 0 |
PerspectiveRotate | 0.0 |
PerspectiveScale | 100 |
PerspectiveVertical | 0 |
PhotometricInterpretation | RGB |
PostCropVignetteAmount | 0 |
ProcessVersion | 5.7 |
ProfileDescription | Adobe RGB (1998) |
Rating | 0 |
RawFileName | _MG_2053.CR2 |
RedHue | 0 |
RedSaturation | 0 |
Rights | © Per Ole Hagen, artist-pictures.com |
Saturation | -27 |
SaturationAdjustmentAqua | 0 |
SaturationAdjustmentBlue | -32 |
SaturationAdjustmentGreen | 0 |
SaturationAdjustmentMagenta | -28 |
SaturationAdjustmentOrange | -85 |
SaturationAdjustmentPurple | -23 |
SaturationAdjustmentRed | -16 |
SaturationAdjustmentYellow | -45 |
ScaleFactor35efl | 1.6 |
SceneCaptureType | Standard |
SensitivityType | Unknown |
SerialNumber | 280103951 |
Shadows | 7 |
ShadowTint | 0 |
SharpenDetail | 25 |
SharpenEdgeMasking | 0 |
SharpenRadius | +1.0 |
Sharpness | 25 |
ShutterSpeed | 1/160 |
ShutterSpeedValue | 1/160 |
Software | Adobe Photoshop CS5 Macintosh |
SplitToningBalance | 0 |
SplitToningHighlightHue | 0 |
SplitToningHighlightSaturation | 0 |
SplitToningShadowHue | 0 |
SplitToningShadowSaturation | 0 |
SubjectDistance | 4.57 m |
Tint | -22 |
ToneCurve | 0, 0, 32, 22, 64, 56, 128, 128, 192, 196, 255, 255 |
ToneCurveName | Medium Contrast |
URL_List | |
UsageTerms | |
Version | 6.2 |
Vibrance | +9 |
VignetteAmount | 0 |
WhiteBalance (1) | Custom |
WhiteBalance | Auto |