Felt | Verdi |
AlreadyApplied | True |
Aperture | 7.1 |
ApertureValue | 7.1 |
BitsPerSample | 8 |
BlueHue | 0 |
BlueSaturation | 0 |
Brightness | +54 |
CameraProfile | Adobe Standard |
ChromaticAberrationB | 0 |
ChromaticAberrationR | 0 |
CircleOfConfusion | 0.027 mm |
Clarity | 0 |
ColorComponents | 3 |
ColorNoiseReduction | 25 |
ColorNoiseReductionDetail | 50 |
ColorTemperature | 4400 |
Contrast | +51 |
ConvertToGrayscale | False |
CreateDate (1) | 2012:04:16 12:06:26.72+02:00 |
CreateDate | 2012:04:16 12:06:26 |
CreatorTool | Adobe Photoshop Lightroom |
CropAngle | 2.97906 |
CropBottom | 0.812268 |
CropConstrainToWarp | 0 |
CropHeight | 631 |
CropLeft | 0.02113 |
CropRight | 0.795673 |
CropTop | 0.162773 |
CropUnit | pixels |
CropWidth | 1280 |
CustomRendered | Normal |
DateTimeDigitized | 2012:04:16 12:06:26.72+02:00 |
DateTimeOriginal (1) | 2012:04:16 12:06:26.72+02:00 |
DateTimeOriginal | 2012:04:16 12:06:26 |
Defringe | 0 |
DOF | 2.76 m (24.20 - 26.95 m) |
ExifImageHeight | 631 |
ExifImageWidth | 1280 |
Exposure | +0.30 |
ExposureCompensation | 0 |
ExposureMode | Manual |
ExposureProgram | Manual |
ExposureTime | 1/40 |
FillLight | 0 |
Firmware | 1.1.0 |
Flash | No Flash |
FlashCompensation | 0 |
FlashFired | False |
FlashFunction | False |
FlashMode | Unknown |
FlashRedEyeMode | False |
FlashReturn | No return detection |
FNumber | 7.1 |
FocalLength | 300.0 mm |
FocalLength35efl | 300.0 mm (35 mm equivalent: 332.4 mm) |
FOV | 6.2 deg |
GrainAmount | 0 |
GreenHue | 0 |
GreenSaturation | 0 |
HasCrop | True |
HasSettings | True |
HighlightRecovery | 0 |
HueAdjustmentAqua | 0 |
HueAdjustmentBlue | 0 |
HueAdjustmentGreen | 0 |
HueAdjustmentMagenta | 0 |
HueAdjustmentOrange | 0 |
HueAdjustmentPurple | 0 |
HueAdjustmentRed | 0 |
HueAdjustmentYellow | 0 |
HyperfocalDistance | 467.50 m |
ImageHeight | 631 |
ImageNumber | 0 |
ImageSize | 1280x631 |
ImageWidth | 1280 |
ISO | 250 |
Lens | EF300mm f/2.8L IS USM |
LensID (1) | 142 |
LensID | Canon EF 300mm f/2.8L IS USM |
LensInfo | 300mm f/? |
LensManualDistortionAmount | 0 |
LensProfileEnable | 0 |
LensProfileSetup | LensDefaults |
LightValue | 9.7 |
LuminanceAdjustmentAqua | 0 |
LuminanceAdjustmentBlue | 0 |
LuminanceAdjustmentGreen | 0 |
LuminanceAdjustmentMagenta | 0 |
LuminanceAdjustmentOrange | 0 |
LuminanceAdjustmentPurple | 0 |
LuminanceAdjustmentRed | 0 |
LuminanceAdjustmentYellow | 0 |
LuminanceNoiseReductionContrast | 0 |
LuminanceNoiseReductionDetail | 50 |
LuminanceSmoothing | 40 |
Make | Canon |
MaxApertureValue | 2.8 |
Megapixels | 0.808 |
MeteringMode | Multi-segment |
Model | Canon EOS-1D Mark IV |
ModifyDate (1) | 2012:04:25 14:28:11+02:00 |
ModifyDate | 2012:04:25 14:28:11 |
ParametricDarks | 0 |
ParametricHighlights | +64 |
ParametricHighlightSplit | 75 |
ParametricLights | +2 |
ParametricMidtoneSplit | 50 |
ParametricShadows | 0 |
ParametricShadowSplit | 25 |
PerspectiveHorizontal | 0 |
PerspectiveRotate | 0.0 |
PerspectiveScale | 100 |
PerspectiveVertical | 0 |
PostCropVignetteAmount | 0 |
ProcessVersion | 5.7 |
ProfileDescription | sRGB IEC61966-2.1 |
RedHue | 0 |
RedSaturation | 0 |
Saturation | 0 |
SaturationAdjustmentAqua | 0 |
SaturationAdjustmentBlue | 0 |
SaturationAdjustmentGreen | 0 |
SaturationAdjustmentMagenta | 0 |
SaturationAdjustmentOrange | 0 |
SaturationAdjustmentPurple | 0 |
SaturationAdjustmentRed | 0 |
SaturationAdjustmentYellow | 0 |
ScaleFactor35efl | 1.1 |
SceneCaptureType | Standard |
SerialNumber | 630500134 |
Shadows | 5 |
ShadowTint | 0 |
SharpenDetail | 25 |
SharpenEdgeMasking | 0 |
SharpenRadius | +1.0 |
Sharpness | 80 |
ShutterSpeed | 1/40 |
ShutterSpeedValue | 1/40 |
SplitToningBalance | 0 |
SplitToningHighlightHue | 0 |
SplitToningHighlightSaturation | 0 |
SplitToningShadowHue | 0 |
SplitToningShadowSaturation | 0 |
SubjectDistance | 25.5 m |
Tint | +17 |
ToneCurve | 0, 0, 32, 22, 64, 56, 128, 128, 192, 196, 255, 255 |
ToneCurveName | Medium Contrast |
Version | 6.1 |
Vibrance | 0 |
VignetteAmount | 0 |
WhiteBalance (2) | As Shot |
WhiteBalance | Auto |