Felt | Verdi |
AlreadyApplied | True |
Aperture | 5.6 |
ApertureValue | 5.6 |
ApproximateFocusDistance | 4294967295 |
Artist | Jon Rune Trengereid |
AuthorsPosition | Photographer |
AutoLateralCA | 1 |
BitsPerSample | 8 |
Blacks2012 | -57 |
BlueHue | 0 |
BlueSaturation | 0 |
Brightness | +4 |
By-line | Jon Rune Trengereid |
By-lineTitle | Photographer |
CameraProfile | Camera Standard |
Clarity | +43 |
Clarity2012 | +43 |
ColorComponents | 1 |
ColorNoiseReduction | 25 |
ColorNoiseReductionDetail | 50 |
ColorTemperature | 6766 |
Contrast | +72 |
Contrast2012 | +63 |
ConvertToGrayscale | True |
Copyright | Fotograf Jon Rune Trengereid |
CopyrightFlag | True |
CopyrightNotice | Fotograf Jon Rune Trengereid |
Creator | Jon Rune Trengereid |
CreatorAddress | Fredrik Borgensveg 19 |
CreatorCity | Borgen |
CreatorCountry | Norway |
CreatorPostalCode | 2040 |
CreatorRegion | Akershus |
CreatorTool | Adobe Photoshop Lightroom 4.0 (Macintosh) |
CreatorWorkEmail | jonrune@optimofoto.com |
CreatorWorkTelephone | +47 45 80 40 50 |
CreatorWorkURL | www.optimofoto.com |
CropAngle | -0.012779 |
CropBottom | 0.980507 |
CropConstrainToWarp | 0 |
CropHeight | 592 |
CropLeft | 0 |
CropRight | 1 |
CropTop | 0.323027 |
CropUnit | pixels |
CropWidth | 1200 |
DateCreated (1) | 2012:01:06 |
DateCreated | 2012:01:06 11:59:21 |
DateTimeOriginal | 2012:01:06 11:59:21 |
Defringe | 0 |
Exposure | -0.70 |
Exposure2012 | -1.14 |
ExposureProgram | Manual |
ExposureTime | 1/60 |
FillLight | 24 |
FNumber | 5.6 |
FocalLength | 35.0 mm |
FocalLength35efl | 35.0 mm |
Format | image/jpeg |
GradientBasedCorrActive | true |
GradientBasedCorrAmount | 1.000000 |
GradientBasedCorrBrightness (1) | -0.212734 |
GradientBasedCorrBrightness | 0.218594 |
GradientBasedCorrClarity | 0.000000 |
GradientBasedCorrClarity2012 | 0.000000 |
GradientBasedCorrContrast | 0.000000 |
GradientBasedCorrContrast2012 | 0.000000 |
GradientBasedCorrExposure (1) | -0.091094 |
GradientBasedCorrExposure | 0.198594 |
GradientBasedCorrExposure2012 (1) | -0.303828 |
GradientBasedCorrExposure2012 | 0.417188 |
GradientBasedCorrHighlights2012 | 0.000000 |
GradientBasedCorrHue | 0.000000 |
GradientBasedCorrLuminanceNoise | 0.000000 |
GradientBasedCorrMaskFullX (1) | 0.484779 |
GradientBasedCorrMaskFullX | 0.491995 |
GradientBasedCorrMaskFullY (1) | 0.486321 |
GradientBasedCorrMaskFullY | 0.660108 |
GradientBasedCorrMaskValue | 1.000000 |
GradientBasedCorrMaskWhat | Mask/Gradient |
GradientBasedCorrMaskZeroX (1) | 0.484383 |
GradientBasedCorrMaskZeroX | 0.492968 |
GradientBasedCorrMaskZeroY (1) | 0.623030 |
GradientBasedCorrMaskZeroY | 0.444444 |
GradientBasedCorrMoire | 0.000000 |
GradientBasedCorrSaturation (1) | -0.446797 |
GradientBasedCorrSaturation | 0.000000 |
GradientBasedCorrShadows2012 | 0.000000 |
GradientBasedCorrSharpness | 0.000000 |
GradientBasedCorrTemperature | 0.000000 |
GradientBasedCorrTint | 0.000000 |
GradientBasedCorrWhat | Correction |
GrainAmount | 0 |
GrayMixerAqua | 0 |
GrayMixerBlue | 0 |
GrayMixerGreen | -3 |
GrayMixerMagenta | 0 |
GrayMixerOrange | 0 |
GrayMixerPurple | 0 |
GrayMixerRed | 0 |
GrayMixerYellow | +26 |
GreenHue | 0 |
GreenSaturation | 0 |
HasCrop | True |
HasSettings | True |
HighlightRecovery | 0 |
Highlights2012 | -12 |
ImageHeight | 592 |
ImageSize | 1200x592 |
ImageWidth | 1200 |
ISO | 100 |
Lens | HCD 35-90 |
LensManualDistortionAmount | 0 |
LensModel | HCD 35-90 |
LensProfileChromaticAberrationScale | 100 |
LensProfileDistortionScale | 100 |
LensProfileEnable | 1 |
LensProfileFilename | Hasselblad (Hasselblad HCD 4-5.6_35-90) - RAW.lcp |
LensProfileName | Adobe (Hasselblad HCD 4-5.6/35-90) |
LensProfileSetup | LensDefaults |
LensProfileVignettingScale | 100 |
LightValue | 10.9 |
LuminanceSmoothing | 0 |
Make | Hasselblad |
Marked | True |
Megapixels | 0.710 |
MeteringMode | Center-weighted average |
Model | Hasselblad H4D |
ModifyDate (1) | 2012:01:13 00:04:27+01:00 |
ModifyDate | 2012:01:13 00:04:27 |
ParametricDarks | -26 |
ParametricHighlights | +9 |
ParametricHighlightSplit | 75 |
ParametricLights | -25 |
ParametricMidtoneSplit | 50 |
ParametricShadows | -18 |
ParametricShadowSplit | 25 |
PerspectiveHorizontal | 0 |
PerspectiveRotate | 0.0 |
PerspectiveScale | 100 |
PerspectiveVertical | 0 |
PostCropVignetteAmount | 0 |
ProcessVersion | 6.6 |
ProfileDescription | sRGB IEC61966-2.1 |
RedHue | 0 |
RedSaturation | 0 |
Rights | Fotograf Jon Rune Trengereid |
Shadows | 21 |
Shadows2012 | +19 |
ShadowTint | 0 |
SharpenDetail | 25 |
SharpenEdgeMasking | 0 |
SharpenRadius | +1.0 |
Sharpness | 25 |
ShutterSpeed | 1/60 |
ShutterSpeedValue | 1/60 |
Software | Adobe Photoshop Lightroom 4.0 (Macintosh) |
SplitToningBalance | 0 |
SplitToningHighlightHue | 0 |
SplitToningHighlightSaturation | 0 |
SplitToningShadowHue | 0 |
SplitToningShadowSaturation | 0 |
SubjectDistance | 4294967295 m |
Tint | 0 |
ToneCurve | 0, 0, 32, 22, 64, 56, 128, 128, 192, 196, 255, 255 |
ToneCurveBlue | 0, 0, 255, 255 |
ToneCurveGreen | 0, 0, 255, 255 |
ToneCurveName | Medium Contrast |
ToneCurveName2012 | Linear |
ToneCurvePV2012 | 0, 0, 255, 255 |
ToneCurvePV2012Blue | 0, 0, 255, 255 |
ToneCurvePV2012Green | 0, 0, 255, 255 |
ToneCurvePV2012Red | 0, 0, 255, 255 |
ToneCurveRed | 0, 0, 255, 255 |
URL | www.optimofoto.com |
Version | 7.0 |
VignetteAmount | 0 |
WebStatement | www.optimofoto.com |
WhiteBalance | Custom |
Whites2012 | -43 |