Felt | Verdi |
AlreadyApplied | True |
Aperture | 6.3 |
ApertureValue | 6.3 |
ApproximateFocusDistance | 8.5 |
BitsPerSample | 8 |
BlueBalance | 0.663043 |
BlueHue | 0 |
BlueSaturation | 0 |
Brightness | +6 |
CameraProfile | Adobe Standard |
ChromaticAberrationB | 0 |
ChromaticAberrationR | 0 |
CircleOfConfusion | 0.020 mm |
Clarity | 0 |
ColorComponents | 3 |
ColorNoiseReduction | 25 |
ColorNoiseReductionDetail | 50 |
ColorTemperature | 4850 |
Contrast (1) | +53 |
Contrast | Normal |
ConvertToGrayscale | False |
CreateDate | 2012:01:17 10:06:01 |
CreatorTool | Adobe Photoshop Lightroom 3.6 (Windows) |
CustomRendered | Custom |
DateCreated (1) | 2012:01:17 |
DateCreated | 2012:01:17 10:06:01 |
DateTimeOriginal | 2012:01:17 10:06:01 |
Defringe | 0 |
DigitalZoomRatio | 1 |
DOF | inf (2.98 m - inf) |
Exposure | 0.00 |
ExposureCompensation | 0 |
ExposureMode | Program AE |
ExposureProgram | Program AE |
ExposureTime | 1/800 |
FileIndex | 1539 |
FillLight | 0 |
FilmMode | Natural |
Flash | Off, Did not fire |
FNumber | 6.3 |
FocalLength | 24.0 mm |
FocalLength35efl | 24.0 mm (35 mm equivalent: 36.0 mm) |
FocalLengthIn35mmFormat | 36 mm |
FocusDistance | 8.5 m |
Format | image/jpeg |
FOV | 53.0 deg (8.48 m) |
GrainAmount | 0 |
GreenHue | 0 |
GreenSaturation | 0 |
HasCrop | False |
HasSettings | True |
HighlightRecovery | 11 |
HueAdjustmentAqua | 0 |
HueAdjustmentBlue | 0 |
HueAdjustmentGreen | 0 |
HueAdjustmentMagenta | 0 |
HueAdjustmentOrange | 0 |
HueAdjustmentPurple | 0 |
HueAdjustmentRed | 0 |
HueAdjustmentYellow | 0 |
HyperfocalDistance | 4.56 m |
ImageHeight | 2856 |
ImageSize | 4272x2856 |
ImageWidth | 4272 |
InternalSerialNumber | 000000000000 |
ISO | 400 |
Keywords | Fornebu, Soloppgang |
Lens | 24.0 mm f/2.8 |
LensInfo | 24mm f/2.8 |
LensManualDistortionAmount | 0 |
LensModel | 24.0 mm f/2.8 |
LensProfileEnable | 0 |
LensProfileSetup | LensDefaults |
LightSource | Unknown |
LightValue | 13.0 |
LuminanceAdjustmentAqua | -2 |
LuminanceAdjustmentBlue | -53 |
LuminanceAdjustmentGreen | 0 |
LuminanceAdjustmentMagenta | 0 |
LuminanceAdjustmentOrange | 0 |
LuminanceAdjustmentPurple | 0 |
LuminanceAdjustmentRed | 0 |
LuminanceAdjustmentYellow | 0 |
LuminanceSmoothing | 0 |
Make | LEICA CAMERA AG |
MakerNoteSafety | Safe |
MaxApertureValue | 2.8 |
Megapixels | 12.2 |
MeteringMode | Multi-segment |
Model | LEICA X1 |
ModifyDate (1) | 2012:01:17 10:11:43+01:00 |
ModifyDate | 2012:01:17 10:11:43 |
OriginalDirectory | 102LEICA |
OriginalFileName | L1021539.DNG |
ParametricDarks | -5 |
ParametricHighlights | 0 |
ParametricHighlightSplit | 75 |
ParametricLights | +20 |
ParametricMidtoneSplit | 50 |
ParametricShadows | 0 |
ParametricShadowSplit | 25 |
PerspectiveHorizontal | 0 |
PerspectiveRotate | 0.0 |
PerspectiveScale | 100 |
PerspectiveVertical | 0 |
PostCropVignetteAmount | 0 |
ProcessVersion | 5.7 |
ProfileDescription | sRGB IEC61966-2.1 |
RedBalance | 0.54343 |
RedHue | 0 |
RedSaturation | 0 |
Saturation (1) | 0 |
Saturation | Normal |
SaturationAdjustmentAqua | 0 |
SaturationAdjustmentBlue | 0 |
SaturationAdjustmentGreen | 0 |
SaturationAdjustmentMagenta | 0 |
SaturationAdjustmentOrange | 0 |
SaturationAdjustmentPurple | 0 |
SaturationAdjustmentRed | 0 |
SaturationAdjustmentYellow | 0 |
ScaleFactor35efl | 1.5 |
SceneCaptureType | Landscape |
SensingMethod | One-chip color area |
SerialNumber | 000003813044 |
Shadows | 4 |
ShadowTint | 0 |
SharpenDetail | 25 |
SharpenEdgeMasking | 0 |
SharpenRadius | +1.0 |
Sharpness (1) | 25 |
Sharpness | Normal |
ShutterSpeed | 1/800 |
ShutterSpeedValue | 1/800 |
Software | Adobe Photoshop Lightroom 3.6 (Windows) |
SplitToningBalance | 0 |
SplitToningHighlightHue | 0 |
SplitToningHighlightSaturation | 0 |
SplitToningShadowHue | 0 |
SplitToningShadowSaturation | 0 |
Subject | Fornebu, Soloppgang |
SubjectDistance | 8.5 m |
Tint | +19 |
ToneCurve | 0, 0, 32, 22, 64, 56, 128, 128, 192, 196, 255, 255 |
ToneCurveName | Medium Contrast |
Version | 6.6 |
Vibrance | 0 |
VignetteAmount | 0 |
WB_RGBLevels | 0.570155902 1.049180328 0.6956521739 |
WhiteBalance (1) | As Shot |
WhiteBalance | Auto |