Felt | Verdi |
AlreadyApplied | True |
Aperture | 5.6 |
ApertureValue | 5.6 |
BitsPerSample | 8 |
BlueHue | 0 |
BlueSaturation | 0 |
Brightness | 0 |
CameraProfile | Embedded |
ChromaticAberrationB | 0 |
ChromaticAberrationR | 0 |
Clarity | +39 |
ColorComponents | 3 |
ColorNoiseReduction | 0 |
Contrast | -4 |
ConvertToGrayscale | False |
CreateDate (1) | 2011:12:30 16:19:40+01:00 |
CreateDate | 2011:12:30 16:19:40 |
CreatorTool | Adobe Photoshop Lightroom |
CropAngle | 0.5185 |
CropBottom | 0.861419 |
CropConstrainToWarp | 0 |
CropHeight | 1928 |
CropLeft | 0.108639 |
CropRight | 0.969885 |
CropTop | 0.054537 |
CropUnit | pixels |
CropWidth | 3150 |
DateTimeDigitized | 2011:12:30 16:19:40+01:00 |
DateTimeOriginal (1) | 2011:12:30 16:19:40+01:00 |
DateTimeOriginal | 2011:12:30 16:19:40 |
Defringe | 0 |
ExifImageHeight | 1928 |
ExifImageWidth | 3150 |
Exposure | -0.25 |
ExposureCompensation | 0 |
ExposureProgram | Manual |
ExposureTime | 1/8000 |
FillLight | 0 |
Flash | Off, Did not fire |
FlashFired | False |
FlashFunction | False |
FlashMode | Off |
FlashRedEyeMode | False |
FlashReturn | No return detection |
FNumber | 5.6 |
FocalLength | 125.0 mm |
FocalLength35efl | 125.0 mm |
GrainAmount | 0 |
GreenHue | 0 |
GreenSaturation | 0 |
HasCrop | True |
HasSettings | True |
HighlightRecovery | 0 |
HueAdjustmentAqua | 0 |
HueAdjustmentBlue | 0 |
HueAdjustmentGreen | 0 |
HueAdjustmentMagenta | 0 |
HueAdjustmentOrange | 0 |
HueAdjustmentPurple | 0 |
HueAdjustmentRed | 0 |
HueAdjustmentYellow | 0 |
ImageHeight | 1928 |
ImageSize | 3150x1928 |
ImageWidth | 3150 |
IncrementalTemperature | 0 |
IncrementalTint | 0 |
ISO | 100 |
LensManualDistortionAmount | 0 |
LensProfileEnable | 0 |
LensProfileSetup | LensDefaults |
LightValue | 17.9 |
LuminanceAdjustmentAqua | 0 |
LuminanceAdjustmentBlue | 0 |
LuminanceAdjustmentGreen | 0 |
LuminanceAdjustmentMagenta | 0 |
LuminanceAdjustmentOrange | 0 |
LuminanceAdjustmentPurple | 0 |
LuminanceAdjustmentRed | 0 |
LuminanceAdjustmentYellow | 0 |
LuminanceNoiseReductionContrast | 0 |
LuminanceNoiseReductionDetail | 50 |
LuminanceSmoothing | 98 |
Make | Canon |
MaxApertureValue | 7.0 |
Megapixels | 6.1 |
MeteringMode | Average |
Model | Canon EOS 20D |
ModifyDate (1) | 2011:12:30 22:44:02+01:00 |
ModifyDate | 2011:12:30 22:44:02 |
ParametricDarks | 0 |
ParametricHighlights | 0 |
ParametricHighlightSplit | 75 |
ParametricLights | 0 |
ParametricMidtoneSplit | 50 |
ParametricShadows | 0 |
ParametricShadowSplit | 25 |
PerspectiveHorizontal | 0 |
PerspectiveRotate | 0.0 |
PerspectiveScale | 100 |
PerspectiveVertical | 0 |
PostCropVignetteAmount | 0 |
ProcessVersion | 5.7 |
ProfileDescription | sRGB IEC61966-2.1 |
RedHue | 0 |
RedSaturation | 0 |
Saturation | 0 |
SaturationAdjustmentAqua | 0 |
SaturationAdjustmentBlue | 0 |
SaturationAdjustmentGreen | 0 |
SaturationAdjustmentMagenta | 0 |
SaturationAdjustmentOrange | 0 |
SaturationAdjustmentPurple | 0 |
SaturationAdjustmentRed | 0 |
SaturationAdjustmentYellow | 0 |
Shadows | 0 |
ShadowTint | 0 |
SharpenDetail | 25 |
SharpenEdgeMasking | 0 |
SharpenRadius | +1.0 |
Sharpness | 61 |
ShutterSpeed | 1/8000 |
ShutterSpeedValue | 1/8000 |
Software | QuickTime 7.6.6 |
SplitToningBalance | 0 |
SplitToningHighlightHue | 0 |
SplitToningHighlightSaturation | 0 |
SplitToningShadowHue | 0 |
SplitToningShadowSaturation | 0 |
ToneCurve | 0, 0, 255, 255 |
ToneCurveName | Linear |
Version | 6.1 |
Vibrance | -5 |
VignetteAmount | 0 |
WhiteBalance | Custom |