Felt | Verdi |
AlreadyApplied | True |
Aperture | 7.1 |
ApertureValue | 7.1 |
ApproximateFocusDistance | 4294967295 |
Artist | Tor Ivan Karlsen |
BitsPerSample | 8 |
BlueHue | 0 |
BlueSaturation | 0 |
Brightness | +50 |
By-line | Tor Ivan Karlsen |
CameraProfile | Adobe Standard |
Caption-Abstract | Before the meltdown |
ChromaticAberrationB | 0 |
ChromaticAberrationR | 0 |
CircleOfConfusion | 0.019 mm |
Clarity | 0 |
ColorComponents | 3 |
ColorNoiseReduction | 39 |
ColorNoiseReductionDetail | 44 |
ColorTemperature | 5550 |
Contrast | +25 |
ConvertToGrayscale | False |
Copyright | Tor Ivan Karlsen |
CopyrightFlag | True |
CopyrightNotice | Tor Ivan Karlsen |
CreateDate (1) | 2010:08:31 16:14:09.55+02:00 |
CreateDate | 2010:08:31 16:14:09 |
Creator | Tor Ivan Karlsen |
CreatorAddress | Mølneringen 26 |
CreatorCity | Kvaløysletta |
CreatorCountry | Norway |
CreatorPostalCode | 9100 |
CreatorRegion | Troms |
CreatorTool | Adobe Photoshop Lightroom 3.4.1 |
CreatorWorkEmail | info@tikfoto.no |
CreatorWorkTelephone | +47 99165751 |
CreatorWorkURL | www.tikfoto.no |
CropAngle | 0 |
CropBottom | 0.992556 |
CropConstrainToWarp | 0 |
CropHeight | 847 |
CropLeft | 0.004136 |
CropRight | 0.99421 |
CropTop | 0.009926 |
CropUnit | pixels |
CropWidth | 1280 |
CustomRendered | Normal |
DateCreated (1) | 2010:08:31 |
DateCreated | 2010:08:31 16:14:09.55+02:00 |
DateTimeOriginal | 2010:08:31 16:14:09 |
Defringe | 0 |
Description | Before the meltdown |
DOF | inf (297.11 m - inf) |
Exposure | +1.33 |
ExposureCompensation | 0 |
ExposureMode | Auto |
ExposureProgram | Shutter speed priority AE |
ExposureTime | 1/400 |
FillLight | 0 |
Firmware | 1.0.3 |
Flash | Off, Did not fire |
FlashCompensation | 0 |
FNumber | 7.1 |
FocalLength | 200.0 mm |
FocalLength35efl | 200.0 mm (35 mm equivalent: 316.9 mm) |
FOV | 6.5 deg |
GrainAmount | 0 |
GreenHue | 0 |
GreenSaturation | 0 |
HasCrop | True |
HasSettings | True |
HighlightRecovery | 0 |
HueAdjustmentAqua | 0 |
HueAdjustmentBlue | 0 |
HueAdjustmentGreen | 0 |
HueAdjustmentMagenta | 0 |
HueAdjustmentOrange | 0 |
HueAdjustmentPurple | 0 |
HueAdjustmentRed | 0 |
HueAdjustmentYellow | 0 |
HyperfocalDistance | 297.11 m |
ImageDescription | Before the meltdown |
ImageHeight | 847 |
ImageNumber | 0 |
ImageSize | 1280x847 |
ImageWidth | 1280 |
ISO | 200 |
Keywords | Bråsvellbreen, Nordaustlandet, iceberg, isbjørn, isfjell, polar bear, ursus maritimus |
Label | Red |
Lens | EF70-200mm f/2.8L IS USM |
LensID (1) | 224 |
LensID | Canon EF 70-200mm f/2.8L IS USM |
LensInfo | 70-200mm f/? |
LensManualDistortionAmount | 0 |
LensModel | EF70-200mm f/2.8L IS USM |
LensProfileEnable | 0 |
LensProfileSetup | LensDefaults |
LightValue | 13.3 |
LuminanceAdjustmentAqua | 0 |
LuminanceAdjustmentBlue | 0 |
LuminanceAdjustmentGreen | 0 |
LuminanceAdjustmentMagenta | 0 |
LuminanceAdjustmentOrange | 0 |
LuminanceAdjustmentPurple | 0 |
LuminanceAdjustmentRed | 0 |
LuminanceAdjustmentYellow | 0 |
LuminanceNoiseReductionContrast | 38 |
LuminanceNoiseReductionDetail | 45 |
LuminanceSmoothing | 53 |
Make | Canon |
Marked | True |
MaxApertureValue | 2.8 |
Megapixels | 1.1 |
MeteringMode | Multi-segment |
Model | Canon EOS 50D |
ModifyDate (1) | 2011:09:13 13:12:45+02:00 |
ModifyDate | 2011:09:13 13:12:45 |
ObjectName | Before the meltdown |
ParametricDarks | 0 |
ParametricHighlights | 0 |
ParametricHighlightSplit | 75 |
ParametricLights | 0 |
ParametricMidtoneSplit | 50 |
ParametricShadows | 0 |
ParametricShadowSplit | 25 |
PerspectiveHorizontal | 0 |
PerspectiveRotate | +0.4 |
PerspectiveScale | 100 |
PerspectiveVertical | 0 |
PostCropVignetteAmount | 0 |
ProcessVersion | 5.7 |
ProfileDescription | Adobe RGB (1998) |
Rating | 5 |
RedHue | 0 |
RedSaturation | 0 |
Rights | Tor Ivan Karlsen |
Saturation | +10 |
SaturationAdjustmentAqua | 0 |
SaturationAdjustmentBlue | +25 |
SaturationAdjustmentGreen | 0 |
SaturationAdjustmentMagenta | 0 |
SaturationAdjustmentOrange | 0 |
SaturationAdjustmentPurple | 0 |
SaturationAdjustmentRed | 0 |
SaturationAdjustmentYellow | 0 |
ScaleFactor35efl | 1.6 |
SceneCaptureType | Standard |
SerialNumber | 630319052 |
Shadows | 16 |
ShadowTint | 0 |
SharpenDetail | 25 |
SharpenEdgeMasking | 0 |
SharpenRadius | +1.0 |
Sharpness | 25 |
ShutterSpeed | 1/400 |
ShutterSpeedValue | 1/400 |
Software | Adobe Photoshop Lightroom 3.4.1 |
SplitToningBalance | 0 |
SplitToningHighlightHue | 0 |
SplitToningHighlightSaturation | 0 |
SplitToningShadowHue | 0 |
SplitToningShadowSaturation | 0 |
Subject | Bråsvellbreen, Nordaustlandet, iceberg, isbjørn, isfjell, polar bear, ursus maritimus |
SubjectDistance | 4294967295 m |
Tint | +16 |
Title | Before the meltdown |
ToneCurve | 0, 0, 32, 22, 64, 56, 128, 128, 192, 196, 255, 255 |
ToneCurveName | Medium Contrast |
URL | www.tikfoto.no |
Version | 6.4.1 |
Vibrance | 0 |
VignetteAmount | 0 |
WebStatement | www.tikfoto.no |
WhiteBalance (1) | As Shot |
WhiteBalance | Auto |