Felt | Verdi |
AlreadyApplied | True |
Aperture | 14.0 |
ApertureValue | 14.0 |
BitsPerSample | 8 |
BlueHue | 0 |
BlueSaturation | 0 |
Brightness | +50 |
CameraProfile | Adobe Standard |
CFAPattern | [Green,Red][Blue,Green] |
ChromaticAberrationB | 0 |
ChromaticAberrationR | 0 |
CircleOfConfusion | 0.020 mm |
Clarity | +100 |
ColorComponents | 3 |
ColorMode | RGB |
ColorNoiseReduction | 100 |
ColorNoiseReductionDetail | 100 |
ColorSpace | Uncalibrated |
ColorTemperature | 2150 |
Contrast (1) | +25 |
Contrast | Low |
ConvertToGrayscale | False |
CreateDate (1) | 2011:04:02 23:06:16.24+02:00 |
CreateDate | 2011:04:02 23:06:16 |
CreatorTool | Ver.2.01 |
CustomRendered | Normal |
DateCreated (1) | 2011:04:02 |
DateCreated | 2011:04:02 23:06:16.024 |
DateTimeOriginal | 2011:04:02 23:06:16 |
Defringe | 0 |
DigitalZoomRatio | 1 |
DOF | inf (1.01 m - inf) |
ExifImageHeight | 3872 |
ExifImageWidth | 2592 |
Exposure | +1.00 |
ExposureCompensation | 0 |
ExposureMode | Manual |
ExposureProgram | Manual |
ExposureTime | 14 |
FillLight | 0 |
Flash | No Flash |
FNumber | 14.0 |
FocalLength | 17.0 mm |
FocalLength35efl | 17.0 mm (35 mm equivalent: 25.0 mm) |
FocalLengthIn35mmFormat | 25 mm |
Format | image/jpeg |
FOV | 71.5 deg |
GainControl | Low gain up |
GrainAmount | 0 |
GreenHue | 0 |
GreenSaturation | 0 |
HasCrop | False |
HasSettings | True |
HighlightRecovery | 74 |
HueAdjustmentAqua | 0 |
HueAdjustmentBlue | 0 |
HueAdjustmentGreen | 0 |
HueAdjustmentMagenta | 0 |
HueAdjustmentOrange | 0 |
HueAdjustmentPurple | 0 |
HueAdjustmentRed | 0 |
HueAdjustmentYellow | 0 |
HyperfocalDistance | 1.01 m |
ICCProfileName | Adobe RGB (1998) |
ImageHeight | 3872 |
ImageNumber | 22495 |
ImageSize | 2592x3872 |
ImageWidth | 2592 |
ISO | 400 |
Lens | 17.0-70.0 mm f/2.8-4.5 |
LensID (1) | 127 |
LensID | Sigma 17-70mm F2.8-4.5 DC Macro Asp. IF |
LensInfo | 17-70mm f/2.8-4.5 |
LensManualDistortionAmount | 0 |
LensProfileEnable | 0 |
LensProfileSetup | LensDefaults |
LightSource | Tungsten (Incandescent) |
LightValue | 1.8 |
LuminanceAdjustmentAqua | 0 |
LuminanceAdjustmentBlue | 0 |
LuminanceAdjustmentGreen | 0 |
LuminanceAdjustmentMagenta | 0 |
LuminanceAdjustmentOrange | 0 |
LuminanceAdjustmentPurple | 0 |
LuminanceAdjustmentRed | 0 |
LuminanceAdjustmentYellow | 0 |
LuminanceNoiseReductionContrast | 100 |
LuminanceNoiseReductionDetail | 100 |
LuminanceSmoothing | 100 |
Make | NIKON CORPORATION |
MaxApertureValue | 2.8 |
Megapixels | 10.0 |
MeteringMode | Center-weighted average |
Model | NIKON D200 |
ModifyDate (1) | 2011:04:03 21:52:53+02:00 |
ModifyDate | 2011:04:03 21:52:53 |
Orientation | Horizontal (normal) |
ParametricDarks | 0 |
ParametricHighlights | 0 |
ParametricHighlightSplit | 75 |
ParametricLights | 0 |
ParametricMidtoneSplit | 50 |
ParametricShadows | 0 |
ParametricShadowSplit | 25 |
PerspectiveHorizontal | 0 |
PerspectiveRotate | 0.0 |
PerspectiveScale | 100 |
PerspectiveVertical | 0 |
PostCropVignetteAmount | 0 |
ProcessVersion | 5.7 |
ProfileDescription | Adobe RGB (1998) |
Rating | 0 |
RawFileName | _DSC3280.NEF |
RedHue | 0 |
RedSaturation | 0 |
Saturation (1) | 0 |
Saturation | High |
SaturationAdjustmentAqua | 0 |
SaturationAdjustmentBlue | 0 |
SaturationAdjustmentGreen | 0 |
SaturationAdjustmentMagenta | 0 |
SaturationAdjustmentOrange | 0 |
SaturationAdjustmentPurple | 0 |
SaturationAdjustmentRed | 0 |
SaturationAdjustmentYellow | 0 |
ScaleFactor35efl | 1.5 |
SceneCaptureType | Standard |
SceneType | Directly photographed |
SensingMethod | One-chip color area |
Shadows | 6 |
ShadowTint | 0 |
SharpenDetail | 9 |
SharpenEdgeMasking | 100 |
SharpenRadius | +0.5 |
Sharpness (1) | 30 |
Sharpness | Normal |
ShutterSpeed | 14 |
ShutterSpeedValue | 14 |
SidecarForExtension | NEF |
Software | Adobe Photoshop CS5 Windows |
SplitToningBalance | 0 |
SplitToningHighlightHue | 0 |
SplitToningHighlightSaturation | 0 |
SplitToningShadowHue | 0 |
SplitToningShadowSaturation | 0 |
SubjectDistance | 4294967295 m |
SubjectDistanceRange | Unknown |
Tint | -2 |
ToneCurve | 0, 0, 32, 22, 64, 56, 128, 128, 192, 196, 255, 255 |
ToneCurveName | Medium Contrast |
URL_List | |
Version | 6.1 |
Vibrance | +100 |
VignetteAmount | 0 |
WhiteBalance (1) | Custom |
WhiteBalance | Manual |