Felt | Verdi |
AlreadyApplied | True |
Aperture | 2.8 |
ApertureValue | 2.8 |
Artist | PHOTOGRAPHER NANDOR TAMAS - DIGG.NO |
BitsPerSample | 8 |
BlueHue | 0 |
BlueSaturation | 0 |
Brightness | +53 |
By-line | PHOTOGRAPHER NANDOR TAMAS - DIGG |
CameraProfile | Adobe Standard |
CFAPattern | [Red,Green][Green,Blue] |
ChromaticAberrationB | 0 |
ChromaticAberrationR | 0 |
CircleOfConfusion | 0.030 mm |
Clarity | +100 |
ColorComponents | 1 |
ColorMode | RGB |
ColorNoiseReduction | 25 |
ColorNoiseReductionDetail | 50 |
ColorSpace | Uncalibrated |
ColorTemperature | 5200 |
Contrast (1) | +68 |
Contrast | Normal |
ConvertToGrayscale | False |
Copyright | NANDOR TAMAS - email: foto@digg.no |
CopyrightNotice | NANDOR TAMAS - email: foto@digg.no |
CreateDate (1) | 2010:09:10 18:54:16.81+02:00 |
CreateDate | 2010:09:10 18:54:16 |
Creator | PHOTOGRAPHER NANDOR TAMAS - DIGG.NO |
CreatorTool | Adobe Photoshop CS5 Windows |
CustomRendered | Normal |
DateCreated (1) | 2010:09:10 |
DateCreated | 2010:09:10 18:54:16.081 |
DateTimeOriginal | 2010:09:10 18:54:16 |
Defringe | 0 |
DigitalZoomRatio | 1 |
DOF | 0.80 m (0.85 - 1.65 m) |
ExifImageHeight | 2832 |
ExifImageWidth | 4256 |
Exposure | -0.30 |
ExposureCompensation | 0 |
ExposureMode | Auto |
ExposureProgram | Aperture-priority AE |
ExposureTime | 1/60 |
FillLight | 0 |
Flash | No Flash |
FNumber | 2.8 |
FocalLength | 17.0 mm |
FocalLength35efl | 17.0 mm (35 mm equivalent: 17.0 mm) |
FocalLengthIn35mmFormat | 17 mm |
Format | image/jpeg |
FOV | 93.3 deg |
GainControl | High gain up |
GrainAmount | 0 |
GreenHue | 0 |
GreenSaturation | 0 |
HasCrop | False |
HasSettings | True |
HighlightRecovery | 100 |
HueAdjustmentAqua | 0 |
HueAdjustmentBlue | 0 |
HueAdjustmentGreen | 0 |
HueAdjustmentMagenta | 0 |
HueAdjustmentOrange | 0 |
HueAdjustmentPurple | 0 |
HueAdjustmentRed | 0 |
HueAdjustmentYellow | 0 |
HyperfocalDistance | 3.44 m |
ICCProfileName | Adobe RGB (1998) |
ImageHeight | 2832 |
ImageNumber | 7651 |
ImageSize | 4256x2832 |
ImageWidth | 4256 |
ISO | 1600 |
Lens | 17.0-35.0 mm f/2.8-4.0 |
LensID (1) | 38 |
LensID | Sigma 17-35mm F2.8-4 EX Aspherical |
LensInfo | 17-35mm f/2.8-4 |
LightSource | Unknown |
LightValue | 4.9 |
LuminanceAdjustmentAqua | 0 |
LuminanceAdjustmentBlue | 0 |
LuminanceAdjustmentGreen | 0 |
LuminanceAdjustmentMagenta | 0 |
LuminanceAdjustmentOrange | 0 |
LuminanceAdjustmentPurple | 0 |
LuminanceAdjustmentRed | 0 |
LuminanceAdjustmentYellow | 0 |
LuminanceSmoothing | 0 |
Make | NIKON CORPORATION |
MaxApertureValue | 2.8 |
Megapixels | 12.1 |
MeteringMode | Multi-segment |
Model | NIKON D700 |
ModifyDate (1) | 2010:09:10 23:13:44+02:00 |
ModifyDate | 2010:09:10 23:13:44 |
Orientation | Horizontal (normal) |
ParametricDarks | 0 |
ParametricHighlights | 0 |
ParametricHighlightSplit | 75 |
ParametricLights | 0 |
ParametricMidtoneSplit | 50 |
ParametricShadows | 0 |
ParametricShadowSplit | 25 |
PostCropVignetteAmount | 0 |
ProcessVersion | 5.7 |
ProfileDescription | Adobe RGB (1998) |
Rating | 0 |
RawFileName | _NLT7631.NEF |
RedHue | 0 |
RedSaturation | 0 |
Rights | NANDOR TAMAS - email: foto@digg.no |
Saturation (1) | 0 |
Saturation | Normal |
SaturationAdjustmentAqua | 0 |
SaturationAdjustmentBlue | 0 |
SaturationAdjustmentGreen | 0 |
SaturationAdjustmentMagenta | 0 |
SaturationAdjustmentOrange | 0 |
SaturationAdjustmentPurple | 0 |
SaturationAdjustmentRed | 0 |
SaturationAdjustmentYellow | 0 |
ScaleFactor35efl | 1.0 |
SceneCaptureType | Standard |
SceneType | Directly photographed |
SensingMethod | One-chip color area |
SerialNumber | 2037720 |
Shadows | 30 |
ShadowTint | 0 |
SharpenDetail | 25 |
SharpenEdgeMasking | 0 |
SharpenRadius | +1.0 |
Sharpness (1) | 25 |
Sharpness | Normal |
ShutterSpeed | 1/60 |
ShutterSpeedValue | 1/60 |
SidecarForExtension | NEF |
Software | Adobe Photoshop CS5 Windows |
SplitToningBalance | 0 |
SplitToningHighlightHue | 0 |
SplitToningHighlightSaturation | 0 |
SplitToningShadowHue | 0 |
SplitToningShadowSaturation | 0 |
SubjectDistance | 1.12 m |
SubjectDistanceRange | Unknown |
Tint | +6 |
ToneCurve | 0, 0, 32, 22, 64, 56, 128, 128, 192, 196, 255, 255 |
ToneCurveName | Medium Contrast |
URL_List | |
Version | 6.0 |
Vibrance | -3 |
VignetteAmount | 0 |
WhiteBalance (1) | As Shot |
WhiteBalance | Auto |