Felt | Verdi |
AlreadyApplied | True |
BitsPerSample | 8 |
BlueHue | 0 |
BlueSaturation | 0 |
Brightness | 0 |
CameraProfile | Embedded |
ChromaticAberrationB | 0 |
ChromaticAberrationR | 0 |
Clarity | +50 |
ColorComponents | 3 |
ColorNoiseReduction | 46 |
Contrast | 0 |
ConvertToGrayscale | False |
Copyright | Espen Seierstad |
CopyrightFlag | True |
CopyrightNotice | Espen Seierstad |
CreatorTool | Adobe Photoshop Lightroom |
Defringe | 0 |
ExifImageHeight | 600 |
ExifImageWidth | 429 |
Exposure | 0.00 |
FillLight | 0 |
GradientBasedCorrActive | true |
GradientBasedCorrAmount | 1.000000 |
GradientBasedCorrBrightness | 0.000000 |
GradientBasedCorrClarity | 0.000000 |
GradientBasedCorrContrast | 0.000000 |
GradientBasedCorrExposure (1) | 0.125000 |
GradientBasedCorrExposure | -0.075000 |
GradientBasedCorrHue | 116.000000 |
GradientBasedCorrMaskFullX (1) | 0.496957 |
GradientBasedCorrMaskFullX | 0.413793 |
GradientBasedCorrMaskFullY (1) | -0.008696 |
GradientBasedCorrMaskFullY | 1.008700 |
GradientBasedCorrMaskValue | 1.000000 |
GradientBasedCorrMaskWhat | Mask/Gradient |
GradientBasedCorrMaskZeroX (1) | 0.501014 |
GradientBasedCorrMaskZeroX | 0.608519 |
GradientBasedCorrMaskZeroY (1) | 0.933333 |
GradientBasedCorrMaskZeroY | 0.439130 |
GradientBasedCorrSaturation | 0.000000 |
GradientBasedCorrSharpness | 0.000000 |
GradientBasedCorrWhat | Correction |
GreenHue | 0 |
GreenSaturation | 0 |
HasCrop | False |
HasSettings | True |
HighlightRecovery | 50 |
HueAdjustmentAqua | 0 |
HueAdjustmentBlue | 0 |
HueAdjustmentGreen | 0 |
HueAdjustmentMagenta | 0 |
HueAdjustmentOrange | 0 |
HueAdjustmentPurple | 0 |
HueAdjustmentRed | 0 |
HueAdjustmentYellow | 0 |
ImageHeight | 600 |
ImageSize | 429x600 |
ImageWidth | 429 |
IncrementalTemperature | 0 |
IncrementalTint | 0 |
Keywords | Africa, Arabs, Art, Beduin, Egypt, Flute, Indigenous, Man, Music, Musician, People |
Label | Blue |
LuminanceAdjustmentAqua | 0 |
LuminanceAdjustmentBlue | 0 |
LuminanceAdjustmentGreen | 0 |
LuminanceAdjustmentMagenta | 0 |
LuminanceAdjustmentOrange | 0 |
LuminanceAdjustmentPurple | 0 |
LuminanceAdjustmentRed | 0 |
LuminanceAdjustmentYellow | 0 |
LuminanceSmoothing | 87 |
Make | Nikon |
Marked | True |
Megapixels | 0.257 |
ModifyDate (1) | 2010:09:05 12:51:08+02:00 |
ModifyDate | 2010:09:05 12:51:08 |
ParametricDarks | +17 |
ParametricHighlights | -17 |
ParametricHighlightSplit | 75 |
ParametricLights | -10 |
ParametricMidtoneSplit | 50 |
ParametricShadows | -2 |
ParametricShadowSplit | 25 |
PostCropVignetteAmount | 0 |
ProfileDescription | sRGB IEC61966-2.1 |
Rating | 4 |
RedHue | 0 |
RedSaturation | 0 |
Rights | Espen Seierstad |
Saturation | 0 |
SaturationAdjustmentAqua | 0 |
SaturationAdjustmentBlue | 0 |
SaturationAdjustmentGreen | 0 |
SaturationAdjustmentMagenta | 0 |
SaturationAdjustmentOrange | 0 |
SaturationAdjustmentPurple | 0 |
SaturationAdjustmentRed | 0 |
SaturationAdjustmentYellow | 0 |
Shadows | 0 |
ShadowTint | 0 |
SharpenDetail | 25 |
SharpenEdgeMasking | 70 |
SharpenRadius | +1.3 |
Sharpness | 70 |
Software | Adobe Photoshop Lightroom |
SplitToningBalance | 0 |
SplitToningHighlightHue | 0 |
SplitToningHighlightSaturation | 0 |
SplitToningShadowHue | 0 |
SplitToningShadowSaturation | 0 |
Subject | Africa, Arabs, Art, Beduin, Egypt, Flute, Indigenous, Man, Music, Musician, People |
ToneCurve | 0, 0, 255, 255 |
ToneCurveName | Linear |
Version | 5.7 |
Vibrance | +25 |
VignetteAmount | 0 |
WhiteBalance | As Shot |