Felt | Verdi |
AlreadyApplied | True |
Aperture | 4.5 |
ApertureValue | 4.5 |
Artist | Andreas Nymoen |
BitsPerSample (1) | 8 8 8 |
BitsPerSample | 8 |
BlueHue | 0 |
BlueSaturation | 0 |
Brightness | +50 |
By-line | Andreas Nymoen |
CameraProfile | Camera Portrait |
CFAPattern | [Green,Blue][Red,Green] |
ChromaticAberrationB | 0 |
ChromaticAberrationR | 0 |
CircleOfConfusion | 0.020 mm |
Clarity | 0 |
ColorComponents | 3 |
ColorMode | RGB |
ColorNoiseReduction | 25 |
ColorNoiseReductionDetail | 50 |
ColorSpace | Uncalibrated |
ColorTemperature | 5068 |
Contrast (1) | +25 |
Contrast | Normal |
ConvertToGrayscale | False |
Copyright | 2010 Andreas Nymoen |
CopyrightFlag | True |
CopyrightNotice | 2010 Andreas Nymoen |
CopyrightOwnerName | Andreas Nymoen |
CreateDate (1) | 2010:06:19 08:38:32.40+02:00 |
CreateDate | 2010:06:19 08:38:32 |
Creator | Andreas Nymoen |
CreatorAddress | Lumberveien 72 |
CreatorCity | Kristiansand S |
CreatorCountry | Norway |
CreatorPostalCode | 4621 |
CreatorTool | Adobe Photoshop CS5 Macintosh |
CreatorWorkEmail | andy.nymoen@gmail.com |
CreatorWorkTelephone | 92899170 |
CropAngle | 0 |
CropBottom | 0.999999 |
CropConstrainToWarp | 0 |
CropHeight | 2238 |
CropLeft | 0.113386 |
CropRight | 1 |
CropTop | 0.136472 |
CropUnit | pixels |
CropWidth | 3433 |
CustomRendered | Normal |
DateCreated (1) | 2010:06:19 |
DateCreated | 2010:06:19 08:38:32.04 |
DateTimeOriginal | 2010:06:19 08:38:32 |
Defringe | 0 |
DigitalZoomRatio | 1 |
DOF | 3.35 m (8.05 - 11.41 m) |
ExifImageHeight | 1304 |
ExifImageWidth | 2000 |
Exposure | 0.00 |
ExposureCompensation | 0 |
ExposureMode | Auto |
ExposureProgram | Not Defined |
ExposureTime | 1/800 |
FillLight | 0 |
Flash | Off, Did not fire |
FNumber | 4.5 |
FocalLength | 70.0 mm |
FocalLength35efl | 70.0 mm (35 mm equivalent: 105.0 mm) |
FocalLengthIn35mmFormat | 105 mm |
Format | image/jpeg |
FOV | 19.5 deg |
GainControl | None |
GrainAmount | 0 |
GreenHue | 0 |
GreenSaturation | 0 |
HasCrop | True |
HasSettings | True |
HighlightRecovery | 17 |
HueAdjustmentAqua | 0 |
HueAdjustmentBlue | 0 |
HueAdjustmentGreen | 0 |
HueAdjustmentMagenta | 0 |
HueAdjustmentOrange | 0 |
HueAdjustmentPurple | 0 |
HueAdjustmentRed | 0 |
HueAdjustmentYellow | 0 |
HyperfocalDistance | 54.36 m |
ICCProfileName | ProPhoto RGB |
ImageCreatorName | Andreas Nymoen |
ImageHeight (1) | 2238 |
ImageHeight | 1304 |
ImageNumber | 10096 |
ImageSize | 2000x1304 |
ImageWidth (1) | 3433 |
ImageWidth | 2000 |
ISO | 200 |
Keywords | 14 år hannløve |
Label | Color Correction Needed |
Lens | 70.0-300.0 mm f/4.5-5.6 |
LensID (1) | 141 |
LensID | AF-S VR Zoom-Nikkor 70-300mm f/4.5-5.6G IF-ED |
LensInfo | 70-300mm f/4.5-5.6 |
LensManualDistortionAmount | 0 |
LensProfileChromaticAberrationScale | 100 |
LensProfileDistortionScale | 100 |
LensProfileEnable | 1 |
LensProfileFilename | NIKON D700 (Nikon FX 70-300mm f4.5-5.6 G IF-ED VR) - RAW.lcp |
LensProfileName | Adobe (Nikon AF-S VR Zoom-Nikkor 70-300mm f/4.5-5.6G IF-ED) |
LensProfileSetup | LensDefaults |
LensProfileVignettingScale | 100 |
LicensorCity | Kristiansand |
LicensorCountry | Norway |
LicensorName | Andreas Nymoen |
LicensorPostalCode | 4621 |
LicensorStreetAddress | Lumberveien 72 |
LicensorTelephone1 | 92899170 |
LightSource | Unknown |
LightValue | 13.0 |
LuminanceAdjustmentAqua | 0 |
LuminanceAdjustmentBlue | 0 |
LuminanceAdjustmentGreen | 0 |
LuminanceAdjustmentMagenta | 0 |
LuminanceAdjustmentOrange | 0 |
LuminanceAdjustmentPurple | 0 |
LuminanceAdjustmentRed | 0 |
LuminanceAdjustmentYellow | 0 |
LuminanceNoiseReductionContrast | 0 |
LuminanceNoiseReductionDetail | 50 |
LuminanceSmoothing | 10 |
Make | NIKON CORPORATION |
Marked | True |
MaxApertureValue | 4.4 |
Megapixels | 2.6 |
MeteringMode | Multi-segment |
Model | NIKON D60 |
ModifyDate (1) | 2010:07:26 22:50:42+02:00 |
ModifyDate | 2010:07:26 22:50:42 |
Orientation | Horizontal (normal) |
ParametricDarks | 0 |
ParametricHighlights | 0 |
ParametricHighlightSplit | 75 |
ParametricLights | 0 |
ParametricMidtoneSplit | 50 |
ParametricShadows | 0 |
ParametricShadowSplit | 25 |
PerspectiveHorizontal | 0 |
PerspectiveRotate | 0.0 |
PerspectiveScale | 100 |
PerspectiveVertical | 0 |
PhotometricInterpretation | RGB |
PLUSVersion | 1.2.0 |
PostCropVignetteAmount | 0 |
ProcessVersion | 5.7 |
ProfileDescription | ProPhoto RGB |
Rating | 5 |
RedHue | 0 |
RedSaturation | 0 |
Rights | 2010 Andreas Nymoen |
Saturation (1) | 0 |
Saturation | Normal |
SaturationAdjustmentAqua | 0 |
SaturationAdjustmentBlue | 0 |
SaturationAdjustmentGreen | 0 |
SaturationAdjustmentMagenta | 0 |
SaturationAdjustmentOrange | 0 |
SaturationAdjustmentPurple | 0 |
SaturationAdjustmentRed | 0 |
SaturationAdjustmentYellow | 0 |
ScaleFactor35efl | 1.5 |
SceneCaptureType | Standard |
SceneType | Directly photographed |
SensingMethod | One-chip color area |
SerialNumber | 6034977 |
Shadows | 9 |
ShadowTint | 0 |
SharpenDetail | 35 |
SharpenEdgeMasking | 0 |
SharpenRadius | +0.8 |
Sharpness (1) | 48 |
Sharpness | Hard |
ShutterSpeed | 1/800 |
ShutterSpeedValue | 1/800 |
Software | Adobe Photoshop CS5 Macintosh |
SplitToningBalance | 0 |
SplitToningHighlightHue | 0 |
SplitToningHighlightSaturation | 0 |
SplitToningShadowHue | 0 |
SplitToningShadowSaturation | 0 |
Subject | 14 år hannløve |
SubjectDistance | 9.44 m |
SubjectDistanceRange | Unknown |
Tint | -5 |
ToneCurve | 0, 0, 32, 10, 64, 50, 128, 128, 192, 202, 255, 255 |
ToneCurveName | Custom |
URL_List | |
UsageTerms | All Right Reserved |
Version | 6.1 |
Vibrance | 0 |
VignetteAmount | 0 |
WhiteBalance (1) | Custom |
WhiteBalance | Auto |