Felt | Verdi |
AlreadyApplied | True |
Aperture | 11.0 |
ApertureValue | 11.0 |
Artist | Helge Sterk |
BitsPerSample | 8 |
BlueHue | 0 |
BlueSaturation | 0 |
Brightness | 0 |
By-line | Helge Sterk |
CameraProfile | Adobe Standard |
ChromaticAberrationB | 0 |
ChromaticAberrationR | 0 |
CircleOfConfusion | 0.031 mm |
Clarity | +21 |
ColorComponents | 3 |
ColorMode | RGB |
ColorNoiseReduction | 25 |
ColorSpace | sRGB |
ColorTemperature | 5500 |
Contrast | +50 |
ConvertToGrayscale | False |
Copyright | Helge Stærk |
CopyrightNotice | Helge Stærk |
CreateDate (1) | 2010:07:16 17:58:53.98+02:00 |
CreateDate | 2010:07:16 17:58:53 |
Creator | Helge Sterk |
CropAngle | 0 |
CropBottom | 0.86156 |
CropHeight | 4 |
CropLeft | 0.203926 |
CropRight | 0.698323 |
CropTop | 0.305364 |
CropUnit | Unknown (3) |
CropWidth | 3 |
CustomRendered | Normal |
DateTimeDigitized | 2010:07:16 17:58:53.98+02:00 |
DateTimeOriginal (1) | 2010:07:16 17:58:53.98+02:00 |
DateTimeOriginal | 2010:07:16 17:58:53 |
Defringe | 0 |
DOF | 3.01 m (38.85 - 41.86 m) |
ExifImageHeight | 499 |
ExifImageWidth | 666 |
Exposure | +1.00 |
ExposureCompensation | +2/3 |
ExposureMode | Auto |
ExposureProgram | Aperture-priority AE |
ExposureTime | 1/320 |
FillLight | 0 |
Firmware | 2.0.4 |
Flash | Off, Did not fire |
FlashCompensation | 0 |
FlashFired | False |
FlashFunction | False |
FlashMode | Off |
FlashRedEyeMode | False |
FlashReturn | No return detection |
FNumber | 11.0 |
FocalLength | 600.0 mm |
FocalLength35efl | 600.0 mm (35 mm equivalent: 585.6 mm) |
Format | image/jpeg |
FOV | 3.5 deg |
GreenHue | 0 |
GreenSaturation | 0 |
HasCrop | True |
HasSettings | True |
HighlightRecovery | 0 |
HueAdjustmentAqua | 0 |
HueAdjustmentBlue | 0 |
HueAdjustmentGreen | 0 |
HueAdjustmentMagenta | 0 |
HueAdjustmentOrange | 0 |
HueAdjustmentPurple | 0 |
HueAdjustmentRed | 0 |
HueAdjustmentYellow | 0 |
HyperfocalDistance | 1063.02 m |
ICCProfileName | sRGB IEC61966-2.1 |
ImageHeight | 499 |
ImageNumber | 0 |
ImageSize | 666x499 |
ImageWidth | 666 |
ISO | 800 |
Lens | EF600mm f/4L IS USM |
LensID (1) | 185 |
LensID | Canon EF 600mm f/4L IS USM |
LensInfo | 600mm f/? |
LightValue | 12.2 |
LuminanceAdjustmentAqua | 0 |
LuminanceAdjustmentBlue | 0 |
LuminanceAdjustmentGreen | 0 |
LuminanceAdjustmentMagenta | 0 |
LuminanceAdjustmentOrange | 0 |
LuminanceAdjustmentPurple | 0 |
LuminanceAdjustmentRed | 0 |
LuminanceAdjustmentYellow | 0 |
LuminanceSmoothing | 0 |
Make | Canon |
MaxApertureValue | 4.0 |
Megapixels | 0.332 |
MeteringMode | Spot |
Model | Canon EOS 5D Mark II |
ModifyDate (1) | 2010:07:16 20:42:24+02:00 |
ModifyDate | 2010:07:16 20:42:24 |
Orientation | Horizontal (normal) |
OwnerName | Helge Sterk |
ParametricDarks | 0 |
ParametricHighlights | 0 |
ParametricHighlightSplit | 75 |
ParametricLights | 0 |
ParametricMidtoneSplit | 50 |
ParametricShadows | 0 |
ParametricShadowSplit | 25 |
PostCropVignetteAmount | 0 |
ProfileDescription | sRGB IEC61966-2.1 |
Rating | 0 |
RawFileName | _MG_1755.CR2 |
RedHue | 0 |
RedSaturation | 0 |
Rights | Helge Stærk |
Saturation | 0 |
SaturationAdjustmentAqua | 0 |
SaturationAdjustmentBlue | 0 |
SaturationAdjustmentGreen | 0 |
SaturationAdjustmentMagenta | 0 |
SaturationAdjustmentOrange | 0 |
SaturationAdjustmentPurple | 0 |
SaturationAdjustmentRed | +45 |
SaturationAdjustmentYellow | 0 |
ScaleFactor35efl | 1.0 |
SceneCaptureType | Standard |
SerialNumber | 330232447 |
Shadows | 22 |
ShadowTint | 0 |
SharpenDetail | 25 |
SharpenEdgeMasking | 0 |
SharpenRadius | +1.0 |
Sharpness | 25 |
ShutterSpeed | 1/320 |
ShutterSpeedValue | 1/320 |
SidecarForExtension | CR2 |
Software | Adobe Photoshop CS4 Windows |
SplitToningBalance | 0 |
SplitToningHighlightHue | 0 |
SplitToningHighlightSaturation | 0 |
SplitToningShadowHue | 0 |
SplitToningShadowSaturation | 0 |
SubjectDistance | 40.3 m |
Tint | +10 |
ToneCurve | 0, 0, 32, 22, 71, 49, 128, 128, 181, 196, 255, 255 |
ToneCurveName | Custom |
URL_List | |
Version | 5.6 |
Vibrance | +22 |
VignetteAmount | 0 |
WhiteBalance (2) | Daylight |
WhiteBalance | Auto |