Felt | Verdi |
AlreadyApplied | True |
Aperture | 2.8 |
ApertureValue | 2.8 |
BitsPerSample | 8 |
BlueHue | 0 |
BlueSaturation | 0 |
Brightness | +44 |
CameraProfile | Adobe Standard |
ChromaticAberrationB | 0 |
ChromaticAberrationR | 0 |
CircleOfConfusion | 0.031 mm |
Clarity | +4 |
ColorComponents | 3 |
ColorNoiseReduction | 25 |
ColorTemperature | 5700 |
Contrast | +31 |
ConvertToGrayscale | False |
CreateDate (1) | 2009:08:15 09:49:14.37+02:00 |
CreateDate | 2009:08:15 09:49:14 |
CreatorTool | Adobe Photoshop Lightroom |
CropAngle | 1.24459 |
CropBottom | 0.791009 |
CropHeight | 2296 |
CropLeft | 0.128427 |
CropRight | 0.858042 |
CropTop | 0.153888 |
CropUnit | pixels |
CropWidth | 4148 |
CustomRendered | Normal |
DateTimeDigitized | 2009:08:15 09:49:14.37+02:00 |
DateTimeOriginal (1) | 2009:08:15 09:49:14.37+02:00 |
DateTimeOriginal | 2009:08:15 09:49:14 |
Defringe | 0 |
ExifImageHeight | 4148 |
ExifImageWidth | 2296 |
Exposure | -1.25 |
ExposureCompensation | 0 |
ExposureMode | Auto |
ExposureProgram | Aperture-priority AE |
ExposureTime | 1/400 |
FillLight | 74 |
Firmware | 1.1.0 |
Flash | Off, Did not fire |
FlashCompensation | 0 |
FlashFired | False |
FlashFunction | False |
FlashMode | Off |
FlashRedEyeMode | False |
FlashReturn | No return detection |
FNumber | 2.8 |
FocalLength | 30.0 mm |
FocalLength35efl | 30.0 mm (35 mm equivalent: 29.3 mm) |
FOV | 63.2 deg |
GradientBasedCorrActive | true |
GradientBasedCorrAmount | 1.000000 |
GradientBasedCorrBrightness | -0.011494 |
GradientBasedCorrClarity | 0.000000 |
GradientBasedCorrContrast | 0.000000 |
GradientBasedCorrExposure | 0.011494 |
GradientBasedCorrHue | 0.000000 |
GradientBasedCorrMaskFullX | 0.870581 |
GradientBasedCorrMaskFullY | 0.341656 |
GradientBasedCorrMaskValue | 1.000000 |
GradientBasedCorrMaskWhat | Mask/Gradient |
GradientBasedCorrMaskZeroX | 0.632057 |
GradientBasedCorrMaskZeroY | 0.456106 |
GradientBasedCorrSaturation | 0.000000 |
GradientBasedCorrSharpness | 0.000000 |
GradientBasedCorrWhat | Correction |
GreenHue | 0 |
GreenSaturation | 0 |
HasCrop | True |
HasSettings | True |
HighlightRecovery | 41 |
HueAdjustmentAqua | 0 |
HueAdjustmentBlue | +17 |
HueAdjustmentGreen | 0 |
HueAdjustmentMagenta | 0 |
HueAdjustmentOrange | 0 |
HueAdjustmentPurple | 0 |
HueAdjustmentRed | 0 |
HueAdjustmentYellow | 0 |
HyperfocalDistance | 10.44 m |
ImageHeight | 4148 |
ImageNumber | 0 |
ImageSize | 2296x4148 |
ImageWidth | 2296 |
ISO | 100 |
Keywords | London |
Lens | EF24-70mm f/2.8L USM |
LensInfo | 24-70mm f/? |
LightValue | 11.6 |
LuminanceAdjustmentAqua | 0 |
LuminanceAdjustmentBlue | +10 |
LuminanceAdjustmentGreen | 0 |
LuminanceAdjustmentMagenta | 0 |
LuminanceAdjustmentOrange | 0 |
LuminanceAdjustmentPurple | 0 |
LuminanceAdjustmentRed | 0 |
LuminanceAdjustmentYellow | 0 |
LuminanceSmoothing | 0 |
Make | Canon |
MaxApertureValue | 2.8 |
Megapixels | 9.5 |
MeteringMode | Multi-segment |
Model | Canon EOS 5D Mark II |
ModifyDate (1) | 2009:09:06 11:12:58+02:00 |
ModifyDate | 2009:09:06 11:12:58 |
PaintCorrectionActive | true |
PaintCorrectionAmount | 1.000000 |
PaintCorrectionBrightness | 0.000000 |
PaintCorrectionClarity | 0.425287 |
PaintCorrectionContrast | 0.701149 |
PaintCorrectionExposure | -0.080460 |
PaintCorrectionHue | 0.000000 |
PaintCorrectionMaskCenterWeight | 0.024400 |
PaintCorrectionMaskFlow | 0.852069 |
PaintCorrectionMaskRadius | 0.034405 |
PaintCorrectionMaskValue | 0.990706 |
PaintCorrectionMaskWhat | Mask/Paint |
PaintCorrectionSaturation (1) | 0.264368 |
PaintCorrectionSaturation | 0.000000 |
PaintCorrectionSharpness | 1.000000 |
PaintCorrectionWhat | Correction |
ParametricDarks | 0 |
ParametricHighlights | -83 |
ParametricHighlightSplit | 75 |
ParametricLights | -8 |
ParametricMidtoneSplit | 50 |
ParametricShadows | 0 |
ParametricShadowSplit | 25 |
PostCropVignetteAmount | 0 |
ProfileDescription | sRGB IEC61966-2.1 |
Rating | 3 |
RedHue | 0 |
RedSaturation | 0 |
Saturation | 0 |
SaturationAdjustmentAqua | 0 |
SaturationAdjustmentBlue | +29 |
SaturationAdjustmentGreen | 0 |
SaturationAdjustmentMagenta | 0 |
SaturationAdjustmentOrange | 0 |
SaturationAdjustmentPurple | 0 |
SaturationAdjustmentRed | 0 |
SaturationAdjustmentYellow | 0 |
ScaleFactor35efl | 1.0 |
SceneCaptureType | Standard |
SerialNumber | 130100763 |
Shadows | 5 |
ShadowTint | 0 |
SharpenDetail | 25 |
SharpenEdgeMasking | 0 |
SharpenRadius | +1.4 |
Sharpness | 125 |
ShutterSpeed | 1/400 |
ShutterSpeedValue | 1/400 |
SplitToningBalance | 0 |
SplitToningHighlightHue | 11 |
SplitToningHighlightSaturation | 9 |
SplitToningShadowHue | 0 |
SplitToningShadowSaturation | 0 |
Subject | London |
Tint | +5 |
ToneCurve | 0, 0, 32, 22, 64, 56, 128, 128, 192, 196, 255, 255 |
ToneCurveName | Medium Contrast |
Version | 5.4 |
Vibrance | +33 |
VignetteAmount | 0 |
WhiteBalance (2) | As Shot |
WhiteBalance | Auto |