Felt | Verdi |
2009-04-22T22:30:09+02:00 File C:\Users\Line\Pictures\Bilder Nordic\Bilder_Nordic_Raw\April\Innlevering DM 28.04.09\31.03.09_2099.psd saved
2009-04-22T22:30:22+02:00 File C:\Users\Line\Pictures\Bilder Nordic\Bilder_Nordic_Raw\April\Innlevering DM 28.04.09\31.03.jpg saved
2009-04-22T22:31:25+02:00 File C:\Users\Line\Pictures\Bilder Nordic\Bilder_Nordic_Raw\April\Innlevering DM 28.04.09\31.03.09_2099.psd saved
2009-04-22T22:31:46+02:00 File C:\Users\Line\Pictures\Bilder Nordic\Bilder_Nordic_Raw\April\Innlevering DM 28.04.09\31.03.jpg saved
Adjustment: curves adjustment list
Adjustment: levels adjustment list
AlreadyApplied | True |
Angle: 0°
Aperture | 8.0 |
ApertureValue | 8.0 |
Artist | Line Bjerkengen |
As: Camera Raw
AuthorsPosition | Fotograf |
BitsPerSample | 8 |
Black & White 1 Layer
Blacks: 6
Blending Options: Blending Options
Blue Hue: 0
Blue Saturation: 0
Blue: 179,001
blue: 20
blue: 237
BlueHue | 0 |
BlueSaturation | 0 |
Bottom: 21,17 cm
Brightness | +40 |
Brightness: 40
By-line | Line Bjerkengen |
By-lineTitle | Fotograf |
Camera Profile: “ACR 4.4”
CameraProfile | ACR 4.4 |
CFAPattern | [Blue,Green][Green,Red] |
Channel: composite channel
Chromatic Aberration B: 0
Chromatic Aberration R: 0
ChromaticAberrationB | 0 |
ChromaticAberrationR | 0 |
CircleOfConfusion | 0.020 mm |
Clarity | 0 |
Clarity: 0
Color Noise Reduction: 25
ColorComponents | 1 |
ColorMode | RGB |
ColorNoiseReduction | 25 |
ColorSpace | Uncalibrated |
ColorTemperature | 7200 |
Contrast (2) | +70 |
Contrast | Low |
Contrast: 70
Convert to Smart Object
ConvertToGrayscale | False |
Copyright | Copyrighted - DO NOT COPY! |
CopyrightNotice | Copyrighted - DO NOT COPY! |
CreateDate (1) | 2009:03:31 12:49:19.30+02:00 |
CreateDate | 2009:03:31 12:49:19 |
Creator | Line Bjerkengen |
CreatorAddress | Sagvollveien 298 |
CreatorCity | Raufoss |
CreatorCountry | Norway |
CreatorPostalCode | 2830 |
CreatorRegion | Vestre Toten |
CreatorTool | |
CreatorWorkEmail | vma2@online.no |
CreatorWorkTelephone | +4797736089 |
Crop
Crop Angle: 0
Crop Bottom: 0
Crop Left: 0
Crop Right: 0
Crop To: rectangle
Crop Top: 0
Curve: point list
Curves 1 Layer
curves adjustment
CustomRendered | Normal |
cyan: 60
DateCreated | 2009:02:11 |
DateTimeDigitized | 2009:03:31 12:49:19.30+02:00 |
DateTimeOriginal (1) | 2009:03:31 12:49:19.30+02:00 |
DateTimeOriginal | 2009:03:31 12:49:19 |
Defringe | 0 |
Defringe: 0
Depth: 8 Bits/channel
DigitalZoomRatio | 1 |
Edit Filter Blending Options( Unsharp Mask )
ExifImageHeight | 1864 |
ExifImageWidth | 3008 |
Exposure | +0.65 |
Exposure: 0,65
ExposureCompensation | 0 |
ExposureMode | Manual |
ExposureProgram | Manual |
ExposureTime | 1/25 |
Fill Light: 0
FillLight | 0 |
Flash | Auto, Fired, Return not detected |
FlashFired | True |
FlashFunction | False |
FlashMode | Auto |
FlashRedEyeMode | False |
FlashReturn | Return not detected |
FNumber | 8.0 |
FocalLength | 19.0 mm |
FocalLength35efl | 19.0 mm (35 mm equivalent: 28.0 mm) |
FocalLengthIn35mmFormat | 28 mm |
Format | image/jpeg |
FOV | 65.5 deg |
GainControl | Low gain up |
Green Hue: 0
Green Saturation: 0
Green: 211,001
green: 248
green: 40
GreenHue | 0 |
GreenSaturation | 0 |
HasCrop | False |
HasSettings | True |
Hide Background
Hide layer “Black & White 1”
HighlightRecovery | 20 |
Hue Adjust Aqua: 0
Hue Adjust Blue: 0
Hue Adjust Green: 0
Hue Adjust Magenta: 0
Hue Adjust Orange: -27
Hue Adjust Purple: 0
Hue Adjust Red: -12
Hue Adjust Yellow: 10
HueAdjustmentAqua | 0 |
HueAdjustmentBlue | 0 |
HueAdjustmentGreen | 0 |
HueAdjustmentMagenta | 0 |
HueAdjustmentOrange | -27 |
HueAdjustmentPurple | 0 |
HueAdjustmentRed | -12 |
HueAdjustmentYellow | +10 |
HyperfocalDistance | 2.21 m |
ICCProfileName | Adobe RGB (1998) |
ImageHeight | 1864 |
ImageNumber | 5876 |
ImageSize | 3008x1864 |
ImageWidth | 3008 |
In: C:\Users\Line\Pictures\Bilder Nordic\Bilder_Nordic_Raw\April\Innlevering DM 28.04.09\
In: C:\Users\Line\Pictures\Bilder Nordic\Bilder_Nordic_Raw\April\Innlevering DM 28.04.09\31.03.jpg
Input: 19, 209
ISO | 400 |
Left: 0 cm
Lens | 18.0-55.0 mm f/3.5-5.6 |
LensInfo | 18-55mm f/3.5-5.6 |
Levels 1 Layer
levels adjustment
LightSource | Unknown |
LightValue | 8.6 |
Local Adjustments: “”
Luminance Adjust Aqua: 0
Luminance Adjust Blue: 0
Luminance Adjust Green: 0
Luminance Adjust Magenta: 0
Luminance Adjust Orange: 0
Luminance Adjust Purple: 0
Luminance Adjust Red: 0
Luminance Adjust Yellow: 0
Luminance Smoothing: 0
LuminanceAdjustmentAqua | 0 |
LuminanceAdjustmentBlue | 0 |
LuminanceAdjustmentGreen | 0 |
LuminanceAdjustmentMagenta | 0 |
LuminanceAdjustmentOrange | 0 |
LuminanceAdjustmentPurple | 0 |
LuminanceAdjustmentRed | 0 |
LuminanceAdjustmentYellow | 0 |
LuminanceSmoothing | 0 |
magenta: 156
magenta: 80
Make adjustment layer Using: adjustment layer
Make | NIKON CORPORATION |
Matte: none
MaxApertureValue | 3.5 |
Megapixels | 5.6 |
MeteringMode | Spot |
Mode: luminosity
Model | NIKON D40 |
Model: “Nikon D40”
Modify Black & White Layer
Modify Curves Layer
Modify Levels Layer
ModifyDate (1) | 2009:04:22 22:31:46+02:00 |
ModifyDate | 2009:04:22 22:31:46 |
Opacity: 100%
Open C:\Users\Line\Pictures\Bilder Nordic\Bilder_Nordic_Raw\Mars\31.03.09_2099.dng
Orientation | Horizontal (normal) |
Output Sharpen For: None
Parametric Darks: 0
Parametric Highlight Split: 75
Parametric Highlights: -61
Parametric Lights: -100
Parametric Midtone Split: 50
Parametric Shadow Split: 25
Parametric Shadows: 0
ParametricDarks | 0 |
ParametricHighlights | -61 |
ParametricHighlightSplit | 75 |
ParametricLights | -100 |
ParametricMidtoneSplit | 50 |
ParametricShadows | 0 |
ParametricShadowSplit | 25 |
point: 0, 15
point: 105, 86
point: 255, 255
Post Crop Vignetting Amount: 0
PostCropVignetteAmount | 0 |
Preset Kind: Custom
Preset Kind: Default
ProfileDescription | Adobe RGB (1998) |
Quality: 12
Radius: 0,9 pixels
Rating | 0 |
RawFileName | 31.03.09_2099.dng |
Recovery: 20
Red Eye: “”
Red Hue: 0
Red Saturation: 0
red: -1
red: -43
Red: 225
red: 40
RedHue | 0 |
RedSaturation | 0 |
Resolution: 240
Right: 31,83 cm
Rights | Copyrighted - DO NOT COPY! |
Saturation (2) | 0 |
Saturation Adjust Aqua: 0
Saturation Adjust Blue: 0
Saturation Adjust Green: 0
Saturation Adjust Magenta: 0
Saturation Adjust Orange: 0
Saturation Adjust Purple: 0
Saturation Adjust Red: 0
Saturation Adjust Yellow: 0
Saturation | Normal |
Saturation: 0
SaturationAdjustmentAqua | 0 |
SaturationAdjustmentBlue | 0 |
SaturationAdjustmentGreen | 0 |
SaturationAdjustmentMagenta | 0 |
SaturationAdjustmentOrange | 0 |
SaturationAdjustmentPurple | 0 |
SaturationAdjustmentRed | 0 |
SaturationAdjustmentYellow | 0 |
Save As: JPEG
Save As: Photoshop
Scale: 1
ScaleFactor35efl | 1.5 |
SceneCaptureType | Standard |
SceneType | Directly photographed |
Select layer “Black & White 1” Without Make Visible
Select layer “Curves 1” Without Make Visible
Select layer “Levels 1” Without Make Visible
SensingMethod | One-chip color area |
SerialNumber | 6575571 |
Set current adjustment layer To: black and white
Set current adjustment layer To: curves
Set current adjustment layer To: levels
Set filter effects 1 of current layer filter effects
Settings: Custom
Shadow Tint: 0
Shadows | 6 |
ShadowTint | 0 |
Sharpen Amount: 0
Sharpen Detail: 25
Sharpen Masking: 0
Sharpen Radius: 1
SharpenDetail | 25 |
SharpenEdgeMasking | 0 |
SharpenRadius | +1.0 |
Sharpness (2) | 0 |
Sharpness | Normal |
Show Background
Show layer “Black & White 1”
ShutterSpeed | 1/25 |
ShutterSpeedValue | 1/25 |
Software | Adobe Photoshop CS4 Windows |
Space: Adobe RGB (1998)
Split Tone Balance: 0
Split Tone Highlight Hue: 0
Split Tone Highlight Saturation: 0
Split Tone Shadow Hue: 0
Split Tone Shadow Saturation: 0
SplitToningBalance | 0 |
SplitToningHighlightHue | 0 |
SplitToningHighlightSaturation | 0 |
SplitToningShadowHue | 0 |
SplitToningShadowSaturation | 0 |
SubjectDistanceRange | Unknown |
Target Height: 0 pixels
Target Resolution: 0 per cm
Target Width: 0 pixels
Temperature: 7200
Threshold: 0
tint color: RGB color
Tint | -16 |
Tint: -16
Tone Curve: 0, 0, 32, 22, 64, 56, 128, 128, 192, 196, 255, 255
ToneCurve | 0, 0, 32, 22, 64, 56, 128, 128, 192, 196, 255, 255 |
ToneCurveName | Medium Contrast |
Top: 1,45 cm
Type: black and white
Type: curves
Type: levels
Unsharp Mask
Unsharp Mask Amount: 114%
URL_List | |
UsageTerms | Please give me credit when using my products (Online galleries, boards, webpage, ...Line Bjerkengen). Any use of my files without promision will be charged by double price of first agreed. |
Version | 5.3 |
Vibrance | 0 |
Vibrance: 0
VignetteAmount | 0 |
Vignetting Amount: 0
White Balance: Custom
WhiteBalance (2) | Custom |
WhiteBalance | Auto |
With Copy
With Maximize Compatibility
With Optimized
Without Convert to Grayscale
Without tinting
yellow: 30
yellow: 60
yellow: 88