Felt | Verdi |
AlreadyApplied | True |
Aperture | 2.8 |
ApertureValue | 2.8 |
Artist | Knutsen Bjørke Magnus |
AuthorsPosition | En midtsommernattsdrøm |
BitsPerSample | 8 |
BlueHue | 0 |
BlueSaturation | 0 |
Brightness | 0 |
By-line | Knutsen Bj¿rke Magnus |
By-lineTitle | En midtsommernattsdr¿m |
CameraProfile | Embedded |
Caption-Abstract | Intervju med regiss¿r Ole Anders Tandber og skuespiller Toralv Maurstad, i forbindelse med ny oppsetning av En Midtsommernattsdr¿m. Vi fŒr ogsŒ fotografere under pr¿ver. |
ChromaticAberrationB | 0 |
ChromaticAberrationR | 0 |
CircleOfConfusion | 0.031 mm |
City | Nationaltheatret, skuespillinnga |
Clarity | 0 |
ColorComponents | 3 |
ColorMode | RGB |
ColorNoiseReduction | 0 |
ColorSpace (1) | Unknown (-1) |
ColorSpace | Uncalibrated |
Contrast | 0 |
ConvertToGrayscale | False |
Copyright | (c) Magnus Knutsen Bjorke
CopyrightFlag | False |
CopyrightNotice | (c) Magnus Knutsen Bjorke
CreateDate (1) | 2009:02:19 16:23:38+01:00 |
CreateDate | 2009:02:19 11:11:30 |
Creator | Knutsen Bjørke Magnus |
CreatorTool | Adobe Photoshop CS3 Macintosh |
CustomField4 | Morgen |
CustomRendered | Normal |
DateTimeDigitized | 2009:02:19 11:11:30:15 |
DateTimeOriginal (1) | 2009:02:19 11:11:30:15 |
DateTimeOriginal | 2009:02:19 11:11:30 |
Defringe | 0 |
Description | Intervju med regissør Ole Anders Tandber og skuespiller Toralv Maurstad, i forbindelse med ny oppsetning av En Midtsommernattsdrøm. Vi får også fotografere under prøver. |
ExifImageHeight | 853 |
ExifImageWidth | 1280 |
Exposure | 0.00 |
ExposureCompensation | 0 |
ExposureMode | Manual |
ExposureProgram | Manual |
ExposureTime | 1/60 |
FillLight | 14 |
Firmware | 1.0.6 |
Flash | Off, Did not fire |
FlashCompensation | 0 |
FlashFired | False |
FlashFunction | False |
FlashMode | Off |
FlashRedEyeMode | False |
FlashReturn | No return detection |
FNumber | 2.8 |
FocalLength | 24.0 mm |
FocalLength35efl | 24.0 mm (35 mm equivalent: 23.4 mm) |
Format | image/jpeg |
FOV | 75.1 deg |
GPSVersionID | 2.2.0.0 |
GreenHue | 0 |
GreenSaturation | 0 |
HasCrop | False |
HasSettings | True |
HighlightRecovery | 0 |
HueAdjustmentAqua | 0 |
HueAdjustmentBlue | 0 |
HueAdjustmentGreen | 0 |
HueAdjustmentMagenta | 0 |
HueAdjustmentOrange | 0 |
HueAdjustmentPurple | 0 |
HueAdjustmentRed | 0 |
HueAdjustmentYellow | 0 |
HyperfocalDistance | 6.68 m |
ICCProfileName | ColorMatch RGB |
ImageDescription | Intervju med regissør Ole Anders Tandber og skuespiller Toralv Maurstad, i forbindelse med ny oppsetning av En Midtsommernattsdrøm. Vi får også fotografere under prøver. |
ImageHeight | 853 |
ImageNumber | 0 |
ImageSize | 1280x853 |
ImageWidth | 1280 |
IncrementalTemperature | -13 |
IncrementalTint | 0 |
ISO | 2500 |
JobId | 8F54C95F-09CE-4249-B700-0E3F16944645 |
Lens | EF24-70mm f/2.8L USM |
LensInfo | 24-70mm f/? |
LightValue | 4.2 |
LuminanceAdjustmentAqua | 0 |
LuminanceAdjustmentBlue | 0 |
LuminanceAdjustmentGreen | 0 |
LuminanceAdjustmentMagenta | 0 |
LuminanceAdjustmentOrange | 0 |
LuminanceAdjustmentPurple | 0 |
LuminanceAdjustmentRed | 0 |
LuminanceAdjustmentYellow | 0 |
LuminanceSmoothing | 0 |
Make | Canon |
MaxApertureValue | 2.8 |
Megapixels | 1.1 |
MeteringMode | Multi-segment |
Model | Canon EOS 5D Mark II |
ModifyDate (1) | 2009:02:19 16:23:38+01:00 |
ModifyDate | 2009:02:19 16:23:38 |
Orientation | Horizontal (normal) |
OriginalTransmissionReference | 242370 |
OwnerName | Magnus Knutsen Bjorke |
ParametricDarks | 0 |
ParametricHighlights | 0 |
ParametricHighlightSplit | 75 |
ParametricLights | 0 |
ParametricMidtoneSplit | 50 |
ParametricShadows | 0 |
ParametricShadowSplit | 25 |
ProfileDescription | ColorMatch RGB |
Rating | 0 |
RawFileName | _MG_5807.JPG |
RedHue | 0 |
RedSaturation | 0 |
Rights | (c) Magnus Knutsen Bjorke
Saturation | 0 |
SaturationAdjustmentAqua | 0 |
SaturationAdjustmentBlue | 0 |
SaturationAdjustmentGreen | 0 |
SaturationAdjustmentMagenta | 0 |
SaturationAdjustmentOrange | 0 |
SaturationAdjustmentPurple | 0 |
SaturationAdjustmentRed | 0 |
SaturationAdjustmentYellow | 0 |
ScaleFactor35efl | 1.0 |
SceneCaptureType | Standard |
SerialNumber | 230118093 |
Shadows | 7 |
ShadowTint | 0 |
SharpenDetail | 25 |
SharpenEdgeMasking | 0 |
SharpenRadius | +1.0 |
Sharpness | 0 |
ShutterSpeed | 1/60 |
ShutterSpeedValue | 1/60 |
Software | Adobe Photoshop CS3 Macintosh |
Source | Christiansen Ann S |
SplitToningBalance | 0 |
SplitToningHighlightHue | 0 |
SplitToningHighlightSaturation | 0 |
SplitToningShadowHue | 0 |
SplitToningShadowSaturation | 0 |
ToneCurve | 0, 0, 255, 255 |
ToneCurveName | Linear |
TransmissionReference | 242370 |
URL_List | |
UserComment | |
Version | 4.4.1 |
Vibrance | 0 |
VignetteAmount | 0 |
WhiteBalance (2) | Custom |
WhiteBalance | Manual |
XMPFileStamps | 2009:02:19 12:36:19+01:00 |