Felt | Verdi |
AlreadyApplied | True |
Aperture | 14.0 |
ApertureValue | 14.0 |
BitsPerSample | 8 |
BlueHue | 0 |
BlueSaturation | 0 |
Brightness | +39 |
CameraProfile | ACR 4.4 |
ChromaticAberrationB | 0 |
ChromaticAberrationR | 0 |
CircleOfConfusion | 0.019 mm |
Clarity | 0 |
ColorComponents | 3 |
ColorMode | RGB |
ColorNoiseReduction | 25 |
ColorSpace | Uncalibrated |
ColorTemperature | 6200 |
Contrast | +25 |
ConvertToGrayscale | False |
CreateDate (1) | 2008:12:02 15:31:16.01+01:00 |
CreateDate | 2008:12:02 15:31:16 |
CreatorTool | Adobe Photoshop CS3 Macintosh |
CustomRendered | Normal |
DateTimeDigitized | 2008:12:02 15:31:16.01+01:00 |
DateTimeOriginal (1) | 2008:12:02 15:31:16.01+01:00 |
DateTimeOriginal | 2008:12:02 15:31:16 |
Defringe | 0 |
ExifImageHeight | 3825 |
ExifImageWidth | 2516 |
Exposure | -0.35 |
ExposureCompensation | 0 |
ExposureMode | Manual |
ExposureProgram | Manual |
ExposureTime | 1/25 |
FillLight | 12 |
Firmware | 1.0.5 |
Flash | Off, Did not fire |
FlashCompensation | 0 |
FlashFired | False |
FlashFunction | False |
FlashMode | Off |
FlashRedEyeMode | False |
FlashReturn | No return detection |
FNumber | 14.0 |
FocalLength | 50.0 mm |
FocalLength35efl | 50.0 mm (35 mm equivalent: 80.9 mm) |
Format | image/jpeg |
FOV | 25.1 deg |
GreenHue | 0 |
GreenSaturation | 0 |
HasCrop | False |
HasSettings | True |
HighlightRecovery | 0 |
HueAdjustmentAqua | 0 |
HueAdjustmentBlue | 0 |
HueAdjustmentGreen | 0 |
HueAdjustmentMagenta | 0 |
HueAdjustmentOrange | +3 |
HueAdjustmentPurple | 0 |
HueAdjustmentRed | +9 |
HueAdjustmentYellow | +13 |
HyperfocalDistance | 9.62 m |
ICCProfileName | Adobe RGB (1998) |
ImageHeight | 3825 |
ImageNumber | 0 |
ImageSize | 2516x3825 |
ImageWidth | 2516 |
ISO | 100 |
Lens | EF50mm f/1.4 USM |
LensInfo | 50mm f/? |
LightValue | 12.3 |
LuminanceAdjustmentAqua | 0 |
LuminanceAdjustmentBlue | 0 |
LuminanceAdjustmentGreen | 0 |
LuminanceAdjustmentMagenta | 0 |
LuminanceAdjustmentOrange | +20 |
LuminanceAdjustmentPurple | 0 |
LuminanceAdjustmentRed | -31 |
LuminanceAdjustmentYellow | -26 |
LuminanceSmoothing | 0 |
Make | Canon |
MaxApertureValue | 1.4 |
Megapixels | 9.6 |
MeteringMode | Multi-segment |
Model | Canon EOS 40D |
ModifyDate (1) | 2008:12:06 02:35:47+01:00 |
ModifyDate | 2008:12:06 02:35:47 |
Orientation | Horizontal (normal) |
ParametricDarks | +2 |
ParametricHighlights | -21 |
ParametricHighlightSplit | 75 |
ParametricLights | -8 |
ParametricMidtoneSplit | 50 |
ParametricShadows | +4 |
ParametricShadowSplit | 25 |
PostCropVignetteAmount | 0 |
ProfileDescription | Adobe RGB (1998) |
Rating | 3 |
RawFileName | IMG_9859.CR2 |
RedHue | 0 |
RedSaturation | 0 |
Saturation | 0 |
SaturationAdjustmentAqua | 0 |
SaturationAdjustmentBlue | 0 |
SaturationAdjustmentGreen | 0 |
SaturationAdjustmentMagenta | 0 |
SaturationAdjustmentOrange | -8 |
SaturationAdjustmentPurple | 0 |
SaturationAdjustmentRed | +71 |
SaturationAdjustmentYellow | +48 |
ScaleFactor35efl | 1.6 |
SceneCaptureType | Standard |
SerialNumber | 930523664 |
Shadows | 5 |
ShadowTint | 0 |
SharpenDetail | 25 |
SharpenEdgeMasking | 0 |
SharpenRadius | +1.0 |
Sharpness | 0 |
ShutterSpeed | 1/25 |
ShutterSpeedValue | 1/25 |
Software | Adobe Photoshop CS4 Windows |
SplitToningBalance | 0 |
SplitToningHighlightHue | 0 |
SplitToningHighlightSaturation | 0 |
SplitToningShadowHue | 0 |
SplitToningShadowSaturation | 0 |
Tint | +4 |
ToneCurve | 0, 0, 32, 22, 64, 56, 128, 128, 192, 196, 255, 255 |
ToneCurveName | Medium Contrast |
URL_List | |
Version | 5.0 |
Vibrance | -3 |
VignetteAmount | 0 |
WhiteBalance (2) | Custom |
WhiteBalance | Auto |