Felt | Verdi |
AlreadyApplied | True |
Aperture | 1.8 |
ApertureValue | 1.8 |
Artist | Håvard Kallestad |
BitsPerSample | 8 |
BlueHue | 0 |
BlueSaturation | 0 |
Brightness | +50 |
By-line | HŒvard Kallestad |
CameraProfile | ACR 3.3 |
ChromaticAberrationB | 0 |
ChromaticAberrationR | 0 |
CircleOfConfusion | 0.030 mm |
Clarity | 33 |
ColorComponents | 1 |
ColorMode | RGB |
ColorSpace | Uncalibrated |
ColorTemperature | 5300 |
Contrast | +25 |
ConvertToGrayscale | True |
Copyright | (c) 2007 Håvard Kallestad |
CopyrightNotice | (c) 2007 HŒvard Kallestad |
CreateDate (1) | 2008:02:08 01:50:13+01:00 |
CreateDate | 2008:02:08 10:09:28 |
Creator | Håvard Kallestad |
CreatorTool | Adobe Photoshop CS3 Macintosh |
CustomRendered | Normal |
DateTimeDigitized | 2008:02:08 10:09:28+01:00 |
DateTimeOriginal (1) | 2008:02:08 10:09:28+01:00 |
DateTimeOriginal | 2008:02:08 10:09:28 |
Defringe | 0 |
ExifImageHeight | 667 |
ExifImageWidth | 1000 |
Exposure | +0.35 |
ExposureCompensation | -1/3 |
ExposureMode | Auto |
ExposureProgram | Aperture-priority AE |
ExposureTime | 1/50 |
FillLight | 13 |
Firmware | 1.1.0 |
Flash | Off, Did not fire |
FlashCompensation | 0 |
FlashFired | False |
FlashFunction | False |
FlashMode | Off |
FlashRedEyeMode | False |
FlashReturn | No return detection |
FNumber | 1.8 |
FocalLength | 28.0 mm |
FocalLength35efl | 28.0 mm (35 mm equivalent: 28.1 mm) |
Format | image/jpeg |
FOV | 65.4 deg |
GrayMixerAqua | -74 |
GrayMixerBlue | +74 |
GrayMixerGreen | +1 |
GrayMixerMagenta | 0 |
GrayMixerOrange | -14 |
GrayMixerPurple | 0 |
GrayMixerRed | +24 |
GrayMixerYellow | +13 |
GreenHue | 0 |
GreenSaturation | 0 |
HasCrop | False |
HasSettings | True |
HighlightRecovery | 0 |
HyperfocalDistance | 14.53 m |
ICCProfileName | Adobe RGB (1998) |
ImageHeight | 667 |
ImageNumber | 30 |
ImageSize | 1000x667 |
ImageWidth | 1000 |
ISO | 100 |
Lens | EF28mm f/1.8 USM |
LensInfo | 28mm f/? |
LightValue | 7.3 |
LuminanceSmoothing | 0 |
Make | Canon |
MaxApertureValue | 1.8 |
Megapixels | 0.667 |
MeteringMode | Spot |
Model | Canon EOS 5D |
ModifyDate (1) | 2008:11:09 13:11:55+01:00 |
ModifyDate | 2008:11:09 13:11:55 |
Orientation | Horizontal (normal) |
ParametricDarks | 0 |
ParametricHighlights | 0 |
ParametricHighlightSplit | 75 |
ParametricLights | 0 |
ParametricMidtoneSplit | 50 |
ParametricShadows | 0 |
ParametricShadowSplit | 25 |
ProfileDescription | Adobe RGB (1998) |
Rating | 5 |
RawFileName | _MG_6862.CR2 |
RedHue | 0 |
RedSaturation | 0 |
Rights | (c) 2007 Håvard Kallestad |
ScaleFactor35efl | 1.0 |
SceneCaptureType | Standard |
SerialNumber | 1931203233 |
Shadows | 12 |
ShadowTint | 0 |
SharpenDetail | 25 |
SharpenEdgeMasking | 0 |
SharpenRadius | +1.0 |
Sharpness | 25 |
ShutterSpeed | 1/50 |
ShutterSpeedValue | 1/50 |
SidecarForExtension | CR2 |
Software | Adobe Photoshop CS4 Macintosh |
SplitToningBalance | 0 |
SplitToningHighlightHue | 0 |
SplitToningHighlightSaturation | 0 |
SplitToningShadowHue | 0 |
SplitToningShadowSaturation | 0 |
Tint | -3 |
ToneCurve | 0, 0, 32, 16, 64, 50, 128, 128, 192, 202, 255, 255 |
ToneCurveName | Strong Contrast |
URL_List | |
Version | 4.2 |
VignetteAmount | -96 |
VignetteMidpoint | 22 |
WhiteBalance (2) | As Shot |
WhiteBalance | Auto |