Felt | Verdi |
AlreadyApplied | True |
Aperture | 4.0 |
ApertureValue | 4.0 |
BitsPerSample | 8 |
BlueHue | -1 |
BlueSaturation | +22 |
Brightness | +50 |
CameraProfile | Embedded |
ChromaticAberrationB | 0 |
ChromaticAberrationR | 0 |
CircleOfConfusion | 0.019 mm |
ColorComponents | 3 |
ColorMode | RGB |
ColorNoiseReduction | 25 |
ColorSpace | Uncalibrated |
ColorTemperature | 6050 |
Contrast | +51 |
ConvertToGrayscale | False |
CreateDate (1) | 2008:10:23 22:07:48+02:00 |
CreateDate | 2008:10:22 16:19:40 |
CreatorTool | Adobe Photoshop CS3 Windows |
CropAngle | -0.698694 |
CropBottom | 0.982036 |
CropLeft | 0.006025 |
CropRight | 0.99501 |
CropTop | 0.145269 |
CustomRendered | Normal |
DateTimeDigitized | 2008:10:22 16:19:40.04+02:00 |
DateTimeOriginal (1) | 2008:10:22 16:19:40.04+02:00 |
DateTimeOriginal | 2008:10:22 16:19:40 |
ExifImageHeight | 2153 |
ExifImageWidth | 3776 |
Exposure | -0.05 |
ExposureCompensation | 0 |
ExposureMode | Manual |
ExposureProgram | Manual |
ExposureTime | 1/100 |
FillLight | 0 |
Firmware | 1.0.5 |
Flash | Off, Did not fire |
FlashCompensation | 0 |
FlashFired | False |
FlashFunction | False |
FlashMode | Off |
FlashRedEyeMode | False |
FlashReturn | No return detection |
FNumber | 4.0 |
FocalLength | 22.0 mm |
FocalLength35efl | 22.0 mm (35 mm equivalent: 35.6 mm) |
Format | image/jpeg |
FOV | 53.6 deg |
GreenHue | +6 |
GreenSaturation | +7 |
HasCrop | True |
HasSettings | True |
HighlightRecovery | 1 |
HueAdjustmentAqua | -3 |
HueAdjustmentBlue | +28 |
HueAdjustmentGreen | -13 |
HueAdjustmentMagenta | +15 |
HueAdjustmentOrange | -47 |
HueAdjustmentPurple | -63 |
HueAdjustmentRed | +8 |
HueAdjustmentYellow | -42 |
HyperfocalDistance | 6.52 m |
ICCProfileName | Adobe RGB (1998) |
ImageHeight | 2153 |
ImageNumber | 0 |
ImageSize | 3776x2153 |
ImageWidth | 3776 |
ISO | 200 |
Lens | EF-S17-85mm f/4-5.6 IS USM |
LensInfo | 17-85mm f/? |
LightValue | 9.6 |
LuminanceAdjustmentAqua | -3 |
LuminanceAdjustmentBlue | -69 |
LuminanceAdjustmentGreen | +54 |
LuminanceAdjustmentMagenta | +40 |
LuminanceAdjustmentOrange | +93 |
LuminanceAdjustmentPurple | -90 |
LuminanceAdjustmentRed | +40 |
LuminanceAdjustmentYellow | -24 |
LuminanceSmoothing | 0 |
Make | Canon |
MaxApertureValue | 4.0 |
Megapixels | 8.1 |
MeteringMode | Center-weighted average |
Model | Canon EOS 40D |
ModifyDate (1) | 2008:10:28 23:08:37+01:00 |
ModifyDate | 2008:10:28 23:08:37 |
Orientation | Horizontal (normal) |
ParametricDarks | -11 |
ParametricHighlights | +58 |
ParametricHighlightSplit | 75 |
ParametricLights | +33 |
ParametricMidtoneSplit | 50 |
ParametricShadows | +9 |
ParametricShadowSplit | 25 |
ProfileDescription | Adobe RGB (1998) |
Rating | 3 |
RawFileName | IMG_7811.dng |
RedHue | +16 |
RedSaturation | -1 |
Saturation | -1 |
SaturationAdjustmentAqua | -88 |
SaturationAdjustmentBlue | -64 |
SaturationAdjustmentGreen | -97 |
SaturationAdjustmentMagenta | +3 |
SaturationAdjustmentOrange | +53 |
SaturationAdjustmentPurple | +25 |
SaturationAdjustmentRed | +100 |
SaturationAdjustmentYellow | -21 |
ScaleFactor35efl | 1.6 |
SceneCaptureType | Standard |
SerialNumber | 930523664 |
Shadows | 2 |
ShadowTint | +11 |
Sharpness | 73 |
ShutterSpeed | 1/100 |
ShutterSpeedValue | 1/100 |
Software | Adobe Photoshop CS4 Windows |
SplitToningBalance | 0 |
SplitToningHighlightHue | 32 |
SplitToningHighlightSaturation | 14 |
SplitToningShadowHue | 86 |
SplitToningShadowSaturation | 13 |
TimeZoneOffset | 2 2 |
Tint | +7 |
ToneCurve | 0, 0, 32, 22, 64, 56, 128, 128, 192, 196, 255, 255 |
ToneCurveName | Medium Contrast |
URL_List | |
Version | 4.0 |
Vibrance | +20 |
VignetteAmount | -79 |
VignetteMidpoint | 45 |
WhiteBalance (2) | Custom |
WhiteBalance | Manual |