Felt | Verdi |
AlreadyApplied | True |
Aperture | 9.0 |
ApertureValue | 9.0 |
Artist | Gaute Ulvik Haugan |
AuthorsPosition | Journalist |
BitsPerSample | 8 |
BlueHue | +11 |
BlueSaturation | -21 |
Brightness | 0 |
By-line | Gaute Ulvik Haugan |
By-lineTitle | Journalist |
CameraProfile | ACR 2.4 |
Caption-Abstract | Gaute Ulvik Haugan |
CFAPattern | [Green,Red][Blue,Green] |
ChromaticAberrationB | 0 |
ChromaticAberrationR | 0 |
CircleOfConfusion | 0.020 mm |
Clarity | 0 |
ColorComponents | 1 |
ColorMode | RGB |
ColorNoiseReduction | 25 |
ColorSpace | sRGB |
ColorTemperature | 2850 |
Contrast (2) | +19 |
Contrast | Normal |
ConvertToGrayscale | False |
Copyright | Gaute Ulvik Haugan, +47 98252184 |
CopyrightFlag | False |
CopyrightNotice | Gaute Ulvik Haugan, +47 98252184 |
CreateDate (1) | 2006:07:21 23:51:06.91+02:00 |
CreateDate | 2006:07:22 14:30:39 |
Creator | Gaute Ulvik Haugan |
CreatorAddress | Eidsbotnvegen 23 |
CreatorCity | Levanger |
CreatorCountry | Norway |
CreatorPostalCode | N7600 |
CreatorTool | Adobe Photoshop CS2 Macintosh |
CreatorWorkTelephone | +47 98252184 |
CreatorWorkURL | www.txtogfo2.no |
CustomRendered | Normal |
DateTimeDigitized | 2006:07:22 14:30:39.87+02:00 |
DateTimeOriginal (1) | 2006:07:22 14:30:39.87+02:00 |
DateTimeOriginal | 2006:07:22 14:30:39 |
Defringe | 0 |
Description | Gaute Ulvik Haugan |
DigitalZoomRatio | 1 |
ExifImageHeight | 803 |
ExifImageWidth | 1200 |
Exposure | +1.11 |
ExposureCompensation | -1 |
ExposureMode | Auto |
ExposureProgram | Aperture-priority AE |
ExposureTime | 1/400 |
FillLight | 0 |
Flash | No Flash |
FlashFired | False |
FlashFunction | False |
FlashMode | Unknown |
FlashRedEyeMode | False |
FlashReturn | No return detection |
FNumber | 9.0 |
FocalLength | 20.0 mm |
FocalLength35efl | 20.0 mm (35 mm equivalent: 30.0 mm) |
FocalLengthIn35mmFormat | 30 mm |
Format | image/jpeg |
FOV | 61.9 deg |
GainControl | None |
GreenHue | +16 |
GreenSaturation | +51 |
HasCrop | False |
HasSettings | True |
HighlightRecovery | 25 |
HueAdjustmentAqua | 0 |
HueAdjustmentBlue | 0 |
HueAdjustmentGreen | 0 |
HueAdjustmentMagenta | 0 |
HueAdjustmentOrange | 0 |
HueAdjustmentPurple | 0 |
HueAdjustmentRed | 0 |
HueAdjustmentYellow | 0 |
HyperfocalDistance | 2.22 m |
ICCProfileName | sRGB IEC61966-2.1 |
ImageDescription | Gaute Ulvik Haugan |
ImageHeight (1) | 2592 |
ImageHeight | 803 |
ImageNumber | 2043 |
ImageSize | 1200x803 |
ImageWidth (1) | 3872 |
ImageWidth | 1200 |
ISO | 200 |
Lens | 20.0-34.0 mm f/3.5-4.5 |
LensInfo | 20-34mm f/3.5-4.5 |
LightSource | Unknown |
LightValue | 14.0 |
LuminanceAdjustmentAqua | 0 |
LuminanceAdjustmentBlue | 0 |
LuminanceAdjustmentGreen | 0 |
LuminanceAdjustmentMagenta | 0 |
LuminanceAdjustmentOrange | 0 |
LuminanceAdjustmentPurple | 0 |
LuminanceAdjustmentRed | 0 |
LuminanceAdjustmentYellow | 0 |
LuminanceSmoothing | 0 |
Make | NIKON CORPORATION |
MaxApertureValue | 3.6 |
Megapixels | 0.964 |
MeteringMode | Multi-segment |
Model | NIKON D200 |
ModifyDate (1) | 2008:03:27 22:44:44+01:00 |
ModifyDate | 2008:03:27 22:44:44 |
ObjectName | Munken-2726 |
Orientation | Horizontal (normal) |
ParametricDarks | -15 |
ParametricHighlights | +8 |
ParametricHighlightSplit | 75 |
ParametricLights | +15 |
ParametricMidtoneSplit | 50 |
ParametricShadows | -30 |
ParametricShadowSplit | 25 |
ProfileDescription | sRGB IEC61966-2.1 |
RedHue | +23 |
RedSaturation | +10 |
Rights | Gaute Ulvik Haugan, +47 98252184 |
Saturation (2) | +28 |
Saturation | Normal |
SaturationAdjustmentAqua | +50 |
SaturationAdjustmentBlue | +58 |
SaturationAdjustmentGreen | +10 |
SaturationAdjustmentMagenta | 0 |
SaturationAdjustmentOrange | +13 |
SaturationAdjustmentPurple | +23 |
SaturationAdjustmentRed | 0 |
SaturationAdjustmentYellow | +23 |
ScaleFactor35efl | 1.5 |
SceneCaptureType | Standard |
SceneType | Directly photographed |
SensingMethod | One-chip color area |
Shadows | 14 |
ShadowTint | +4 |
SharpenDetail | 20 |
SharpenEdgeMasking | 70 |
SharpenRadius | +1.2 |
Sharpness (2) | 35 |
Sharpness | Normal |
ShutterSpeed | 1/400 |
ShutterSpeedValue | 1/400 |
Software | Adobe Photoshop CS2 Macintosh |
SplitToningBalance | 0 |
SplitToningHighlightHue | 0 |
SplitToningHighlightSaturation | 0 |
SplitToningShadowHue | 0 |
SplitToningShadowSaturation | 0 |
SubjectDistanceRange | Unknown |
Tint | -20 |
Title | Munken-2726 |
ToneCurve | 0, 0, 32, 22, 64, 56, 128, 128, 192, 196, 255, 255 |
ToneCurveName | Medium Contrast |
URL | www.txtogfo2.no |
URL_List | |
Version | 1.0 |
Vibrance | 0 |
VignetteAmount | -100 |
VignetteMidpoint | 40 |
WebStatement | www.txtogfo2.no |
WhiteBalance (2) | As Shot |
WhiteBalance | Auto |