Felt | Verdi |
AlreadyApplied | True |
Aperture | 2.8 |
ApertureValue | 2.8 |
Artist | Roy Sigurd Karlsbakk |
BitsPerSample | 8 |
BlueHue | 0 |
BlueSaturation | 0 |
Brightness | +53 |
By-line | Roy Sigurd Karlsbakk |
CameraProfile | ACR 2.4 |
ChromaticAberrationB | 0 |
ChromaticAberrationR | 0 |
CircleOfConfusion | 0.019 mm |
Clarity | 0 |
ColorComponents | 1 |
ColorNoiseReduction | 0 |
ColorTemperature | 2000 |
Contrast | +2 |
ConvertToGrayscale | True |
Copyright | Roy Sigurd Karlsbakk |
CopyrightNotice | Roy Sigurd Karlsbakk |
CreateDate | 2006:04:06 20:59:24 |
Creator | Roy Sigurd Karlsbakk |
CreatorAddress | Glads Vei 64 |
CreatorCity | Oslo |
CreatorCountry | Norway |
CreatorPostalCode | 0489 |
CreatorTool | Adobe Photoshop Lightroom |
CreatorWorkEmail | roy@karlsbakk.net |
CreatorWorkTelephone | (+47) 98013356 |
CustomRendered | Normal |
DateTimeDigitized | 2006:04:06 20:59:24+02:00 |
DateTimeOriginal (1) | 2006:04:06 20:59:24+02:00 |
DateTimeOriginal | 2006:04:06 20:59:24 |
Defringe | 0 |
Exposure | 0.00 |
ExposureCompensation | 0 |
ExposureMode | Auto |
ExposureProgram | Program AE |
ExposureTime | 1/20 |
FillLight | 0 |
Firmware | 1.1.0 |
Flash | Off, Did not fire |
FlashCompensation | 0 |
FlashFired | False |
FlashFunction | False |
FlashMode | Off |
FlashRedEyeMode | False |
FlashReturn | No return detection |
FNumber | 2.8 |
FocalLength | 200.0 mm |
FocalLength35efl | 200.0 mm (35 mm equivalent: 320.3 mm) |
FOV | 6.4 deg |
GrayMixerAqua | -21 |
GrayMixerBlue | +4 |
GrayMixerGreen | -17 |
GrayMixerMagenta | +27 |
GrayMixerOrange | +7 |
GrayMixerPurple | +23 |
GrayMixerRed | +23 |
GrayMixerYellow | -4 |
GreenHue | 0 |
GreenSaturation | 0 |
HasCrop | False |
HasSettings | True |
HighlightRecovery | 36 |
HyperfocalDistance | 761.44 m |
ImageHeight | 683 |
ImageNumber | 166 |
ImageSize | 1024x683 |
ImageWidth | 1024 |
ISO | 1600 |
Label | Bilder fra konsert med Ingid Olava, Kampen Bistro |
Lens | 80.0-200.0 mm |
LensInfo | 80-200mm f/? |
LightValue | 3.3 |
LuminanceSmoothing | 0 |
Make | Canon |
Marked | True |
MaxApertureValue | 2.8 |
Megapixels | 0.699 |
MeteringMode | Multi-segment |
Model | Canon EOS 20D |
ModifyDate (1) | 2008:07:27 16:03:55+02:00 |
ModifyDate | 2008:07:27 16:03:55 |
OwnerName | unknown |
ParametricDarks | -69 |
ParametricHighlights | +19 |
ParametricHighlightSplit | 75 |
ParametricLights | -98 |
ParametricMidtoneSplit | 50 |
ParametricShadows | -9 |
ParametricShadowSplit | 25 |
ProfileDescription | sRGB IEC61966-2.1 |
Rating | 5 |
RedHue | 0 |
RedSaturation | 0 |
Rights | Roy Sigurd Karlsbakk |
ScaleFactor35efl | 1.6 |
SceneCaptureType | Standard |
SerialNumber | 430111203 |
Shadows | 6 |
ShadowTint | 0 |
SharpenDetail | 25 |
SharpenEdgeMasking | 0 |
SharpenRadius | +1.0 |
Sharpness | 0 |
ShutterSpeed | 1/20 |
ShutterSpeedValue | 1/20 |
SplitToningBalance | 0 |
SplitToningHighlightHue | 0 |
SplitToningHighlightSaturation | 0 |
SplitToningShadowHue | 0 |
SplitToningShadowSaturation | 0 |
Tint | +150 |
ToneCurve | 0, 0, 255, 255 |
ToneCurveName | Linear |
Version | 4.4.1 |
VignetteAmount | 0 |
WhiteBalance (2) | Custom |
WhiteBalance | Auto |