Felt | Verdi |
AlreadyApplied | True |
Aperture | 5.6 |
ApertureValue | 5.6 |
BitsPerSample | 8 |
BlueHue | +3 |
BlueSaturation | -8 |
Brightness | +53 |
CameraProfile | Embedded |
ChromaticAberrationB | 0 |
ChromaticAberrationR | 0 |
CircleOfConfusion | 0.019 mm |
ColorComponents | 3 |
ColorMode | RGB |
ColorNoiseReduction | 25 |
ColorSpace (1) | Unknown (-1) |
ColorSpace | Uncalibrated |
ColorTemperature | 6500 |
Contrast | +46 |
ConvertToGrayscale | False |
CopyrightFlag | False |
CreateDate (1) | 2008:07:04 14:08:25+02:00 |
CreateDate | 2008:06:21 19:31:16 |
CreatorTool | Adobe Photoshop CS3 Windows |
CustomRendered | Normal |
DateTimeDigitized | 2008:06:21 19:31:16.90+02:00 |
DateTimeOriginal (1) | 2008:06:21 19:31:16.90+02:00 |
DateTimeOriginal | 2008:06:21 19:31:16 |
ExifImageHeight | 768 |
ExifImageWidth | 515 |
Exposure | -0.05 |
ExposureCompensation | 0 |
ExposureMode | Manual |
ExposureProgram | Manual |
ExposureTime | 1/125 |
FillLight | 0 |
Firmware | 1.0.5 |
Flash | Off, Did not fire |
FlashCompensation | 0 |
FlashFired | False |
FlashFunction | False |
FlashMode | Off |
FlashRedEyeMode | False |
FlashReturn | No return detection |
FNumber | 5.6 |
FocalLength | 85.0 mm |
FocalLength35efl | 85.0 mm (35 mm equivalent: 137.6 mm) |
Format | image/jpeg |
FOV | 14.9 deg |
GreenHue | -23 |
GreenSaturation | -53 |
HasCrop | False |
HasSettings | True |
HighlightRecovery | 0 |
HueAdjustmentAqua | 0 |
HueAdjustmentBlue | 0 |
HueAdjustmentGreen | 0 |
HueAdjustmentMagenta | 0 |
HueAdjustmentOrange | +12 |
HueAdjustmentPurple | 0 |
HueAdjustmentRed | -51 |
HueAdjustmentYellow | -61 |
HyperfocalDistance | 69.51 m |
ICCProfileName | Adobe RGB (1998) |
ImageHeight | 768 |
ImageNumber | 0 |
ImageSize | 515x768 |
ImageWidth | 515 |
ISO | 320 |
Lens | EF-S17-85mm f/4-5.6 IS USM |
LensInfo | 17-85mm f/? |
LightValue | 10.3 |
LuminanceAdjustmentAqua | 0 |
LuminanceAdjustmentBlue | 0 |
LuminanceAdjustmentGreen | 0 |
LuminanceAdjustmentMagenta | +100 |
LuminanceAdjustmentOrange | -33 |
LuminanceAdjustmentPurple | 0 |
LuminanceAdjustmentRed | -3 |
LuminanceAdjustmentYellow | +63 |
LuminanceSmoothing | 0 |
Make | Canon |
MaxApertureValue | 5.7 |
Megapixels | 0.396 |
MeteringMode | Spot |
Model | Canon EOS 40D |
ModifyDate (1) | 2008:07:04 14:08:25+02:00 |
ModifyDate | 2008:07:04 14:08:25 |
Orientation | Horizontal (normal) |
ParametricDarks | +31 |
ParametricHighlights | +58 |
ParametricHighlightSplit | 75 |
ParametricLights | +46 |
ParametricMidtoneSplit | 50 |
ParametricShadows | -16 |
ParametricShadowSplit | 25 |
ProfileDescription | Adobe RGB (1998) |
Rating | 0 |
RawFileName | IMG_0925 - .dng |
RedHue | +2 |
RedSaturation | -9 |
Saturation | +2 |
SaturationAdjustmentAqua | 0 |
SaturationAdjustmentBlue | 0 |
SaturationAdjustmentGreen | -100 |
SaturationAdjustmentMagenta | -100 |
SaturationAdjustmentOrange | +8 |
SaturationAdjustmentPurple | -100 |
SaturationAdjustmentRed | +99 |
SaturationAdjustmentYellow | -100 |
ScaleFactor35efl | 1.6 |
SceneCaptureType | Standard |
SerialNumber | 930523664 |
Shadows | 12 |
ShadowTint | +7 |
Sharpness | 25 |
ShutterSpeed | 1/125 |
ShutterSpeedValue | 1/125 |
Software | Adobe Photoshop CS3 Windows |
SplitToningBalance | 0 |
SplitToningHighlightHue | 33 |
SplitToningHighlightSaturation | 15 |
SplitToningShadowHue | 12 |
SplitToningShadowSaturation | 9 |
TimeZoneOffset | 2 2 |
Tint | -3 |
ToneCurve | 0, 0, 32, 22, 64, 56, 128, 128, 192, 196, 255, 255 |
ToneCurveName | Medium Contrast |
URL_List | |
Version | 4.0 |
Vibrance | -32 |
VignetteAmount | -98 |
VignetteMidpoint | 9 |
WhiteBalance (2) | Custom |
WhiteBalance | Auto |