Felt | Verdi |
AlreadyApplied | True |
Aperture | 10.0 |
ApertureValue | 10.0 |
Artist | CS Kroeger |
BitsPerSample | 8 |
BlueHue | 0 |
BlueSaturation | 0 |
Brightness | +101 |
By-line | CS Kroeger |
CameraProfile | ACR 2.4 |
Caption-Abstract | Bøylepingvin og unge |
ChromaticAberrationB | 0 |
ChromaticAberrationR | 0 |
Clarity | 0 |
ColorComponents | 3 |
ColorMode | RGB |
ColorNoiseReduction | 25 |
ColorSpace (1) | Unknown (-1) |
ColorSpace | Uncalibrated |
ColorTemperature | 5950 |
Contrast | +36 |
ConvertToGrayscale | False |
CopyrightFlag | False |
Country | Syd Georgia |
Country-PrimaryLocationName | Syd Georgia |
CreateDate (1) | 2008:04:26 22:48:19+02:00 |
CreateDate | 2005:01:14 20:30:28 |
Creator | CS Kroeger |
CreatorAddress | Aamotveien 4 |
CreatorCity | 3158 Andebu |
CreatorCountry | Norway |
CreatorTool | Adobe Photoshop CS3 Windows |
CreatorWorkEmail | christine.s.kroeger@online.no |
CreatorWorkTelephone | +47 95 88 01 88 |
DateTimeDigitized | 2005:01:14 20:30:28+01:00 |
DateTimeOriginal (1) | 2005:01:14 20:30:28+01:00 |
DateTimeOriginal | 2005:01:14 20:30:28 |
Defringe | 0 |
DerivedFrom | |
Description | Bøylepingvin og unge |
ExifImageHeight | 768 |
ExifImageWidth | 1125 |
Exposure | -0.35 |
ExposureCompensation | -1 |
ExposureProgram | Program AE |
ExposureTime | 1/640 |
FillLight | 16 |
Firmware | 2.0.1 |
Flash | No Flash |
FlashFired | False |
FNumber | 10.0 |
FocalLength | 200.0 mm |
FocalLength35efl | 200.0 mm |
Format | image/jpeg |
GreenHue | 0 |
GreenSaturation | 0 |
HasCrop | False |
HasSettings | True |
HighlightRecovery | 0 |
HueAdjustmentAqua | 0 |
HueAdjustmentBlue | 0 |
HueAdjustmentGreen | 0 |
HueAdjustmentMagenta | 0 |
HueAdjustmentOrange | 0 |
HueAdjustmentPurple | 0 |
HueAdjustmentRed | 0 |
HueAdjustmentYellow | 0 |
ICCProfileName | Adobe RGB (1998) |
ImageDescription | Bøylepingvin og unge |
ImageHeight | 768 |
ImageSize | 1125x768 |
ImageWidth | 1125 |
ISO | 400 |
Keywords | Sel |
Lens | 28.0-200.0 mm |
LensInfo | 28-200mm f/? |
LightValue | 14.0 |
Location | Leith |
LuminanceAdjustmentAqua | 0 |
LuminanceAdjustmentBlue | 0 |
LuminanceAdjustmentGreen | 0 |
LuminanceAdjustmentMagenta | 0 |
LuminanceAdjustmentOrange | 0 |
LuminanceAdjustmentPurple | 0 |
LuminanceAdjustmentRed | 0 |
LuminanceAdjustmentYellow | 0 |
LuminanceSmoothing | 0 |
Make | Canon |
MaxApertureValue | 4.5 |
Megapixels | 0.864 |
MeteringMode | Multi-segment |
Model | Canon EOS 10D |
ModifyDate (1) | 2008:04:26 22:48:19+02:00 |
ModifyDate | 2008:04:26 22:48:19 |
Orientation | Horizontal (normal) |
OwnerName | CS Kroeger |
ParametricDarks | 0 |
ParametricHighlights | 0 |
ParametricHighlightSplit | 75 |
ParametricLights | 0 |
ParametricMidtoneSplit | 50 |
ParametricShadows | 0 |
ParametricShadowSplit | 25 |
ProfileDescription | Adobe RGB (1998) |
Rating | 0 |
RawFileName | CRW_2608.CRW |
RedHue | 0 |
RedSaturation | 0 |
Saturation | +4 |
SaturationAdjustmentAqua | 0 |
SaturationAdjustmentBlue | 0 |
SaturationAdjustmentGreen | 0 |
SaturationAdjustmentMagenta | 0 |
SaturationAdjustmentOrange | 0 |
SaturationAdjustmentPurple | 0 |
SaturationAdjustmentRed | 0 |
SaturationAdjustmentYellow | 0 |
SerialNumber | 1530502218 |
Shadows | 1 |
ShadowTint | 0 |
SharpenDetail | 25 |
SharpenEdgeMasking | 0 |
SharpenRadius | +1.0 |
Sharpness | 25 |
ShutterSpeed | 1/640 |
ShutterSpeedValue | 1/640 |
SidecarForExtension | CRW |
Software | Adobe Photoshop CS3 Windows |
SplitToningBalance | 0 |
SplitToningHighlightHue | 0 |
SplitToningHighlightSaturation | 0 |
SplitToningShadowHue | 0 |
SplitToningShadowSaturation | 0 |
Subject | Sel |
Tint | -9 |
ToneCurve | 0, 0, 32, 22, 64, 56, 128, 128, 192, 196, 255, 255 |
ToneCurveName | Medium Contrast |
URL_List | |
Version | 4.2 |
Vibrance | +25 |
VignetteAmount | 0 |
WhiteBalance | Custom |