Felt | Verdi |
AlreadyApplied | True |
Aperture | 16.0 |
ApertureValue | 16.0 |
BitsPerSample (1) | 16, 16, 16 |
BitsPerSample | 8 |
BlueHue | 0 |
BlueSaturation | 0 |
Brightness | 0 |
CameraProfile | ACR 2.4 |
ChromaticAberrationB | 0 |
ChromaticAberrationR | 0 |
CircleOfConfusion | 0.030 mm |
Clarity | 100 |
ColorComponents | 1 |
ColorSpace | Uncalibrated |
ColorTemperature | 7500 |
Contrast | +41 |
ConvertToGrayscale | True |
CopyrightFlag | False |
CreateDate (1) | 2007:10:25 21:48:19+02:00 |
CreateDate | 2007:01:06 16:46:37 |
CreatorTool | Adobe Photoshop CS Macintosh |
CropAngle | 3.43132 |
CropBottom | 0.988736 |
CropHeight | 2643 |
CropLeft | 0.077005 |
CropRight | 0.960377 |
CropTop | 0 |
CropUnit | pixels |
CropWidth | 4024 |
CustomRendered | Normal |
DateTimeDigitized | 2007:01:06 16:46:37+02:00 |
DateTimeOriginal (1) | 2007:01:06 16:46:37+02:00 |
DateTimeOriginal | 2007:01:06 16:46:37 |
Defringe | 0 |
ExifImageHeight | 657 |
ExifImageWidth | 1000 |
Exposure | +1.19 |
ExposureCompensation | -2/3 |
ExposureMode | Auto |
ExposureProgram | Aperture-priority AE |
ExposureTime | 10 |
FillLight | 27 |
Firmware | 1.0.3 |
Flash | Off, Did not fire |
FlashCompensation | 0 |
FlashFired | False |
FlashFunction | False |
FlashMode | Off |
FlashRedEyeMode | False |
FlashReturn | No return detection |
FNumber | 16.0 |
FocalLength | 50.0 mm |
FocalLength35efl | 50.0 mm (35 mm equivalent: 50.1 mm) |
Format | image/jpeg |
FOV | 39.5 deg |
GrayMixerAqua | -17 |
GrayMixerBlue | +14 |
GrayMixerGreen | -28 |
GrayMixerMagenta | +4 |
GrayMixerOrange | -20 |
GrayMixerPurple | +18 |
GrayMixerRed | -11 |
GrayMixerYellow | -24 |
GreenHue | 0 |
GreenSaturation | 0 |
HasCrop | True |
HasSettings | True |
HighlightRecovery | 0 |
HyperfocalDistance | 5.21 m |
ImageHeight (1) | 2643 |
ImageHeight | 657 |
ImageNumber | 8 |
ImageSize | 1000x657 |
ImageWidth (1) | 4024 |
ImageWidth | 1000 |
ISO | 125 |
Lens | EF50mm f/1.4 USM |
LensInfo | 50mm f/? |
LightValue | 4.4 |
LuminanceSmoothing | 0 |
Make | Canon |
MaxApertureValue | 1.4 |
Megapixels | 0.657 |
MeteringMode | Unknown |
Model | Canon EOS 5D |
ModifyDate (1) | 2007:10:25 21:48:38+02:00 |
ModifyDate | 2007:10:25 21:48:38 |
Orientation | Horizontal (normal) |
ParametricDarks | -30 |
ParametricHighlights | +38 |
ParametricHighlightSplit | 75 |
ParametricLights | -4 |
ParametricMidtoneSplit | 50 |
ParametricShadows | 0 |
ParametricShadowSplit | 25 |
PhotometricInterpretation | RGB |
ProfileDescription | Adobe RGB (1998) |
RedHue | 0 |
RedSaturation | 0 |
SamplesPerPixel | 3 |
ScaleFactor35efl | 1.0 |
SceneCaptureType | Standard |
SerialNumber | 730504271 |
Shadows | 0 |
ShadowTint | 0 |
SharpenDetail | 25 |
SharpenEdgeMasking | 0 |
SharpenRadius | +1.0 |
Sharpness | 50 |
ShutterSpeed | 10 |
ShutterSpeedValue | 10 |
Software | Adobe Photoshop CS Macintosh |
SplitToningBalance | 0 |
SplitToningHighlightHue | 0 |
SplitToningHighlightSaturation | 0 |
SplitToningShadowHue | 0 |
SplitToningShadowSaturation | 0 |
Tint | +30 |
ToneCurve | 0, 0, 32, 22, 64, 56, 128, 128, 192, 196, 255, 255 |
ToneCurveName | Medium Contrast |
URL_List | |
Version | 1.0 |
VignetteAmount | 0 |
WhiteBalance | Auto |