Felt | Verdi |
AlreadyApplied | True |
Aperture | 4.0 |
ApertureValue | 4.0 |
Artist | Håvard Kallestad |
BitsPerSample | 8 |
BlueHue | 0 |
BlueSaturation | 0 |
Brightness | 0 |
By-line | HŒvard Kallestad |
CameraProfile | Embedded |
Caption-Abstract | Ida Marie under By:Larm07. Bl¾st kl 18:30. |
CFAPattern | [Green,Red][Blue,Green] |
ChromaticAberrationB | 0 |
ChromaticAberrationR | 0 |
CircleOfConfusion | 0.020 mm |
ColorComponents | 1 |
ColorMode | Grayscale |
ColorSpace (1) | Unknown (-1) |
ColorSpace | Uncalibrated |
Contrast (2) | +50 |
Contrast | Low |
ConvertToGrayscale | True |
CopyrightFlag | False |
CreateDate (1) | 2007:02:15 22:19:32+01:00 |
CreateDate | 2007:02:08 19:56:44 |
Creator | Håvard Kallestad |
CreatorTool | Adobe Photoshop CS3 (10.0x20061208 [20061208.beta.1251 2006/12/08:02:00:00 cutoff; m branch]) Macintosh |
CustomRendered | Normal |
DateTimeDigitized | 2007:02:08 19:56:44+01:00 |
DateTimeOriginal (1) | 2007:02:08 19:56:44+01:00 |
DateTimeOriginal | 2007:02:08 19:56:44 |
Description | Ida Marie under By:Larm07. Blæst kl 18:30. |
DigitalZoomRatio | 1 |
ExifImageHeight | 669 |
ExifImageWidth | 1000 |
Exposure | -0.50 |
ExposureCompensation | 0 |
ExposureMode | Auto |
ExposureProgram | Aperture-priority AE |
ExposureTime | 1/160 |
FillLight | 26 |
Flash | No Flash |
FlashFired | False |
FlashFunction | False |
FlashMode | Unknown |
FlashRedEyeMode | False |
FlashReturn | No return detection |
FNumber | 4.0 |
FocalLength | 17.0 mm |
FocalLength35efl | 17.0 mm (35 mm equivalent: 25.0 mm) |
FocalLengthIn35mmFormat | 25 mm |
Format | image/jpeg |
FOV | 71.5 deg |
GainControl | High gain up |
GrayMixerAqua | -17 |
GrayMixerBlue | +16 |
GrayMixerGreen | -22 |
GrayMixerMagenta | +23 |
GrayMixerOrange | -3 |
GrayMixerPurple | +27 |
GrayMixerRed | +14 |
GrayMixerYellow | -13 |
GreenHue | 0 |
GreenSaturation | 0 |
HasCrop | False |
HasSettings | True |
HighlightRecovery | 0 |
HyperfocalDistance | 3.54 m |
ICCProfileName | Gray Gamma 2.2 |
ImageDescription | Ida Marie under By:Larm07. Blæst kl 18:30. |
ImageHeight | 669 |
ImageNumber | 15206 |
ImageSize | 1000x669 |
ImageWidth | 1000 |
IncrementalTemperature | 0 |
IncrementalTint | 0 |
ISO | 1000 |
Lens | 17.0-55.0 mm f/2.8 |
LensInfo | 17-55mm f/2.8 |
LightSource | Unknown |
LightValue | 8.0 |
LuminanceSmoothing | 0 |
Make | NIKON CORPORATION |
MaxApertureValue | 2.8 |
Megapixels | 0.669 |
MeteringMode | Multi-segment |
Model | NIKON D200 |
ModifyDate (1) | 2007:02:15 22:19:32+01:00 |
ModifyDate | 2007:02:15 22:19:32 |
Orientation | Horizontal (normal) |
ParametricDarks | 0 |
ParametricHighlights | 0 |
ParametricHighlightSplit | 75 |
ParametricLights | 0 |
ParametricMidtoneSplit | 50 |
ParametricShadows | 0 |
ParametricShadowSplit | 25 |
ProfileDescription | Gray Gamma 2.2 |
Rating | 0 |
RawFileName | IdaMarie009.jpg |
RedHue | 0 |
RedSaturation | 0 |
Saturation | Low |
ScaleFactor35efl | 1.5 |
SceneCaptureType | Standard |
SceneType | Directly photographed |
SensingMethod | One-chip color area |
Shadows | 19 |
ShadowTint | 0 |
Sharpness (2) | 0 |
Sharpness | Soft |
ShutterSpeed | 1/160 |
ShutterSpeedValue | 1/160 |
SidecarForExtension | NEF |
Software | Adobe Photoshop CS3 (10.0x20061208 [20061208.beta.1251 2006/12/08:02:00:00 cutoff; m branch]) Macintosh |
SplitToningBalance | 0 |
SplitToningHighlightHue | 0 |
SplitToningHighlightSaturation | 0 |
SplitToningShadowHue | 0 |
SplitToningShadowSaturation | 0 |
SubjectDistanceRange | Unknown |
ToneCurve | 15, 0, 66, 63, 255, 255 |
ToneCurveName | Custom |
URL_List | |
UserComment | (c)H.Kallestad. Phone: +4793027262 |
Version | 4.0x168 |
VignetteAmount | -100 |
VignetteMidpoint | 8 |
WhiteBalance (2) | As Shot |
WhiteBalance | Auto |