Felt | Verdi |
AlreadyApplied | True |
Aperture | 7.1 |
ApertureValue | 7.1 |
Artist | unknown |
AutoLateralCA | 0 |
BitsPerSample (1) | 8 8 8 |
BitsPerSample (4) | 16, 16, 16 |
BitsPerSample | 16 16 16 |
Blacks2012 | -7 |
BlueHue | 0 |
BlueSaturation | 0 |
By-line | unknown |
CameraProfile | Embedded |
ChromaticityChannel1 | 0.7347 0.2653 |
ChromaticityChannel2 | 0.15961 0.84039 |
ChromaticityChannel3 | 0.03661 0.00011 |
ChromaticityChannels | 3 |
ChromaticityColorant | Unknown (0) |
CircleOfConfusion | 0.010 mm |
Clarity2012 | 0 |
ColorGradeBlending | 50 |
ColorGradeGlobalHue | 0 |
ColorGradeGlobalLum | 0 |
ColorGradeGlobalSat | 0 |
ColorGradeHighlightLum | 0 |
ColorGradeMidtoneHue | 0 |
ColorGradeMidtoneLum | 0 |
ColorGradeMidtoneSat | 0 |
ColorGradeShadowLum | 0 |
ColorMode | RGB |
ColorNoiseReduction | 0 |
ColorSpace | Uncalibrated |
Contrast2012 | 0 |
ConvertToGrayscale | True |
CreateDate | 2005:01:14 16:30:00 |
Creator | unknown |
CreatorTool | Adobe Photoshop Lightroom Classic 12.5 (Macintosh) |
CropAngle | 0 |
CropBottom | 1 |
CropConstrainToWarp | 0 |
CropLeft | 0 |
CropRight | 1 |
CropTop | 0 |
CustomRendered | Normal |
DateCreated (1) | 2005:01:14 16:30:00 |
DateCreated | 2005:01:14 |
DateTimeOriginal | 2005:01:14 16:30:00 |
Dehaze | 0 |
ExifImageHeight | 1195 |
ExifImageWidth | 1200 |
Exposure2012 | 0.00 |
ExposureCompensation | 0 |
ExposureMode | Auto |
ExposureProgram | Aperture-priority AE |
ExposureTime | 1/50 |
Firmware | 1.0.2 |
Flash | Off, Did not fire |
FlashCompensation | 0 |
FlashFired | False |
FlashFunction | False |
FlashMode | Off |
FlashRedEyeMode | False |
FlashReturn | No return detection |
FNumber | 7.1 |
FocalLength | 24.0 mm |
FocalLength35efl | 24.0 mm (35 mm equivalent: 69.7 mm) |
Format | image/tiff |
FOV | 29.0 deg |
GrainAmount | 0 |
GrayMixerAqua | 0 |
GrayMixerBlue | +3 |
GrayMixerGreen | 0 |
GrayMixerMagenta | 0 |
GrayMixerOrange | 0 |
GrayMixerPurple | 0 |
GrayMixerRed | 0 |
GrayMixerYellow | 0 |
GreenHue | 0 |
GreenSaturation | 0 |
HasCrop | False |
HasSettings | True |
Highlights2012 | 0 |
HyperfocalDistance | 7.84 m |
ICCProfileName | ProPhoto |
ImageHeight (1) | 598 |
ImageHeight (2) | 299 |
ImageHeight (3) | 150 |
ImageHeight (4) | 7372 |
ImageHeight | 1195 |
ImageNumber | 226 |
ImageSize | 1200x1195 |
ImageWidth (1) | 600 |
ImageWidth (2) | 300 |
ImageWidth (3) | 150 |
ImageWidth (4) | 7406 |
ImageWidth | 1200 |
IncrementalTemperature | 0 |
IncrementalTint | 0 |
ISO | 100 |
Keywords | blinkskudd |
Label | Blue |
Lens | 17.0-85.0 mm |
LensInfo (1) | 17 |
LensInfo (2) | 17-85mm f/? |
LensInfo | 17-85mm f/0 |
LensManualDistortionAmount | 0 |
LensModel | 17.0-85.0 mm |
LensProfileEnable | 0 |
LightValue | 11.3 |
LuminanceSmoothing | 0 |
Make | Canon |
MaxApertureValue | 4.0 |
Megapixels | 1.4 |
MeteringMode | Multi-segment |
Model | Canon EOS 20D |
ModifyDate (1) | 2024:02:10 14:49:13+01:00 |
ModifyDate | 2024:02:10 14:49:13 |
Orientation | Horizontal (normal) |
OverrideLookVignette | False |
OwnerName | unknown |
ParametricDarks | 0 |
ParametricHighlights | 0 |
ParametricHighlightSplit | 75 |
ParametricLights | 0 |
ParametricMidtoneSplit | 50 |
ParametricShadows | 0 |
ParametricShadowSplit | 25 |
PerspectiveAspect | 0 |
PerspectiveHorizontal | 0 |
PerspectiveRotate | 0.0 |
PerspectiveScale | 100 |
PerspectiveUpright | 0 |
PerspectiveVertical | 0 |
PerspectiveX | 0.00 |
PerspectiveY | 0.00 |
PhotometricInterpretation | RGB |
PlanarConfiguration | Chunky |
PostCropVignetteAmount | 0 |
PreservedFileName | IMG_2274 (2).CR2 |
ProcessVersion | 15.4 |
ProfileDescription | ProPhoto |
RawFileName | IMG_2274 (2).TIF |
RedHue | 0 |
RedSaturation | 0 |
RowsPerStrip (1) | 598 |
RowsPerStrip (2) | 299 |
RowsPerStrip (3) | 150 |
RowsPerStrip | 1195 |
SamplesPerPixel | 3 |
ScaleFactor35efl | 2.9 |
SceneCaptureType | Standard |
SerialNumber | 330114276 |
Shadows2012 | 0 |
ShadowTint | 0 |
Sharpness | 0 |
ShutterSpeed | 1/50 |
ShutterSpeedValue | 1/50 |
Software | Adobe Photoshop 25.4 (Macintosh) |
SplitToningBalance | 0 |
SplitToningHighlightHue | 0 |
SplitToningHighlightSaturation | 0 |
SplitToningShadowHue | 0 |
SplitToningShadowSaturation | 0 |
StripByteCounts (1) | 8604000 |
StripByteCounts (2) | 1076400 |
StripByteCounts (3) | 269100 |
StripByteCounts | 67500 |
StripOffsets (1) | 29512 |
StripOffsets (2) | 8634240 |
StripOffsets (3) | 9710848 |
StripOffsets | 9980156 |
SubfileType (1) | Full-resolution Image |
SubfileType | Reduced-resolution image |
Subject | blinkskudd |
Texture | 0 |
This work is licensed under the Creative Commons Attribution-Share Alike 3.0 United States License. To view a copy of this license, visit http://creativecommons.org/licenses/by-sa/3.0/us/ or send a letter to Creative Commons, 171 Second Street, Suite 300, San Francisco, California, 94105, USA. |
ToneCurveName2012 | Linear |
ToneCurvePV2012 | 0, 0, 255, 255 |
ToneCurvePV2012Blue | 0, 0, 255, 255 |
ToneCurvePV2012Green | 0, 0, 255, 255 |
ToneCurvePV2012Red | 0, 0, 255, 255 |
URL_List | |
Version | 15.5 |
VignetteAmount | 0 |
WeightedFlatSubject | blinkskudd |
WhiteBalance (2) | Auto |
WhiteBalance | As Shot |
Whites2012 | 0 |