Felt | Verdi |
AlreadyApplied | True |
Aperture | 8.0 |
ApertureValue | 8.0 |
ApproximateFocusDistance | 1 |
Artist | Kjell Martin Nordby |
AutoLateralCA | 1 |
AutoWhiteVersion | 134348800 |
BitsPerSample | 8 |
Blacks2012 | 0 |
BlueHue | 0 |
BlueSaturation | 0 |
By-line | Kjell Martin Nordby |
CameraProfile | Camera Standard |
CFAPattern | [Red,Green][Green,Blue] |
CircleOfConfusion | 0.030 mm |
Clarity2012 | +52 |
ColorComponents | 3 |
ColorNoiseReduction | 25 |
ColorNoiseReductionDetail | 50 |
ColorNoiseReductionSmoothness | 50 |
ColorTemperature | 7150 |
ColorTransform | YCbCr |
Contrast | Normal |
Contrast2012 | +22 |
ConvertToGrayscale | False |
Copyright | Kjell Martin Nordby |
CopyrightNotice | Kjell Martin Nordby |
CreateDate (1) | 2014:03:02 17:30:12.00 |
CreateDate | 2014:03:02 17:30:12 |
Creator | Kjell Martin Nordby |
CreatorTool | Adobe Photoshop Lightroom 6.0 (Macintosh) |
CreatorWorkEmail | kjellmartin@getmail.no |
CreatorWorkTelephone | +47 982 20 392 |
CropAngle | -0.237173 |
CropBottom | 0.889224 |
CropConstrainToWarp | 0 |
CropLeft | 0.001721 |
CropRight | 0.997991 |
CropTop | 0.006181 |
CustomRendered | Normal |
DateCreated (1) | 2014:03:02 17:30:12.00 |
DateCreated | 2014:03:02 |
DateTimeOriginal | 2014:03:02 17:30:12 |
DefringeGreenAmount | 0 |
DefringeGreenHueHi | 60 |
DefringeGreenHueLo | 40 |
DefringePurpleAmount | 0 |
DefringePurpleHueHi | 70 |
DefringePurpleHueLo | 30 |
DigitalZoomRatio | 1 |
DOF | 12.62 m (0.52 - 13.14 m) |
Exposure2012 | -0.45 |
ExposureCompensation | 0 |
ExposureMode | Manual |
ExposureProgram | Manual |
ExposureTime | 6 |
Flash | No Flash |
FNumber | 8.0 |
FocalLength | 16.0 mm |
FocalLength35efl | 16.0 mm (35 mm equivalent: 16.0 mm) |
FocalLengthIn35mmFormat | 16 mm |
Format | image/jpeg |
FOV | 96.7 deg |
GainControl | None |
GrainAmount | 0 |
GreenHue | 0 |
GreenSaturation | 0 |
HasCrop | True |
HasExtendedXMP | F630D6F6727206056B3F4A3A6D1BA9BD |
HasSettings | True |
Highlights2012 | -98 |
HueAdjustmentAqua | 0 |
HueAdjustmentBlue | 0 |
HueAdjustmentGreen | 0 |
HueAdjustmentMagenta | 0 |
HueAdjustmentOrange | 0 |
HueAdjustmentPurple | 0 |
HueAdjustmentRed | 0 |
HueAdjustmentYellow | 0 |
HyperfocalDistance | 1.07 m |
ImageHeight | 1167 |
ImageNumber | 2144 |
ImageSize | 1960x1167 |
ImageWidth | 1960 |
ISO | 200 |
Keywords | Finnmark, Trollholmsund |
Label | Yellow |
Lens | 16.0 mm f/2.8 |
LensID (1) | 52 |
LensID | AF Fisheye Nikkor 16mm f/2.8D |
LensInfo | 16mm f/2.8 |
LensManualDistortionAmount | 0 |
LensModel | 16.0 mm f/2.8 |
LensProfileChromaticAberrationScale | 100 |
LensProfileDistortionScale | 100 |
LensProfileEnable | 1 |
LensProfileFilename | NIKON D3X (Nikon FX 16mm f2.8 D) - RAW.lcp |
LensProfileName | Adobe (Nikon AF Fisheye-Nikkor 16mm f/2.8D) |
LensProfileSetup | LensDefaults |
LensProfileVignettingScale | 100 |
LightSource | Unknown |
LightValue | 2.4 |
LuminanceAdjustmentAqua | 0 |
LuminanceAdjustmentBlue | -31 |
LuminanceAdjustmentGreen | 0 |
LuminanceAdjustmentMagenta | 0 |
LuminanceAdjustmentOrange | -65 |
LuminanceAdjustmentPurple | +100 |
LuminanceAdjustmentRed | 0 |
LuminanceAdjustmentYellow | -45 |
LuminanceSmoothing | 0 |
Make | NIKON CORPORATION |
MaxApertureValue | 2.8 |
Megapixels | 2.3 |
MeteringMode | Multi-segment |
Model | NIKON Df |
ModifyDate (1) | 2021:12:01 15:08:45+01:00 |
ModifyDate | 2021:12:01 15:08:45 |
Orientation | Horizontal (normal) |
PaintCorrectionActive | true |
PaintCorrectionAmount | 1.000000 |
PaintCorrectionBrightness | 0.000000 |
PaintCorrectionClarity2012 | 0.000000 |
PaintCorrectionContrast2012 | 0.000000 |
PaintCorrectionDefringe | 0.000000 |
PaintCorrectionExposure2012 (1) | 0.597488 |
PaintCorrectionExposure2012 | 0.420604 |
PaintCorrectionHighlights2012 | 0.000000 |
PaintCorrectionHue | 240.000000 |
PaintCorrectionLuminanceNoise | 0.000000 |
PaintCorrectionMaskCenterWeight (11) | 0.334701 |
PaintCorrectionMaskCenterWeight | 0.311735 |
PaintCorrectionMaskFlow (12) | 0.990000 |
PaintCorrectionMaskFlow | 0.240437 |
PaintCorrectionMaskRadius (1) | 0.024835 |
PaintCorrectionMaskRadius (10) | 0.069497 |
PaintCorrectionMaskRadius (11) | 0.020203 |
PaintCorrectionMaskRadius (12) | 0.014443 |
PaintCorrectionMaskRadius (13) | 0.016193 |
PaintCorrectionMaskRadius (2) | 0.031310 |
PaintCorrectionMaskRadius (3) | 0.024384 |
PaintCorrectionMaskRadius (4) | 0.028627 |
PaintCorrectionMaskRadius (5) | 0.029005 |
PaintCorrectionMaskRadius (6) | 0.019782 |
PaintCorrectionMaskRadius (7) | 0.030809 |
PaintCorrectionMaskRadius (8) | 0.018256 |
PaintCorrectionMaskRadius (9) | 0.161647 |
PaintCorrectionMaskRadius | 0.009410 |
PaintCorrectionMaskValue (11) | 0.000000 |
PaintCorrectionMaskValue | 0.409712 |
PaintCorrectionMaskWhat | Mask/Paint |
PaintCorrectionMoire | 0.000000 |
PaintCorrectionSaturation | 0.000000 |
PaintCorrectionShadows2012 | 0.000000 |
PaintCorrectionSharpness | 0.000000 |
PaintCorrectionTemperature | 0.000000 |
PaintCorrectionTint | 0.000000 |
PaintCorrectionWhat | Correction |
ParametricDarks | 0 |
ParametricHighlights | 0 |
ParametricHighlightSplit | 75 |
ParametricLights | 0 |
ParametricMidtoneSplit | 50 |
ParametricShadows | 0 |
ParametricShadowSplit | 25 |
PerspectiveAspect | 0 |
PerspectiveHorizontal | 0 |
PerspectiveRotate | 0.0 |
PerspectiveScale | 100 |
PerspectiveUpright | 0 |
PerspectiveVertical | 0 |
PostCropVignetteAmount | 0 |
ProcessVersion | 6.7 |
ProfileDescription | sRGB IEC61966-2.1 |
Rating | 1 |
RawFileName | 20140302-KMN_1846.jpg |
RedHue | 0 |
RedSaturation | 0 |
Rights | Kjell Martin Nordby |
Saturation (1) | +21 |
Saturation | Normal |
SaturationAdjustmentAqua | 0 |
SaturationAdjustmentBlue | +28 |
SaturationAdjustmentGreen | 0 |
SaturationAdjustmentMagenta | 0 |
SaturationAdjustmentOrange | 0 |
SaturationAdjustmentPurple | 0 |
SaturationAdjustmentRed | 0 |
SaturationAdjustmentYellow | 0 |
ScaleFactor35efl | 1.0 |
SceneCaptureType | Standard |
SceneType | Directly photographed |
SensingMethod | One-chip color area |
SensitivityType | Recommended Exposure Index |
SerialNumber | 6000204 |
Shadows2012 | +84 |
ShadowTint | 0 |
SharpenDetail | 25 |
SharpenEdgeMasking | 0 |
SharpenRadius | +1.0 |
Sharpness (1) | 51 |
Sharpness | Hard |
ShutterSpeed | 6 |
ShutterSpeedValue | 6 |
Software | Adobe Photoshop Lightroom 6.0 (Macintosh) |
SplitToningBalance | 0 |
SplitToningHighlightHue | 9 |
SplitToningHighlightSaturation | 44 |
SplitToningShadowHue | 259 |
SplitToningShadowSaturation | 25 |
Subject | Finnmark, Trollholmsund |
SubjectDistanceRange | Unknown |
Tint | +14 |
ToneCurve | 0, 0, 255, 255 |
ToneCurveBlue | 0, 0, 255, 255 |
ToneCurveGreen | 0, 0, 255, 255 |
ToneCurveName | Linear |
ToneCurveName2012 | Custom |
ToneCurvePV2012 | 0, 0, 216, 255 |
ToneCurvePV2012Blue | 0, 0, 255, 255 |
ToneCurvePV2012Green | 0, 0, 255, 255 |
ToneCurvePV2012Red | 0, 0, 255, 255 |
ToneCurveRed | 0, 0, 255, 255 |
Version | 9.0 |
Vibrance | -1 |
VignetteAmount | 0 |
WhiteBalance (1) | As Shot |
WhiteBalance | Auto |
Whites2012 | -2 |