Felt | Verdi |
AlreadyApplied | True |
Aperture | 8.0 |
ApertureValue | 8.0 |
AutoLateralCA | 0 |
BitsPerSample | 8 |
Blacks2012 | -27 |
BlueHue | 0 |
BlueSaturation | 0 |
CameraProfile | Embedded |
Clarity2012 | +27 |
ColorComponents | 3 |
ColorNoiseReduction | 25 |
ColorNoiseReductionDetail | 50 |
ColorNoiseReductionSmoothness | 50 |
ColorSpace | sRGB |
ColorTransform | YCbCr |
Contrast | Normal |
Contrast2012 | +26 |
ConvertToGrayscale | True |
CreateDate | 2019:09:14 15:37:59 |
CreatorTool | Adobe Photoshop Lightroom Classic 8.4 (Macintosh) |
CustomRendered | Normal |
DateCreated (1) | 2019:09:14 |
DateCreated | 2019:09:14 15:37:59 |
DateTimeOriginal | 2019:09:14 15:37:59 |
Dehaze | 0 |
DigitalZoomRatio | 0 |
Exposure2012 | -0.80 |
ExposureCompensation | 0 |
ExposureMode | Auto |
ExposureProgram | Aperture-priority AE |
ExposureTime | 1/125 |
Flash | No Flash |
FNumber | 8.0 |
Format | image/jpeg |
GrainAmount | 30 |
GrainFrequency | 58 |
GrainSize | 15 |
GrayMixerAqua | -19 |
GrayMixerBlue | +9 |
GrayMixerGreen | +11 |
GrayMixerMagenta | +6 |
GrayMixerOrange | -18 |
GrayMixerPurple | +17 |
GrayMixerRed | -8 |
GrayMixerYellow | -22 |
GreenHue | 0 |
GreenSaturation | 0 |
HasCrop | False |
HasSettings | True |
Highlights2012 | +4 |
ImageHeight | 3968 |
ImageSize | 5952x3968 |
ImageWidth | 5952 |
IncrementalTemperature | -15 |
IncrementalTint | 0 |
ISO | 400 |
Lens | not selected |
LensMake | Leica Camera AG |
LensManualDistortionAmount | 0 |
LensModel | not selected |
LensProfileEnable | 0 |
LensProfileSetup | LensDefaults |
LensSerialNumber | ------- |
LightSource | Unknown |
LightValue | 11.0 |
LookName | |
LuminanceSmoothing | 0 |
Make | Leica Camera AG |
MaxApertureValue | 1.0 |
Megapixels | 23.6 |
MeteringMode | Center-weighted average |
Model | LEICA M (Typ 240) |
ModifyDate (1) | 2019:09:14 17:40:26+02:00 |
ModifyDate | 2019:09:14 17:40:26 |
OverrideLookVignette | True |
ParametricDarks | +39 |
ParametricHighlights | +15 |
ParametricHighlightSplit | 75 |
ParametricLights | -6 |
ParametricMidtoneSplit | 50 |
ParametricShadows | -53 |
ParametricShadowSplit | 25 |
PerspectiveAspect | 0 |
PerspectiveHorizontal | 0 |
PerspectiveRotate | 0.0 |
PerspectiveScale | 100 |
PerspectiveUpright | 0 |
PerspectiveVertical | 0 |
PerspectiveX | 0.00 |
PerspectiveY | 0.00 |
PostCropVignetteAmount | -2 |
PostCropVignetteFeather | 84 |
PostCropVignetteHighlightContrast | 0 |
PostCropVignetteMidpoint | 34 |
PostCropVignetteRoundness | +24 |
PostCropVignetteStyle | 1 |
PreservedFileName | L1007070.JPG |
ProcessVersion | 11.0 |
ProfileDescription | sRGB IEC61966-2.1 |
RawFileName | |
RedHue | 0 |
RedSaturation | 0 |
Saturation | Low |
SceneCaptureType | Standard |
SceneType | Directly photographed |
Shadows2012 | +69 |
ShadowTint | 0 |
SharpenDetail | 100 |
SharpenEdgeMasking | 0 |
SharpenRadius | +3.0 |
Sharpness (1) | 71 |
Sharpness | Normal |
ShutterSpeed | 1/125 |
ShutterSpeedValue | 1/125 |
Software | Adobe Photoshop Lightroom Classic 8.4 (Macintosh) |
SplitToningBalance | 0 |
SplitToningHighlightHue | 0 |
SplitToningHighlightSaturation | 0 |
SplitToningShadowHue | 0 |
SplitToningShadowSaturation | 0 |
Texture | 0 |
ToneCurve | 0, 0, 255, 255 |
ToneCurveBlue | 0, 0, 255, 255 |
ToneCurveGreen | 0, 0, 255, 255 |
ToneCurveName | Linear |
ToneCurveName2012 | Linear |
ToneCurvePV2012 | 0, 0, 255, 255 |
ToneCurvePV2012Blue | 0, 0, 255, 255 |
ToneCurvePV2012Green | 0, 0, 255, 255 |
ToneCurvePV2012Red | 0, 0, 255, 255 |
ToneCurveRed | 0, 0, 255, 255 |
ToneMapStrength | 0 |
Version | 11.4 |
VignetteAmount | 0 |
WhiteBalance (1) | Custom |
WhiteBalance | Auto |
Whites2012 | +33 |