Felt | Verdi |
AlreadyApplied | True |
Aperture | 5.6 |
ApertureValue | 5.6 |
Artist | Arild Thingvoll |
AutoLateralCA | 0 |
BitsPerSample | 8 |
Blacks2012 | -31 |
BlueHue | 0 |
BlueSaturation | 0 |
BrightnessValue | 5.4 |
By-line | Arild Thingvoll |
CameraProfile | Embedded |
CircleOfConfusion | 0.020 mm |
Clarity2012 | +40 |
ColorComponents | 3 |
ColorNoiseReduction | 0 |
ColorSpace | sRGB |
ColorTransform | YCbCr |
Contrast2012 | +19 |
ConvertToGrayscale | False |
Copyright | © Arild Thingvoll |
CopyrightFlag | True |
CopyrightNotice | © Arild Thingvoll |
CreateDate | 2018:07:13 14:55:49 |
Creator | Arild Thingvoll |
CreatorAddress | Fjordavegen 330 |
CreatorCity | Vik i Sogn |
CreatorCountry | Norway |
CreatorPostalCode | 6893 |
CreatorRegion | Sogn og Fjordane |
CreatorWorkEmail | athingvoll@gmail.com |
CreatorWorkTelephone | 91584513 |
CropAngle | -0.550161 |
CropBottom | 0.670031 |
CropConstrainToWarp | 0 |
CropLeft | 0.306206 |
CropRight | 0.815763 |
CropTop | 0.095641 |
CustomRendered | Custom |
DateCreated (1) | 2018:07:13 |
DateCreated | 2018:07:13 14:55:49 |
DateTimeOriginal | 2018:07:13 14:55:49 |
DefringeGreenAmount | 0 |
DefringeGreenHueHi | 60 |
DefringeGreenHueLo | 40 |
DefringePurpleAmount | 0 |
DefringePurpleHueHi | 70 |
DefringePurpleHueLo | 30 |
Dehaze | 0 |
Exposure2012 | 0.00 |
ExposureCompensation | -0.33 |
ExposureMode | Auto |
ExposureProgram | Aperture-priority AE |
ExposureTime | 1/75 |
Flash | No Flash |
FNumber | 5.6 |
FocalLength | 16.0 mm |
FocalLength35efl | 16.0 mm (35 mm equivalent: 24.0 mm) |
FocalLengthIn35mmFormat | 24 mm |
Format | image/jpeg |
FOV | 73.7 deg |
GrainAmount | 0 |
GreenHue | 0 |
GreenSaturation | 0 |
HasCrop | True |
HasExtendedXMP | F3DD3A409EE9505909D08FA58122BFAC |
HasSettings | True |
Highlights2012 | -29 |
HueAdjustmentAqua | 0 |
HueAdjustmentBlue | 0 |
HueAdjustmentGreen | 0 |
HueAdjustmentMagenta | 0 |
HueAdjustmentOrange | 0 |
HueAdjustmentPurple | 0 |
HueAdjustmentRed | 0 |
HueAdjustmentYellow | 0 |
HyperfocalDistance | 2.28 m |
ImageHeight | 800 |
ImageSize | 1044x800 |
ImageWidth | 1044 |
IncrementalTemperature | 0 |
IncrementalTint | 0 |
ISO | 200 |
Keywords | 0718, SH |
Lens | XF16mmF1.4 R WR |
LensInfo | 16mm f/1.4 |
LensMake | FUJIFILM |
LensManualDistortionAmount | 0 |
LensModel | XF16mmF1.4 R WR |
LensProfileEnable | 0 |
LensProfileSetup | LensDefaults |
LensSerialNumber | 76A00436 |
LightSource | Unknown |
LightValue | 10.2 |
LookName | |
LuminanceAdjustmentAqua | 0 |
LuminanceAdjustmentBlue | 0 |
LuminanceAdjustmentGreen | 0 |
LuminanceAdjustmentMagenta | 0 |
LuminanceAdjustmentOrange | 0 |
LuminanceAdjustmentPurple | 0 |
LuminanceAdjustmentRed | 0 |
LuminanceAdjustmentYellow | 0 |
LuminanceSmoothing | 0 |
Make | FUJIFILM |
Marked | True |
MaxApertureValue | 1.4 |
Megapixels | 0.835 |
MeteringMode | Multi-segment |
Model | X-T2 |
ModifyDate (1) | 2018:08:25 23:00:55+02:00 |
ModifyDate | 2018:08:25 23:00:55 |
OverrideLookVignette | False |
PaintCorrectionActive | true |
PaintCorrectionAmount | 1.000000 |
PaintCorrectionBrightness | 0.000000 |
PaintCorrectionClarity2012 (14) | 0.000000 |
PaintCorrectionClarity2012 (2) | 0.221720 |
PaintCorrectionClarity2012 (8) | 0.217390 |
PaintCorrectionClarity2012 | 0.086960 |
PaintCorrectionContrast2012 (15) | 0.152170 |
PaintCorrectionContrast2012 (2) | 0.140270 |
PaintCorrectionContrast2012 (5) | 0.000000 |
PaintCorrectionContrast2012 (8) | 0.108700 |
PaintCorrectionContrast2012 | 0.130430 |
PaintCorrectionCorrectionRangeMaskColorAmount | 0.500000 |
PaintCorrectionCorrectionRangeMaskLumFeather | 0.500000 |
PaintCorrectionCorrectionRangeMaskLumMax | 1.000000 |
PaintCorrectionCorrectionRangeMaskLumMin | 0.000000 |
PaintCorrectionCorrectionRangeMaskType (2) | +1 |
PaintCorrectionCorrectionRangeMaskType | 0 |
PaintCorrectionCorrectionRangeMaskVersion | +2 |
PaintCorrectionDefringe | 0.000000 |
PaintCorrectionExposure2012 (14) | -0.043500 |
PaintCorrectionExposure2012 (15) | 0.108750 |
PaintCorrectionExposure2012 (5) | 0.130500 |
PaintCorrectionExposure2012 (6) | 0.195750 |
PaintCorrectionExposure2012 (7) | -0.065250 |
PaintCorrectionExposure2012 | 0.000000 |
PaintCorrectionHighlights2012 (11) | -0.239130 |
PaintCorrectionHighlights2012 (12) | 0.065220 |
PaintCorrectionHighlights2012 (14) | -0.217390 |
PaintCorrectionHighlights2012 (4) | -0.152170 |
PaintCorrectionHighlights2012 (7) | -0.326090 |
PaintCorrectionHighlights2012 (9) | -0.282610 |
PaintCorrectionHighlights2012 | 0.000000 |
PaintCorrectionHue (3) | 230.000000 |
PaintCorrectionHue | 0.000000 |
PaintCorrectionLocalBlacks2012 (3) | -0.130430 |
PaintCorrectionLocalBlacks2012 | 0.000000 |
PaintCorrectionLocalDehaze (1) | 0.031670 |
PaintCorrectionLocalDehaze (7) | 0.086960 |
PaintCorrectionLocalDehaze | 0.000000 |
PaintCorrectionLocalWhites2012 | 0.000000 |
PaintCorrectionLuminanceNoise | 0.000000 |
PaintCorrectionMaskCenterWeight (21) | 0.000000 |
PaintCorrectionMaskCenterWeight (28) | 0.593504 |
PaintCorrectionMaskCenterWeight (29) | 0.013195 |
PaintCorrectionMaskCenterWeight | 0.035858 |
PaintCorrectionMaskFlow (7) | 0.849000 |
PaintCorrectionMaskFlow | 1.000000 |
PaintCorrectionMaskRadius (1) | 0.069286 |
PaintCorrectionMaskRadius (10) | 0.033893 |
PaintCorrectionMaskRadius (100) | 0.017432 |
PaintCorrectionMaskRadius (101) | 0.017417 |
PaintCorrectionMaskRadius (102) | 0.017454 |
PaintCorrectionMaskRadius (103) | 0.017433 |
PaintCorrectionMaskRadius (104) | 0.017496 |
PaintCorrectionMaskRadius (105) | 0.017591 |
PaintCorrectionMaskRadius (106) | 0.017609 |
PaintCorrectionMaskRadius (107) | 0.017515 |
PaintCorrectionMaskRadius (108) | 0.017415 |
PaintCorrectionMaskRadius (109) | 0.017404 |
PaintCorrectionMaskRadius (11) | 0.048546 |
PaintCorrectionMaskRadius (110) | 0.017457 |
PaintCorrectionMaskRadius (111) | 0.014038 |
PaintCorrectionMaskRadius (112) | 0.014289 |
PaintCorrectionMaskRadius (113) | 0.014321 |
PaintCorrectionMaskRadius (114) | 0.014364 |
PaintCorrectionMaskRadius (115) | 0.014360 |
PaintCorrectionMaskRadius (116) | 0.014370 |
PaintCorrectionMaskRadius (117) | 0.014406 |
PaintCorrectionMaskRadius (118) | 0.014355 |
PaintCorrectionMaskRadius (119) | 0.014385 |
PaintCorrectionMaskRadius (12) | 0.048969 |
PaintCorrectionMaskRadius (121) | 0.014375 |
PaintCorrectionMaskRadius (122) | 0.014377 |
PaintCorrectionMaskRadius (123) | 0.014353 |
PaintCorrectionMaskRadius (124) | 0.014213 |
PaintCorrectionMaskRadius (125) | 0.014212 |
PaintCorrectionMaskRadius (126) | 0.014165 |
PaintCorrectionMaskRadius (127) | 0.014071 |
PaintCorrectionMaskRadius (128) | 0.014059 |
PaintCorrectionMaskRadius (129) | 0.014257 |
PaintCorrectionMaskRadius (13) | 0.049025 |
PaintCorrectionMaskRadius (130) | 0.014274 |
PaintCorrectionMaskRadius (132) | 0.014264 |
PaintCorrectionMaskRadius (133) | 0.023914 |
PaintCorrectionMaskRadius (134) | 0.024121 |
PaintCorrectionMaskRadius (135) | 0.023856 |
PaintCorrectionMaskRadius (136) | 0.023704 |
PaintCorrectionMaskRadius (137) | 0.023935 |
PaintCorrectionMaskRadius (138) | 0.023873 |
PaintCorrectionMaskRadius (139) | 0.025137 |
PaintCorrectionMaskRadius (14) | 0.048569 |
PaintCorrectionMaskRadius (140) | 0.025254 |
PaintCorrectionMaskRadius (141) | 0.023422 |
PaintCorrectionMaskRadius (142) | 0.024408 |
PaintCorrectionMaskRadius (143) | 0.024603 |
PaintCorrectionMaskRadius (15) | 0.048175 |
PaintCorrectionMaskRadius (17) | 0.047605 |
PaintCorrectionMaskRadius (18) | 0.045377 |
PaintCorrectionMaskRadius (19) | 0.045953 |
PaintCorrectionMaskRadius (2) | 0.034589 |
PaintCorrectionMaskRadius (20) | 0.045494 |
PaintCorrectionMaskRadius (21) | 0.045051 |
PaintCorrectionMaskRadius (22) | 0.046177 |
PaintCorrectionMaskRadius (23) | 0.063007 |
PaintCorrectionMaskRadius (24) | 0.120085 |
PaintCorrectionMaskRadius (25) | 0.116603 |
PaintCorrectionMaskRadius (26) | 0.118315 |
PaintCorrectionMaskRadius (27) | 0.050488 |
PaintCorrectionMaskRadius (28) | 0.049351 |
PaintCorrectionMaskRadius (29) | 0.114483 |
PaintCorrectionMaskRadius (3) | 0.034607 |
PaintCorrectionMaskRadius (30) | 0.021988 |
PaintCorrectionMaskRadius (31) | 0.021659 |
PaintCorrectionMaskRadius (32) | 0.024764 |
PaintCorrectionMaskRadius (33) | 0.024709 |
PaintCorrectionMaskRadius (34) | 0.024522 |
PaintCorrectionMaskRadius (35) | 0.020306 |
PaintCorrectionMaskRadius (36) | 0.006881 |
PaintCorrectionMaskRadius (37) | 0.006886 |
PaintCorrectionMaskRadius (38) | 0.007186 |
PaintCorrectionMaskRadius (39) | 0.006887 |
PaintCorrectionMaskRadius (4) | 0.034767 |
PaintCorrectionMaskRadius (40) | 0.006875 |
PaintCorrectionMaskRadius (41) | 0.017257 |
PaintCorrectionMaskRadius (42) | 0.016646 |
PaintCorrectionMaskRadius (43) | 0.010035 |
PaintCorrectionMaskRadius (44) | 0.010003 |
PaintCorrectionMaskRadius (45) | 0.009909 |
PaintCorrectionMaskRadius (46) | 0.009859 |
PaintCorrectionMaskRadius (47) | 0.009864 |
PaintCorrectionMaskRadius (48) | 0.010077 |
PaintCorrectionMaskRadius (49) | 0.010849 |
PaintCorrectionMaskRadius (5) | 0.034829 |
PaintCorrectionMaskRadius (50) | 0.010848 |
PaintCorrectionMaskRadius (51) | 0.010798 |
PaintCorrectionMaskRadius (52) | 0.010722 |
PaintCorrectionMaskRadius (53) | 0.010707 |
PaintCorrectionMaskRadius (54) | 0.010946 |
PaintCorrectionMaskRadius (55) | 0.010931 |
PaintCorrectionMaskRadius (56) | 0.010892 |
PaintCorrectionMaskRadius (57) | 0.014633 |
PaintCorrectionMaskRadius (58) | 0.014620 |
PaintCorrectionMaskRadius (59) | 0.017972 |
PaintCorrectionMaskRadius (6) | 0.034556 |
PaintCorrectionMaskRadius (60) | 0.035041 |
PaintCorrectionMaskRadius (61) | 0.034360 |
PaintCorrectionMaskRadius (62) | 0.041924 |
PaintCorrectionMaskRadius (63) | 0.041730 |
PaintCorrectionMaskRadius (64) | 0.041187 |
PaintCorrectionMaskRadius (65) | 0.041038 |
PaintCorrectionMaskRadius (66) | 0.041148 |
PaintCorrectionMaskRadius (67) | 0.035808 |
PaintCorrectionMaskRadius (69) | 0.035771 |
PaintCorrectionMaskRadius (7) | 0.034381 |
PaintCorrectionMaskRadius (70) | 0.035202 |
PaintCorrectionMaskRadius (71) | 0.035224 |
PaintCorrectionMaskRadius (72) | 0.035229 |
PaintCorrectionMaskRadius (73) | 0.035214 |
PaintCorrectionMaskRadius (74) | 0.035191 |
PaintCorrectionMaskRadius (76) | 0.035192 |
PaintCorrectionMaskRadius (77) | 0.035197 |
PaintCorrectionMaskRadius (78) | 0.017601 |
PaintCorrectionMaskRadius (79) | 0.017569 |
PaintCorrectionMaskRadius (8) | 0.034095 |
PaintCorrectionMaskRadius (80) | 0.017643 |
PaintCorrectionMaskRadius (81) | 0.017679 |
PaintCorrectionMaskRadius (82) | 0.017633 |
PaintCorrectionMaskRadius (83) | 0.017503 |
PaintCorrectionMaskRadius (84) | 0.017495 |
PaintCorrectionMaskRadius (85) | 0.017535 |
PaintCorrectionMaskRadius (86) | 0.017555 |
PaintCorrectionMaskRadius (87) | 0.017434 |
PaintCorrectionMaskRadius (89) | 0.013942 |
PaintCorrectionMaskRadius (9) | 0.033988 |
PaintCorrectionMaskRadius (90) | 0.013937 |
PaintCorrectionMaskRadius (91) | 0.017817 |
PaintCorrectionMaskRadius (92) | 0.017659 |
PaintCorrectionMaskRadius (93) | 0.017771 |
PaintCorrectionMaskRadius (94) | 0.017526 |
PaintCorrectionMaskRadius (95) | 0.017506 |
PaintCorrectionMaskRadius (96) | 0.017484 |
PaintCorrectionMaskRadius (97) | 0.017469 |
PaintCorrectionMaskRadius (98) | 0.017425 |
PaintCorrectionMaskRadius (99) | 0.017551 |
PaintCorrectionMaskRadius | 0.024782 |
PaintCorrectionMaskValue (19) | 0.870000 |
PaintCorrectionMaskValue | 1.000000 |
PaintCorrectionMaskWhat | Mask/Paint |
PaintCorrectionMoire | 0.000000 |
PaintCorrectionSaturation | 0.000000 |
PaintCorrectionShadows2012 (1) | 0.972850 |
PaintCorrectionShadows2012 (11) | -0.108700 |
PaintCorrectionShadows2012 (12) | 0.108700 |
PaintCorrectionShadows2012 (14) | -0.369570 |
PaintCorrectionShadows2012 (15) | 0.195650 |
PaintCorrectionShadows2012 (2) | 0.755660 |
PaintCorrectionShadows2012 (5) | 0.152170 |
PaintCorrectionShadows2012 (6) | 0.304350 |
PaintCorrectionShadows2012 (7) | -0.195650 |
PaintCorrectionShadows2012 | 0.000000 |
PaintCorrectionSharpness | 0.000000 |
PaintCorrectionTemperature | 0.000000 |
PaintCorrectionTint | 0.000000 |
PaintCorrectionWhat | Correction |
ParametricDarks | 0 |
ParametricHighlights | 0 |
ParametricHighlightSplit | 75 |
ParametricLights | +39 |
ParametricMidtoneSplit | 50 |
ParametricShadows | +38 |
ParametricShadowSplit | 25 |
PerspectiveAspect | 0 |
PerspectiveHorizontal | 0 |
PerspectiveRotate | 0.0 |
PerspectiveScale | 100 |
PerspectiveUpright | 1 |
PerspectiveVertical | 0 |
PerspectiveX | 0.00 |
PerspectiveY | 0.00 |
PostCropVignetteAmount | 0 |
ProcessVersion | 10.0 |
ProfileDescription | sRGB IEC61966-2.1 |
RawFileName | |
RedHue | 0 |
RedSaturation | 0 |
Rights | © Arild Thingvoll |
Saturation | 0 |
SaturationAdjustmentAqua | 0 |
SaturationAdjustmentBlue | 0 |
SaturationAdjustmentGreen | 0 |
SaturationAdjustmentMagenta | 0 |
SaturationAdjustmentOrange | 0 |
SaturationAdjustmentPurple | 0 |
SaturationAdjustmentRed | 0 |
SaturationAdjustmentYellow | 0 |
ScaleFactor35efl | 1.5 |
SceneCaptureType | Standard |
SceneType | Directly photographed |
SensingMethod | One-chip color area |
SensitivityType | Standard Output Sensitivity |
SerialNumber | 64M51292 |
Shadows2012 | -2 |
ShadowTint | 0 |
SharpenDetail | 34 |
SharpenEdgeMasking | 0 |
SharpenRadius | +1.0 |
Sharpness (1) | 20 |
Sharpness | Hard |
ShutterSpeed | 1/75 |
ShutterSpeedValue | 1/75 |
SplitToningBalance | 0 |
SplitToningHighlightHue | 0 |
SplitToningHighlightSaturation | 0 |
SplitToningShadowHue | 0 |
SplitToningShadowSaturation | 0 |
Subject | 0718, SH |
SubjectDistanceRange | Unknown |
ToneCurve | 0, 0, 255, 255 |
ToneCurveBlue | 0, 0, 255, 255 |
ToneCurveGreen | 0, 0, 255, 255 |
ToneCurveName | Linear |
ToneCurveName2012 | Medium Contrast |
ToneCurvePV2012 | 0, 0, 32, 22, 64, 56, 128, 128, 192, 196, 255, 255 |
ToneCurvePV2012Blue | 0, 0, 255, 255 |
ToneCurvePV2012Green | 0, 0, 255, 255 |
ToneCurvePV2012Red | 0, 0, 255, 255 |
ToneCurveRed | 0, 0, 255, 255 |
ToneMapStrength | 0 |
Version | 10.4 |
Vibrance | 0 |
VignetteAmount | 0 |
WhiteBalance (1) | As Shot |
WhiteBalance | Auto |
Whites2012 | +26 |