Felt | Verdi |
AlreadyApplied | True |
Aperture | 2.8 |
ApertureValue | 2.8 |
ApproximateFocusDistance | 4294967295 |
Artist | Sitron Photography |
AuthorsPosition | Photography |
AutoLateralCA | 0 |
AutoWhiteVersion | 134348800 |
BitsPerSample | 8 |
Blacks2012 | 0 |
BlueHue | 0 |
BlueSaturation | 0 |
By-line | Sitron Photography |
By-lineTitle | Photography |
CameraProfile | Embedded |
CircGradBasedCorrActive | true |
CircGradBasedCorrAmount | 1.000000 |
CircGradBasedCorrBrightness | 0.000000 |
CircGradBasedCorrClarity2012 | 0.178258 |
CircGradBasedCorrContrast2012 | 0.064405 |
CircGradBasedCorrDefringe | 0.000000 |
CircGradBasedCorrExposure2012 (2) | 0.076220 |
CircGradBasedCorrExposure2012 (4) | 0.077172 |
CircGradBasedCorrExposure2012 | 0.081269 |
CircGradBasedCorrHighlights2012 | 0.025915 |
CircGradBasedCorrHue | 0.000000 |
CircGradBasedCorrLocalBlacks2012 | -1.000000 |
CircGradBasedCorrLocalDehaze | 0.200553 |
CircGradBasedCorrLocalWhites2012 | 0.000000 |
CircGradBasedCorrLuminanceNoise | -0.799829 |
CircGradBasedCorrMaskAngle (1) | 0.000000 |
CircGradBasedCorrMaskAngle (3) | 18.103800 |
CircGradBasedCorrMaskAngle (4) | -34.984500 |
CircGradBasedCorrMaskAngle | 35.953900 |
CircGradBasedCorrMaskBottom (1) | 0.749882 |
CircGradBasedCorrMaskBottom (2) | 0.911703 |
CircGradBasedCorrMaskBottom (3) | 0.893358 |
CircGradBasedCorrMaskBottom (4) | 0.824347 |
CircGradBasedCorrMaskBottom | 0.806427 |
CircGradBasedCorrMaskFeather | +63 |
CircGradBasedCorrMaskFlipped | true |
CircGradBasedCorrMaskLeft (1) | 0.597477 |
CircGradBasedCorrMaskLeft (2) | 0.554446 |
CircGradBasedCorrMaskLeft (3) | 0.167326 |
CircGradBasedCorrMaskLeft (4) | 0.652778 |
CircGradBasedCorrMaskLeft | 0.145034 |
CircGradBasedCorrMaskMidpoint | +50 |
CircGradBasedCorrMaskRight (1) | 0.704255 |
CircGradBasedCorrMaskRight (2) | 0.629717 |
CircGradBasedCorrMaskRight (3) | 0.197387 |
CircGradBasedCorrMaskRight (4) | 1.011010 |
CircGradBasedCorrMaskRight | 0.071161 |
CircGradBasedCorrMaskRoundness | 0 |
CircGradBasedCorrMaskTop (1) | 0.666551 |
CircGradBasedCorrMaskTop (2) | 0.778526 |
CircGradBasedCorrMaskTop (3) | 0.749866 |
CircGradBasedCorrMaskTop (4) | 0.677616 |
CircGradBasedCorrMaskTop | 0.471284 |
CircGradBasedCorrMaskValue | 1.000000 |
CircGradBasedCorrMaskVersion | +2 |
CircGradBasedCorrMaskWhat | Mask/CircularGradient |
CircGradBasedCorrMoire | 0.000000 |
CircGradBasedCorrSaturation (9) | 0.376715 |
CircGradBasedCorrSaturation | 0.000000 |
CircGradBasedCorrShadows2012 | 1.000000 |
CircGradBasedCorrSharpness | 0.291635 |
CircGradBasedCorrTemperature (2) | -0.115377 |
CircGradBasedCorrTemperature | 0.000000 |
CircGradBasedCorrTint (2) | -0.071551 |
CircGradBasedCorrTint | 0.000000 |
CircGradBasedCorrWhat | Correction |
CircleOfConfusion | 0.030 mm |
City | Bergen |
Clarity2012 | -25 |
ColorComponents | 3 |
ColorNoiseReduction | 0 |
ColorSpace | sRGB |
ColorTransform | YCbCr |
Contrast | Normal |
Contrast2012 | +47 |
ConvertToGrayscale | True |
Copyright | Kamizoom Studios |
CopyrightNotice | Kamizoom Studios |
Country | Norway |
Country-PrimaryLocationCode | NO |
Country-PrimaryLocationName | Norway |
CountryCode | NO |
CreateDate | 2017:07:18 18:57:54 |
Creator | Sitron Photography |
CreatorAddress | Tjødnavegen 19 |
CreatorCity | Straume |
CreatorCountry | Norway |
CreatorPostalCode | 5354 |
CreatorRegion | Bergen |
CreatorTool | Adobe Photoshop Lightroom 6.9 (Macintosh) |
CreatorWorkEmail | norwayinphoto@gmail.com |
CreatorWorkTelephone | 45266227 |
CreatorWorkURL | norwayinphoto.com |
CropAngle | 0 |
CropBottom | 0.959082 |
CropConstrainToWarp | 0 |
CropLeft | 0 |
CropRight | 1 |
CropTop | 0 |
CustomRendered | Normal |
DateCreated (1) | 2017:07:18 |
DateCreated | 2017:07:18 18:57:54.045 |
DateTimeOriginal | 2017:07:18 18:57:54 |
Dehaze | 0 |
DigitalZoomRatio | 1 |
DistortionCorrectionAlreadyApplied | True |
DOF | inf (2.33 m - inf) |
Exposure2012 | +0.30 |
ExposureCompensation | 0 |
ExposureMode | Manual |
ExposureProgram | Manual |
ExposureTime | 1/800 |
Flash | Off, Did not fire |
FNumber | 2.8 |
FocalLength | 14.0 mm |
FocalLength35efl | 14.0 mm (35 mm equivalent: 14.0 mm) |
FocalLengthIn35mmFormat | 14 mm |
Format | image/jpeg |
FOV | 104.3 deg |
GainControl | None |
GPSLatitude (1) | 60 deg 23' 49.00" |
GPSLatitude | 60 deg 23' 49.00" N |
GPSLatitudeRef | North |
GPSLongitude (1) | 5 deg 20' 0.00" |
GPSLongitude | 5 deg 20' 0.00" E |
GPSLongitudeRef | East |
GPSPosition | 60 deg 23' 49.00" N, 5 deg 20' 0.00" E |
GPSVersionID | 2.2.0.0 |
GradientBasedCorrActive | true |
GradientBasedCorrAmount | 1.000000 |
GradientBasedCorrBrightness | 0.000000 |
GradientBasedCorrClarity2012 | 0.178258 |
GradientBasedCorrContrast2012 | 0.064405 |
GradientBasedCorrDefringe | 0.000000 |
GradientBasedCorrExposure2012 | 0.302020 |
GradientBasedCorrHighlights2012 | 0.025915 |
GradientBasedCorrHue | 0.000000 |
GradientBasedCorrLocalBlacks2012 | -1.000000 |
GradientBasedCorrLocalDehaze | 0.200553 |
GradientBasedCorrLocalWhites2012 | 0.000000 |
GradientBasedCorrLuminanceNoise | -0.799829 |
GradientBasedCorrMaskFullX | 0.346041 |
GradientBasedCorrMaskFullY | 0.992994 |
GradientBasedCorrMaskValue | 1.000000 |
GradientBasedCorrMaskWhat | Mask/Gradient |
GradientBasedCorrMaskZeroX | 0.468005 |
GradientBasedCorrMaskZeroY | 0.614755 |
GradientBasedCorrMoire | 0.000000 |
GradientBasedCorrSaturation (1) | 0.376715 |
GradientBasedCorrSaturation | 0.000000 |
GradientBasedCorrShadows2012 | 1.000000 |
GradientBasedCorrSharpness | 0.291635 |
GradientBasedCorrTemperature | 0.000000 |
GradientBasedCorrTint | 0.000000 |
GradientBasedCorrWhat | Correction |
GrainAmount | 0 |
GrayMixerAqua | -21 |
GrayMixerBlue | +5 |
GrayMixerGreen | -24 |
GrayMixerMagenta | +8 |
GrayMixerOrange | -12 |
GrayMixerPurple | +14 |
GrayMixerRed | -2 |
GrayMixerYellow | -17 |
GreenHue | 0 |
GreenSaturation | 0 |
HasCrop | True |
HasSettings | True |
Highlights2012 | 0 |
HyperfocalDistance | 2.33 m |
ImageHeight | 2500 |
ImageNumber | 7816 |
ImageSize | 1930x2500 |
ImageWidth | 1930 |
IncrementalTemperature | 0 |
IncrementalTint | +23 |
ISO | 100 |
Keywords | Bergen, Fjellveien, Lightroom, Norway, Skansen, byen, city, day, fløyen, landscape, nydelig, skyer, solnedgang, sommer, torden, vær |
LateralChromaticAberrationCorrectionAlreadyApplied | True |
Lens | 14.0 mm f/2.8 |
LensID (1) | 74 |
LensID | Samyang AE 14mm f/2.8 ED AS IF UMC |
LensInfo | 14mm f/2.8-1.4 |
LensManualDistortionAmount | 0 |
LensModel | 14.0 mm f/2.8 |
LensProfileEnable | 0 |
LensProfileSetup | LensDefaults |
LightSource | Unknown |
LightValue | 12.6 |
LuminanceSmoothing | 0 |
Make | NIKON CORPORATION |
MaxApertureValue | 2.8 |
Megapixels | 4.8 |
MeteringMode | Multi-segment |
Model | NIKON D810A |
ModifyDate (1) | 2017:08:02 20:30:44+02:00 |
ModifyDate | 2017:08:02 20:30:44 |
ParametricDarks | 0 |
ParametricHighlights | 0 |
ParametricHighlightSplit | 75 |
ParametricLights | 0 |
ParametricMidtoneSplit | 50 |
ParametricShadows | 0 |
ParametricShadowSplit | 25 |
PerspectiveAspect | 0 |
PerspectiveHorizontal | 0 |
PerspectiveRotate | 0.0 |
PerspectiveScale | 100 |
PerspectiveUpright | 0 |
PerspectiveVertical | 0 |
PerspectiveX | 0.00 |
PerspectiveY | 0.00 |
PostCropVignetteAmount | 0 |
ProcessVersion | 6.7 |
ProfileDescription | sRGB IEC61966-2.1 |
Province-State | Hordaland |
RedHue | 0 |
RedSaturation | 0 |
Rights | Kamizoom Studios |
Saturation | Normal |
ScaleFactor35efl | 1.0 |
SceneCaptureType | Portrait |
SceneType | Directly photographed |
SensingMethod | One-chip color area |
SensitivityType | Recommended Exposure Index |
SerialNumber | 6000593 |
Shadows2012 | 0 |
ShadowTint | 0 |
SharpenDetail | 25 |
SharpenEdgeMasking | 0 |
SharpenRadius | +1.0 |
Sharpness (1) | 0 |
Sharpness | Normal |
ShutterSpeed | 1/800 |
ShutterSpeedValue | 1/800 |
Software | Adobe Photoshop Lightroom 6.9 (Macintosh) |
SplitToningBalance | 0 |
SplitToningHighlightHue | 0 |
SplitToningHighlightSaturation | 0 |
SplitToningShadowHue | 0 |
SplitToningShadowSaturation | 0 |
State | Hordaland |
Subject | Bergen, Fjellveien, Lightroom, Norway, Skansen, byen, city, day, fløyen, landscape, nydelig, skyer, solnedgang, sommer, torden, vær |
SubjectDistanceRange | Unknown |
ToneCurve | 0, 0, 255, 255 |
ToneCurveBlue | 0, 0, 255, 255 |
ToneCurveGreen | 0, 0, 255, 255 |
ToneCurveName | Linear |
ToneCurveName2012 | Linear |
ToneCurvePV2012 | 0, 0, 255, 255 |
ToneCurvePV2012Blue | 0, 0, 255, 255 |
ToneCurvePV2012Green | 0, 0, 255, 255 |
ToneCurvePV2012Red | 0, 0, 255, 255 |
ToneCurveRed | 0, 0, 255, 255 |
ToneMapStrength | 0 |
Version | 9.9 |
VignetteAmount | 0 |
VignetteCorrectionAlreadyApplied | True |
WhiteBalance (1) | Custom |
WhiteBalance | Auto |
Whites2012 | 0 |