Felt | Verdi |
AlreadyApplied | True |
Aperture | 2.4 |
ApertureValue | 2.4 |
AutoLateralCA | 0 |
AutoWhiteVersion | 134348800 |
BitsPerSample | 8 |
Blacks2012 | 0 |
BlueHue | 0 |
BlueSaturation | 0 |
BrightnessValue | 5.318962368 |
CameraProfile | Adobe Standard |
CircleOfConfusion | 0.004 mm |
Clarity2012 | 0 |
ColorComponents | 3 |
ColorNoiseReduction | 25 |
ColorNoiseReductionDetail | 50 |
ColorNoiseReductionSmoothness | 50 |
ColorSpace | sRGB |
ColorTransform | YCbCr |
Contrast2012 | +30 |
ConvertToGrayscale | True |
CreateDate | 2016:08:05 15:53:24 |
CreatorTool | Adobe Photoshop Lightroom 6.6.1 (Windows) |
DateCreated (1) | 2016:08:05 |
DateCreated | 2016:08:05 15:53:24 |
DateTimeOriginal | 2016:08:05 15:53:24 |
Dehaze | 0 |
Exposure2012 | 0.00 |
ExposureCompensation | 0 |
ExposureMode | Auto |
ExposureProgram | Program AE |
ExposureTime | 1/120 |
Flash | Off, Did not fire |
FNumber | 2.4 |
FocalLength | 4.1 mm |
FocalLength35efl | 4.1 mm (35 mm equivalent: 33.0 mm) |
FocalLengthIn35mmFormat | 33 mm |
Format | image/jpeg |
FOV | 57.2 deg |
GPSAltitude (1) | 255.9189453 m |
GPSAltitude | 255.9 m Above Sea Level |
GPSAltitudeRef | Above Sea Level |
GPSDateStamp | 2016:08:05 |
GPSDateTime | 2016:08:05 13:53:20Z |
GPSHPositioningError | 3066.741379 m |
GPSLatitude (1) | 62 deg 29' 29.99" |
GPSLatitude | 62 deg 29' 29.99" N |
GPSLatitudeRef | North |
GPSLongitude (1) | 8 deg 10' 6.04" |
GPSLongitude | 8 deg 10' 6.04" E |
GPSLongitudeRef | East |
GPSPosition | 62 deg 29' 29.99" N, 8 deg 10' 6.04" E |
GPSSpeed | 0 |
GPSSpeedRef | km/h |
GPSTimeStamp | 13:53:20 |
GPSVersionID | 2.2.0.0 |
GrainAmount | 0 |
GrayMixerAqua | -21 |
GrayMixerBlue | +3 |
GrayMixerGreen | -22 |
GrayMixerMagenta | +7 |
GrayMixerOrange | +40 |
GrayMixerPurple | +13 |
GrayMixerRed | +31 |
GrayMixerYellow | +40 |
GreenHue | 0 |
GreenSaturation | 0 |
HasCrop | False |
HasSettings | True |
Highlights2012 | 0 |
HyperfocalDistance | 1.89 m |
ImageHeight | 1536 |
ImageSize | 2048x1536 |
ImageWidth | 2048 |
IncrementalTemperature | 0 |
IncrementalTint | 0 |
ISO | 64 |
Keywords | Trollet i Mardalen |
Lens | iPhone 5 back camera 4.12mm f/2.4 |
LensInfo | 4.12mm f/2.4 |
LensMake | Apple |
LensManualDistortionAmount | 0 |
LensModel | iPhone 5 back camera 4.12mm f/2.4 |
LensProfileEnable | 0 |
LensProfileSetup | LensDefaults |
LightValue | 10.1 |
LuminanceSmoothing | 0 |
Make | Apple |
Megapixels | 3.1 |
MeteringMode | Multi-segment |
Model | iPhone 5 |
ModifyDate (1) | 2016:08:06 10:16:14+02:00 |
ModifyDate | 2016:08:06 10:16:14 |
ParametricDarks | +17 |
ParametricHighlights | 0 |
ParametricHighlightSplit | 75 |
ParametricLights | -35 |
ParametricMidtoneSplit | 50 |
ParametricShadows | +25 |
ParametricShadowSplit | 25 |
PerspectiveAspect | 0 |
PerspectiveHorizontal | 0 |
PerspectiveRotate | 0.0 |
PerspectiveScale | 100 |
PerspectiveUpright | 0 |
PerspectiveVertical | 0 |
PerspectiveX | 0.00 |
PerspectiveY | 0.00 |
PostCropVignetteAmount | 0 |
ProcessVersion | 6.7 |
ProfileDescription | sRGB IEC61966-2.1 |
RedHue | 0 |
RedSaturation | 0 |
ScaleFactor35efl | 8.0 |
SceneCaptureType | Standard |
SceneType | Directly photographed |
SensingMethod | One-chip color area |
Shadows2012 | 0 |
ShadowTint | 0 |
SharpenDetail | 25 |
SharpenEdgeMasking | 0 |
SharpenRadius | +1.0 |
Sharpness | 25 |
ShutterSpeed | 1/120 |
ShutterSpeedValue | 1/120 |
Software | Adobe Photoshop Lightroom 6.6.1 (Windows) |
SplitToningBalance | 0 |
SplitToningHighlightHue | 0 |
SplitToningHighlightSaturation | 0 |
SplitToningShadowHue | 0 |
SplitToningShadowSaturation | 0 |
Subject | Trollet i Mardalen |
SubjectArea | 1631 1223 1795 1077 |
ToneCurve | 0, 0, 255, 255 |
ToneCurveBlue | 0, 0, 255, 255 |
ToneCurveGreen | 0, 0, 255, 255 |
ToneCurveName | Linear |
ToneCurveName2012 | Strong Contrast |
ToneCurvePV2012 | 0, 0, 32, 16, 64, 50, 128, 128, 192, 202, 255, 255 |
ToneCurvePV2012Blue | 0, 0, 255, 255 |
ToneCurvePV2012Green | 0, 0, 255, 255 |
ToneCurvePV2012Red | 0, 0, 255, 255 |
ToneCurveRed | 0, 0, 255, 255 |
ToneMapStrength | 0 |
Version | 9.6 |
VignetteAmount | 0 |
WhiteBalance (1) | As Shot |
WhiteBalance | Auto |
Whites2012 | 0 |