Felt | Verdi |
AlreadyApplied | True |
Aperture | 4.0 |
ApertureValue | 4.0 |
ApproximateFocusDistance | 2.72 |
Artist | Mats Glomstad Mordal |
AutoLateralCA | 1 |
AutoWhiteVersion | 134348800 |
BitsPerSample | 8 |
Blacks2012 | -69 |
BlueHue | 0 |
BlueSaturation | 0 |
By-line | Mats Glomstad Mordal |
CameraProfile | Adobe Standard |
CircGradBasedCorrActive | true |
CircGradBasedCorrAmount | 1.000000 |
CircGradBasedCorrBrightness | 0.000000 |
CircGradBasedCorrClarity2012 | 0.000000 |
CircGradBasedCorrContrast2012 | 0.000000 |
CircGradBasedCorrDefringe | 0.000000 |
CircGradBasedCorrExposure2012 | -0.103500 |
CircGradBasedCorrHighlights2012 | 0.000000 |
CircGradBasedCorrHue | 80.000000 |
CircGradBasedCorrLuminanceNoise | 0.000000 |
CircGradBasedCorrMaskAngle | -20.581700 |
CircGradBasedCorrMaskBottom | 0.581150 |
CircGradBasedCorrMaskFeather | +50 |
CircGradBasedCorrMaskFlipped | false |
CircGradBasedCorrMaskLeft | 0.386628 |
CircGradBasedCorrMaskMidpoint | +50 |
CircGradBasedCorrMaskRight | 0.569102 |
CircGradBasedCorrMaskRoundness | 0 |
CircGradBasedCorrMaskTop | 0.387976 |
CircGradBasedCorrMaskValue | 1.000000 |
CircGradBasedCorrMaskVersion | +2 |
CircGradBasedCorrMaskWhat | Mask/CircularGradient |
CircGradBasedCorrMoire | 0.000000 |
CircGradBasedCorrSaturation | 0.000000 |
CircGradBasedCorrShadows2012 | 0.000000 |
CircGradBasedCorrSharpness | 0.000000 |
CircGradBasedCorrTemperature | 0.000000 |
CircGradBasedCorrTint | 0.000000 |
CircGradBasedCorrWhat | Correction |
CircleOfConfusion | 0.031 mm |
Clarity2012 | +19 |
ColorComponents | 3 |
ColorNoiseReduction | 25 |
ColorNoiseReductionDetail | 50 |
ColorNoiseReductionSmoothness | 50 |
ColorTemperature | 4650 |
ColorTransform | YCbCr |
Contrast2012 | +43 |
ConvertToGrayscale | True |
Copyright | Mats Glomstad Mordal |
CopyrightFlag | True |
CopyrightNotice | Mats Glomstad Mordal |
CreateDate (1) | 2015:02:26 12:47:00.07 |
CreateDate | 2015:02:26 12:47:00 |
Creator | Mats Glomstad Mordal |
CreatorAddress | Finnseterveien 15 |
CreatorCity | Tromsø |
CreatorCountry | Norway |
CreatorPostalCode | 9105 |
CreatorTool | Adobe Photoshop Lightroom 5.7.1 (Windows) |
CreatorWorkEmail | post@matsmordal.no |
CreatorWorkTelephone | +47 46486027 |
CreatorWorkURL | www.matsmordal.no |
CropAngle | 0 |
CropBottom | 0.816794 |
CropConstrainToWarp | 0 |
CropLeft | 0.183206 |
CropRight | 0.930824 |
CropTop | 0.069176 |
CustomRendered | Normal |
DateCreated (1) | 2015:02:26 |
DateCreated | 2015:02:26 12:47:00.07 |
DateTimeOriginal | 2015:02:26 12:47:00 |
DOF | 0.16 m (2.64 - 2.80 m) |
Exposure2012 | 0.00 |
ExposureCompensation | +2/3 |
ExposureMode | Auto |
ExposureProgram | Aperture-priority AE |
ExposureTime | 1/160 |
Firmware | 2.1.2 |
Flash | Off, Did not fire |
FlashCompensation | 0 |
FNumber | 4.0 |
FocalLength | 105.0 mm |
FocalLength35efl | 105.0 mm (35 mm equivalent: 102.5 mm) |
Format | image/jpeg |
FOV | 19.9 deg |
GrainAmount | 0 |
GrayMixerAqua | -19 |
GrayMixerBlue | +7 |
GrayMixerGreen | -25 |
GrayMixerMagenta | +4 |
GrayMixerOrange | -17 |
GrayMixerPurple | +14 |
GrayMixerRed | -8 |
GrayMixerYellow | -20 |
GreenHue | 0 |
GreenSaturation | 0 |
HasCrop | True |
HasExtendedXMP | 9E65C059109D679B3DF148E14E0EA6B2 |
HasSettings | True |
Highlights2012 | -57 |
HyperfocalDistance | 89.53 m |
ImageHeight | 1365 |
ImageNumber | 0 |
ImageSize | 2048x1365 |
ImageWidth | 2048 |
ISO | 640 |
Keywords | Leon |
Lens | EF24-105mm f/4L IS USM |
LensID (1) | 237 |
LensID | Canon EF 24-105mm f/4L IS USM |
LensInfo | 24-105mm f/? |
LensManualDistortionAmount | 0 |
LensModel | EF24-105mm f/4L IS USM |
LensProfileChromaticAberrationScale | 100 |
LensProfileDistortionScale | 100 |
LensProfileEnable | 1 |
LensProfileFilename | Canon EOS-1Ds Mark III (Canon EF 24-105mm f4 L IS USM) - RAW.lcp |
LensProfileName | Adobe (Canon EF 24-105mm f/4 L IS USM) |
LensProfileSetup | LensDefaults |
LensProfileVignettingScale | 100 |
LightValue | 8.6 |
LuminanceNoiseReductionContrast | 0 |
LuminanceNoiseReductionDetail | 50 |
LuminanceSmoothing | 14 |
Make | Canon |
Marked | True |
MaxApertureValue | 4.0 |
Megapixels | 2.8 |
MeteringMode | Multi-segment |
Model | Canon EOS 5D Mark II |
ModifyDate (1) | 2015:03:01 11:23:14+01:00 |
ModifyDate | 2015:03:01 11:23:14 |
PaintCorrectionActive | true |
PaintCorrectionAmount | 1.000000 |
PaintCorrectionBrightness | 0.000000 |
PaintCorrectionClarity2012 (1) | 0.000000 |
PaintCorrectionClarity2012 (2) | 0.379310 |
PaintCorrectionClarity2012 | -1.000000 |
PaintCorrectionContrast2012 (1) | 0.000000 |
PaintCorrectionContrast2012 (3) | 0.149430 |
PaintCorrectionContrast2012 | 0.218390 |
PaintCorrectionDefringe | 0.000000 |
PaintCorrectionExposure2012 (1) | -0.149500 |
PaintCorrectionExposure2012 (2) | -0.034500 |
PaintCorrectionExposure2012 | 0.000000 |
PaintCorrectionHighlights2012 | 0.000000 |
PaintCorrectionHue | 80.000000 |
PaintCorrectionLuminanceNoise | 0.000000 |
PaintCorrectionMaskCenterWeight | 0.000000 |
PaintCorrectionMaskFlow (1) | 0.382142 |
PaintCorrectionMaskFlow (10) | 0.688721 |
PaintCorrectionMaskFlow (11) | 0.742059 |
PaintCorrectionMaskFlow (12) | 0.721830 |
PaintCorrectionMaskFlow (13) | 0.711240 |
PaintCorrectionMaskFlow (16) | 0.595122 |
PaintCorrectionMaskFlow (18) | 0.747338 |
PaintCorrectionMaskFlow (2) | 0.673093 |
PaintCorrectionMaskFlow (3) | 0.493222 |
PaintCorrectionMaskFlow (4) | 0.684213 |
PaintCorrectionMaskFlow (7) | 0.696152 |
PaintCorrectionMaskFlow (9) | 0.755000 |
PaintCorrectionMaskFlow | 0.738006 |
PaintCorrectionMaskRadius (1) | 0.013530 |
PaintCorrectionMaskRadius (10) | 0.047217 |
PaintCorrectionMaskRadius (11) | 0.047393 |
PaintCorrectionMaskRadius (12) | 0.053835 |
PaintCorrectionMaskRadius (13) | 0.053742 |
PaintCorrectionMaskRadius (14) | 0.054198 |
PaintCorrectionMaskRadius (15) | 0.054594 |
PaintCorrectionMaskRadius (16) | 0.043456 |
PaintCorrectionMaskRadius (17) | 0.042974 |
PaintCorrectionMaskRadius (18) | 0.043101 |
PaintCorrectionMaskRadius (2) | 0.013529 |
PaintCorrectionMaskRadius (3) | 0.004506 |
PaintCorrectionMaskRadius (4) | 0.135771 |
PaintCorrectionMaskRadius (5) | 0.081157 |
PaintCorrectionMaskRadius (6) | 0.081633 |
PaintCorrectionMaskRadius (7) | 0.081723 |
PaintCorrectionMaskRadius (8) | 0.060160 |
PaintCorrectionMaskRadius (9) | 0.041419 |
PaintCorrectionMaskRadius | 0.042740 |
PaintCorrectionMaskValue | 0.629000 |
PaintCorrectionMaskWhat | Mask/Paint |
PaintCorrectionMoire | 0.000000 |
PaintCorrectionSaturation | 0.000000 |
PaintCorrectionShadows2012 | 0.000000 |
PaintCorrectionSharpness (1) | 0.000000 |
PaintCorrectionSharpness | -1.000000 |
PaintCorrectionTemperature | 0.000000 |
PaintCorrectionTint | 0.000000 |
PaintCorrectionWhat | Correction |
ParametricDarks | 0 |
ParametricHighlights | 0 |
ParametricHighlightSplit | 75 |
ParametricLights | 0 |
ParametricMidtoneSplit | 50 |
ParametricShadows | 0 |
ParametricShadowSplit | 25 |
PerspectiveAspect | 0 |
PerspectiveHorizontal | 0 |
PerspectiveRotate | 0.0 |
PerspectiveScale | 100 |
PerspectiveUpright | 0 |
PerspectiveVertical | 0 |
PostCropVignetteAmount | 0 |
ProcessVersion | 6.7 |
ProfileDescription | sRGB IEC61966-2.1 |
RedHue | 0 |
RedSaturation | 0 |
Rights | Mats Glomstad Mordal |
ScaleFactor35efl | 1.0 |
SceneCaptureType | Standard |
SerialNumber | 2331308128 |
Shadows2012 | 0 |
ShadowTint | 0 |
SharpenDetail | 25 |
SharpenEdgeMasking | 37 |
SharpenRadius | +1.0 |
Sharpness | 64 |
ShutterSpeed | 1/160 |
ShutterSpeedValue | 1/160 |
Software | Adobe Photoshop Lightroom 5.7.1 (Windows) |
SplitToningBalance | 0 |
SplitToningHighlightHue | 0 |
SplitToningHighlightSaturation | 0 |
SplitToningShadowHue | 0 |
SplitToningShadowSaturation | 0 |
Subject | Leon |
Tint | +7 |
ToneCurve | 0, 0, 255, 255 |
ToneCurveBlue | 0, 0, 255, 255 |
ToneCurveGreen | 0, 0, 255, 255 |
ToneCurveName | Linear |
ToneCurveName2012 | Linear |
ToneCurvePV2012 | 0, 0, 255, 255 |
ToneCurvePV2012Blue | 0, 0, 255, 255 |
ToneCurvePV2012Green | 0, 0, 255, 255 |
ToneCurvePV2012Red | 0, 0, 255, 255 |
ToneCurveRed | 0, 0, 255, 255 |
URL | www.matsmordal.no |
Version | 8.7.1 |
VignetteAmount | 0 |
WebStatement | www.matsmordal.no |
WhiteBalance (1) | As Shot |
WhiteBalance | Auto |
Whites2012 | 0 |